BEGIN:VCALENDAR
VERSION:2.0
PRODID:-//Cronache di Birra - ECPv6.15.20//NONSGML v1.0//EN
CALSCALE:GREGORIAN
METHOD:PUBLISH
X-ORIGINAL-URL:https://cronachedibirra.it
X-WR-CALDESC:Eventi per Cronache di Birra
REFRESH-INTERVAL;VALUE=DURATION:PT1H
X-Robots-Tag:noindex
X-PUBLISHED-TTL:PT1H
BEGIN:VTIMEZONE
TZID:Europe/Rome
BEGIN:DAYLIGHT
TZOFFSETFROM:+0100
TZOFFSETTO:+0200
TZNAME:CEST
DTSTART:20150329T010000
END:DAYLIGHT
BEGIN:STANDARD
TZOFFSETFROM:+0200
TZOFFSETTO:+0100
TZNAME:CET
DTSTART:20151025T010000
END:STANDARD
BEGIN:DAYLIGHT
TZOFFSETFROM:+0100
TZOFFSETTO:+0200
TZNAME:CEST
DTSTART:20160327T010000
END:DAYLIGHT
BEGIN:STANDARD
TZOFFSETFROM:+0200
TZOFFSETTO:+0100
TZNAME:CET
DTSTART:20161030T010000
END:STANDARD
BEGIN:DAYLIGHT
TZOFFSETFROM:+0100
TZOFFSETTO:+0200
TZNAME:CEST
DTSTART:20170326T010000
END:DAYLIGHT
BEGIN:STANDARD
TZOFFSETFROM:+0200
TZOFFSETTO:+0100
TZNAME:CET
DTSTART:20171029T010000
END:STANDARD
END:VTIMEZONE
BEGIN:VEVENT
DTSTART;VALUE=DATE:20160602
DTEND;VALUE=DATE:20160606
DTSTAMP:20260422T135324
CREATED:20160520T122259Z
LAST-MODIFIED:20160520T124415Z
UID:15021-1464825600-1465171199@cronachedibirra.it
SUMMARY:Beernocchi Beer Fest 2016
DESCRIPTION:Giunge alla sua quarta edizione il Beernocchi Beer Fest\, il festival birrario del quartiere Casal Bernocchi di Roma. Un evento incentrato non solo sulle produzioni artigianali\, ma anche su musica\, arte\, sport\, cultura e socialità. Da giovedì 2 a domenica 5 giugno troverete 18 linee con alcune delle migliori birre italiane e non\, di cui due dedicate a creazioni “speciali”. Per il resto ci sarà un’area bimbi\, iniziative culturali\, street art\, cibo da strada\, skate contest\, torneo di basket e volley\, concorso fotografico\, musica dal vivo e altro ancora. Ulteriori informazioni su Facebook.
URL:https://cronachedibirra.it/evento/beernocchi-beer-fest-2016/
LOCATION:Casal Bernocchi\, Roma\, RM\, Italia
CATEGORIES:Manifestazioni
ATTACH;FMTTYPE=image/jpeg:https://cdn1.cronachedibirra.it/wp-content/uploads/20200131182727/beernocchi-2016.jpg
END:VEVENT
BEGIN:VEVENT
DTSTART;VALUE=DATE:20160603
DTEND;VALUE=DATE:20160606
DTSTAMP:20260422T135324
CREATED:20160520T121226Z
LAST-MODIFIED:20160520T121226Z
UID:15019-1464912000-1465171199@cronachedibirra.it
SUMMARY:Arrogant Sour Festival 2016
DESCRIPTION:Torna anche quest’anno a Reggio Emilia un evento nato quasi per gioco\, ma diventato negli anni un appuntamento irrinunciabile per tutti gli appassionati. Sto chiaramente parlando dell’Arrogant Sour Festival\, che andrà in scena nella splendida cornice dei Chiostri della Ghiara da venerdì 3 a domenica 5 giugno. Imponente l’elenco dei birrifici stranieri presenti: Cantillon\, Brekeriet\, Haandbryggeriet\, Brew By Numbers\, Moor\, Wild Beer\, White Hag\, Verzet\, Des Vignes\, Mont Saleve\, Dollnitzer Ritterguts\, Guineu\, Ales Agullons\, Pinta\, Oersoep\, Kat Jelam\, TS Wild Ales\, Rodenbach\, Beavertown. Per quanto riguarda gli italiani\, una lista definitiva non dovrebbe ancora essere disponibile\, ma siate certi che sarà allo stesso strabiliante livello. \nIl programma prevede poi sei importanti laboratori di degustazione\, musica dal vivo\, area gastronomica e altro ancora. Per i dettagli potete consultare il sito dell’Arrogant Sour Festival.
URL:https://cronachedibirra.it/evento/arrogant-sour-festival-2016/
LOCATION:Chiostri della Ghiara
CATEGORIES:Manifestazioni
ATTACH;FMTTYPE=image/jpeg:https://cdn1.cronachedibirra.it/wp-content/uploads/20200131182728/arrogant-sour.jpg
END:VEVENT
BEGIN:VEVENT
DTSTART;VALUE=DATE:20160610
DTEND;VALUE=DATE:20160612
DTSTAMP:20260422T135324
CREATED:20160610T121942Z
LAST-MODIFIED:20160610T121942Z
UID:15174-1465516800-1465689599@cronachedibirra.it
SUMMARY:Malt in Fossa 2016
DESCRIPTION:Per il quarto anno consecutivo si terrà a Sogliano sul Rubicone (FC) la manifestazione Malt in Fossa\, prevista oggi e domani a Piazza Garibaldi. Saranno presenti i birrifici Bellazzi\, Birrificio dei Castelli\, Etnia e Croce di Malto\, oltre a un angolo “sour” curato da Il Punto di Bologna. Il programma prevede laboratori di desgustazione\, musica dal vivo e dj set. Per informazioni più approfondite potete visitare il sito della Fossa del Luppolo.
URL:https://cronachedibirra.it/evento/malt-in-fossa-2016/
LOCATION:Piazza Garibladi\, Piazza Garibaldi\, Sogliano sul Rubicone\, FC\, Italia
CATEGORIES:Manifestazioni
ATTACH;FMTTYPE=image/jpeg:https://cdn1.cronachedibirra.it/wp-content/uploads/20200131182554/malt-in-fossa.jpg
END:VEVENT
BEGIN:VEVENT
DTSTART;VALUE=DATE:20160610
DTEND;VALUE=DATE:20160613
DTSTAMP:20260422T135324
CREATED:20160610T113123Z
LAST-MODIFIED:20160610T113123Z
UID:15157-1465516800-1465775999@cronachedibirra.it
SUMMARY:Birramano 2016
DESCRIPTION:Dopo il debutto del 2015\, torna anche quest’anno a Loreo\, in provincia di Rovigo\, la manifestazione Birrammano\, in programma da oggi fino a domenica 12 giugno. Saranno presenti i seguenti produttori: Birrificio Conense\, Benaco 70\, Sognandobirra\, Monkey beer\, Birra Galassia\, Birrificio del Doge\, B20\, Birrificio del Lago e Birrone. Il programma prevede musica dal vivo\, concorso per homebrewer\, corso di abbinamento tra birra e cibo. Per i dettagli vi rimando all’evento su Facebook.
URL:https://cronachedibirra.it/evento/birramano-2016/
LOCATION:Riviera Marconi\, Loreo\, RO\, Italia
CATEGORIES:Manifestazioni
ATTACH;FMTTYPE=image/jpeg:https://cdn1.cronachedibirra.it/wp-content/uploads/20200131182602/birrammano.jpg
END:VEVENT
BEGIN:VEVENT
DTSTART;VALUE=DATE:20160617
DTEND;VALUE=DATE:20160619
DTSTAMP:20260422T135324
CREATED:20160617T121658Z
LAST-MODIFIED:20160617T121658Z
UID:15244-1466121600-1466294399@cronachedibirra.it
SUMMARY:Birre d'aMare 2016
DESCRIPTION:Giunge alla sua terza edizione la manifestazione Birre d’aMare\, che si terrà sempre a Castiglione della Pescaia\, in provincia di Grosseto\, oggi venerdì 17 domani e sabato 18 giugno. I birrifici partecipanti saranno Canediguerra\, Free Lions\, Birrificio Emiliano\, Enkiale e Retorto. Il programma prevede cotta pubblica (sabato)\, musica live\, raduno di moto. Ulteriori informazioni sono disponibili su Facebook.
URL:https://cronachedibirra.it/evento/birre-damare-2016/
LOCATION:Castiglione della Pescaia\, GR\, Italia
CATEGORIES:Manifestazioni
ATTACH;FMTTYPE=image/jpeg:https://cdn1.cronachedibirra.it/wp-content/uploads/20200131182530/birre-damare-1.jpg
END:VEVENT
BEGIN:VEVENT
DTSTART;VALUE=DATE:20160617
DTEND;VALUE=DATE:20160619
DTSTAMP:20260422T135324
CREATED:20160617T122501Z
LAST-MODIFIED:20160617T122501Z
UID:15247-1466121600-1466294399@cronachedibirra.it
SUMMARY:E-state in piazza
DESCRIPTION:Comincerà stasera e proseguirà fino a domenica 19 giugno la manifestazione E-state in piazza\, ideata da Eataly Smeraldo di Milano. La formula è simile alle altre feste firmate Eataly\, che in particolare prevedono il connubio tra birra artigianale e le proposte più informali della rispettiva selezione gastronomica. A partecipare saranno i birrifici Hibu\, Baladin\, Rurale\, Carrobiolo\, Doppio Baffo\, Lis D’Oc e Birrificio Italiano. Non mancherà la musica dal vivo\, mentre altre informazioni sono consultabili sul sito di Eataly.
URL:https://cronachedibirra.it/evento/e-state-in-piazza/
LOCATION:Eataly Smeraldo
CATEGORIES:Manifestazioni
ATTACH;FMTTYPE=image/jpeg:https://cdn1.cronachedibirra.it/wp-content/uploads/20200131182530/estate-in-piazza.jpg
END:VEVENT
BEGIN:VEVENT
DTSTART;VALUE=DATE:20160617
DTEND;VALUE=DATE:20160620
DTSTAMP:20260422T135324
CREATED:20160510T100949Z
LAST-MODIFIED:20160527T123956Z
UID:14938-1466121600-1466380799@cronachedibirra.it
SUMMARY:MicroBo Beer Festival 2016
DESCRIPTION:Dopo il debutto del 2015\, torna anche quest’anno il MicroBo Beer Festival\, il grande evento birrario della città di Bologna. L’appuntamento quest’anno è da venerdì 17 a domenica 19 giugno presso il Parco della Resistenza di San Lazzaro di Savena (BO)\, dove protagoniste saranno le birre di 12 importanti birrifici italiani: Bellazzi\, Birranova\, Brewfist\, Croce di Malto\, Birrificio Emiliano\, Extraomnes\, Birrificio di Cagliari\, Birrificio Italiano\, Kamun\, Statale Nove\, Svevo e Vecchia Orsa. Ci sarà inoltre un angolo Italian Grape Ale a cura del The Dome e un angolo beershop gestito da Madama. \nAmpia l’offerta gastronomica con diversi espositori food\, mentre merita menzione il laboratorio di sabato incentrato sull’incontro tra birra e vino. Il programma prevede anche una cotta pubblica\, un panel di degustazione per homebrewer\, musica live\, partita di calcio tra birrai e publican\, contest Instagram e altro ancora. Giovedì 16 è infine prevista una serata di riscaldamento presso Il Punto. Tutti i dettagli sul sito di MicroBo.
URL:https://cronachedibirra.it/evento/microbo-beer-festival-2016/
LOCATION:Parco della Resistenza\, Via Fratelli Canova 56\, San Lazzaro di Savena\, BO\, 40068\, Italia
CATEGORIES:Manifestazioni
ATTACH;FMTTYPE=image/jpeg:https://cdn1.cronachedibirra.it/wp-content/uploads/20200131182708/microbo-16.jpg
END:VEVENT
BEGIN:VEVENT
DTSTART;VALUE=DATE:20160617
DTEND;VALUE=DATE:20160620
DTSTAMP:20260422T135324
CREATED:20160610T114339Z
LAST-MODIFIED:20160610T125612Z
UID:15160-1466121600-1466380799@cronachedibirra.it
SUMMARY:Beer Park Festival 2016
DESCRIPTION:Giunge alla sua terza edizione il Beer Park Festival di Roma\, che quest’anno si terrà da venerdì 17 a domenica 19 giugno presso il Brancaleone di via Nomentana. Sedici sono i birrifici partecipanti: Argo\, Birrificio Sant’Andrea\, Eternal City Brewing\, Piccolo Birrificio Clandestino\, Lucky Brews\, La Fucina\, Jungle Juice Brewing\, Hilltop Brewery\, Black Barrels\, Bibibir\, Tre Pupazzi Brewery\, Naparbier\, Hop Warriors\, Ritual Lab\, B94\, Birrificio del Doge. Tante le proposte previste dal programma: 8 postazioni di street food\, concerti\, spettacoli\, torneo di beer pong\, dj set\, proiezione degli Europei e altro ancora. Per tutti i dettagli potete consultare il sito della manifestazione.
URL:https://cronachedibirra.it/evento/beer-park-festival-2016/
LOCATION:Brancaleone
CATEGORIES:Manifestazioni
ATTACH;FMTTYPE=image/jpeg:https://cdn1.cronachedibirra.it/wp-content/uploads/20200131182601/beer-park-1.jpg
END:VEVENT
BEGIN:VEVENT
DTSTART;VALUE=DATE:20160617
DTEND;VALUE=DATE:20160620
DTSTAMP:20260422T135324
CREATED:20160610T115834Z
LAST-MODIFIED:20160610T115834Z
UID:15166-1466121600-1466380799@cronachedibirra.it
SUMMARY:Birra del Borgo Day 2016
DESCRIPTION:La tradizionale festa annuale di Birra del Borgo si terrà quest’anno da venerdì 17 a domenica 19 giugno\, sempre nella Villa Comunale di Borgorose (RI). Nonostante il cambio di proprietà del birrificio\, il Birra del Borgo Day manterrà inalterate la sua formula e la sua atmosfera di festa\, con 130 spine a rappresentanza di 30 birrifici dall’Italia e dal resto del mondo. Fiore all’occhiello come sempre sarà la parte gastronomica\, che si avvarrà di nomi prestigiosi come quello di Gabriele Bonci (pizze\, panini\, hamburger)\, Stefano Callegari (Trapizzino) e altri ancora. Ci sarà tanta musica dal vivo\, la presentazione della Reale 11 Anniversario\, uno spazio per i più piccoli\, laboratori e workshop. Informazioni dettagliate sono disponibili sul sito di Birra del Borgo.
URL:https://cronachedibirra.it/evento/birra-del-borgo-day-2016/
LOCATION:Villa Comunale
CATEGORIES:Manifestazioni
ATTACH;FMTTYPE=image/jpeg:https://cdn1.cronachedibirra.it/wp-content/uploads/20200131182556/canvas_BDBDAY2016.jpg
END:VEVENT
BEGIN:VEVENT
DTSTART;VALUE=DATE:20160617
DTEND;VALUE=DATE:20160620
DTSTAMP:20260422T135324
CREATED:20160610T120318Z
LAST-MODIFIED:20160610T120318Z
UID:15168-1466121600-1466380799@cronachedibirra.it
SUMMARY:Isola Birra 2016
DESCRIPTION:Puntualissimo torna anche quest’anno l’appuntamento con Isola Birra\, il festival sardo che andrà in scena da venerdì 17 a domenica 19 giugno presso l’Hotel Setar di Quartu Sant’Elena (CA). I birrifici presenti saranno Bi-du\, Hopskin\, Toccalmatto\, Elav\, Lambrate\, Free Lions\, Mezzavia\, Brewbay\, P3 Brewing\, Gattarancio\, Barley e i belgi di Cazeau. Il programma come sempre è molto ricco: laboratori di degustazione\, concorsi\, musica\, arte e intrattenimento\, homebrewing challenge. Dettagli ulteriori sono disponibili sulla pagina Facebook dell’evento.
URL:https://cronachedibirra.it/evento/isola-birra-2016/
LOCATION:Hotel Setar
CATEGORIES:Manifestazioni
ATTACH;FMTTYPE=image/jpeg:https://cdn1.cronachedibirra.it/wp-content/uploads/20200131182555/isola-birra-1.jpg
END:VEVENT
BEGIN:VEVENT
DTSTART;VALUE=DATE:20160617
DTEND;VALUE=DATE:20160620
DTSTAMP:20260422T135324
CREATED:20160617T124225Z
LAST-MODIFIED:20160617T125208Z
UID:15249-1466121600-1466380799@cronachedibirra.it
SUMMARY:Festival delle Birre Artigianali di Genazzano
DESCRIPTION:Dopo il debutto dello scorso anno\, torna da oggi fino a domenica 19 giugno l’appuntamento con il Festival delle Birre Artigianali di Genazzano\, comune in provincia di Roma. Saranno presenti birre provenienti da birrifici italiani e del resto del mondo\, musica dal vivo\, cotta pubblica\, angolo Real Ale\, pranzo con abbinamenti\, spettacoli di intrattenimento. Ulteriori informazioni sono disponibili su Facebook.
URL:https://cronachedibirra.it/evento/festival-delle-birre-artigianali-di-genazzano/
LOCATION:Castello Colonna\, Genazzano\, RM\, Italia
CATEGORIES:Manifestazioni
ATTACH;FMTTYPE=image/jpeg:https://cdn1.cronachedibirra.it/wp-content/uploads/20200131182525/locandina-a3-CORRETTA-001.jpg
END:VEVENT
BEGIN:VEVENT
DTSTART;VALUE=DATE:20160617
DTEND;VALUE=DATE:20160620
DTSTAMP:20260422T135324
CREATED:20160617T130242Z
LAST-MODIFIED:20160617T130559Z
UID:15255-1466121600-1466380799@cronachedibirra.it
SUMMARY:Birre vive sotto la Torre 2016
DESCRIPTION:Giunge alla sua sesta edizione la manifestazione Birre vive sotto la Torre\, che comincerà oggi per proseguire fino a domenica 19 giugno. Cornice sarà l’elegante Cavallerizza e l’antistante giardino di Vigevano (PV)\, mentre i birrifici presenti saranno una ventina: Il Conte Gelo\, Stradaregina\, Aurora\, Cannabeer\, Kamun\, Nobili\, Birrificio Legnano\, Opera\, Aleghe\, Jeb\, Opperbacco\, Croce di Malto\, Birrificio della Granda\, I Tri Bagai\, Classe 1920\, Campi Flegrei\, Legnone\, Birra Gaia\, L’inconsueto\, Ex Fabrica\, oltre a una rappresentanza di birre americane. Il programma prevede musica dal vivo\, spettacoli\, laboratori di degustazione\, ampia selezione food\, concorso birrario. Per i dettagli vi rimando al sito di Birrainba.
URL:https://cronachedibirra.it/evento/birre-vive-sotto-la-torre-2016/
LOCATION:Castello Sforzesco
CATEGORIES:Manifestazioni
ATTACH;FMTTYPE=image/jpeg:https://cdn1.cronachedibirra.it/wp-content/uploads/20200131182524/birre-vive-sotto-la-torre.jpg
END:VEVENT
BEGIN:VEVENT
DTSTART;VALUE=DATE:20160618
DTEND;VALUE=DATE:20160620
DTSTAMP:20260422T135324
CREATED:20160617T135823Z
LAST-MODIFIED:20160617T135823Z
UID:15261-1466208000-1466380799@cronachedibirra.it
SUMMARY:Mastro Tirano 2016
DESCRIPTION:Per il secondo anno consecutivo si terrà a Tirano (SO) la manifestazione Mastro Tirano\, in programma domani sabato 18 e domenica 19 giugno in Piazza Unità d’Italia. L’elenco dei birrifici è incentrato sui produttori della Valtellina\, ma non solo: Birrificio Dodici Dodici\, Legnone\, Pintalpina e Revertis\, De La Tour\, Personal Brewery\, oltre a rappresentanze di Baladin e Lambrate. Il programma prevede musica dal vivo\, concorso di homebrewing\, street food. Dettagli su Facebook.
URL:https://cronachedibirra.it/evento/mastro-tirano-2016/
LOCATION:Piazza Unità d'Italia\, Tirano\, SO\, Italia
CATEGORIES:Manifestazioni
ATTACH;FMTTYPE=image/jpeg:https://cdn1.cronachedibirra.it/wp-content/uploads/20200131182524/mastro-tirano.jpg
END:VEVENT
BEGIN:VEVENT
DTSTART;VALUE=DATE:20160624
DTEND;VALUE=DATE:20160630
DTSTAMP:20260422T135324
CREATED:20160617T120943Z
LAST-MODIFIED:20160617T120943Z
UID:15241-1466726400-1467244799@cronachedibirra.it
SUMMARY:Birròforum 2016
DESCRIPTION:Anche quest’anno torna a Roma l’appuntamento con Birroforum\, costola birraria dell’ormai tradizionale Vinoforum. L’evento\, che andrà in scena da venerdì 24 a mercoledì 29 giugno\, vedrà avvicendarsi due gruppi di birrifici\, che si daranno il cambio tra domenica e lunedì: il primo sarà composto da Turbacci\, Soralama\, Ritual Lab\, Oxiana\, Insieme Birra\, I Beer\, Baladin\, Casa Veccia\, BSA\, Birrificio di Cagliari\, Birrificio del Doge\, Birradamare\, Birra Losa\, Hibu\, 100 Venti\, Palabrauhaus\, Mashout e il distributore Beer Fellas; il secondo da Saragiolino\, Venti tre\, Alta Quota\, Eastside\, Tolerium\, Sti Malti\, Gladiatore\, Itineris\, Mastri Birrai Umbri\, Castelli Romani e Birra del Borgo. Come sempre ci sarà un’ampia scelta di street food\, laboratori di degustazione\, mega schermi per Euro 2016 e altro ancora. Dettagli sul sito della manifestazione.
URL:https://cronachedibirra.it/evento/birroforum-2016/
LOCATION:Farnesina\, Lungotevere Maresciallo Diaz\, Roma\, RM\, Italia
CATEGORIES:Manifestazioni
ATTACH;FMTTYPE=image/jpeg:https://cdn1.cronachedibirra.it/wp-content/uploads/20200131182531/birroforum-1.jpg
END:VEVENT
END:VCALENDAR