BEGIN:VCALENDAR
VERSION:2.0
PRODID:-//Cronache di Birra - ECPv6.15.20//NONSGML v1.0//EN
CALSCALE:GREGORIAN
METHOD:PUBLISH
X-WR-CALNAME:Cronache di Birra
X-ORIGINAL-URL:https://cronachedibirra.it
X-WR-CALDESC:Eventi per Cronache di Birra
REFRESH-INTERVAL;VALUE=DURATION:PT1H
X-Robots-Tag:noindex
X-PUBLISHED-TTL:PT1H
BEGIN:VTIMEZONE
TZID:Europe/Rome
BEGIN:DAYLIGHT
TZOFFSETFROM:+0100
TZOFFSETTO:+0200
TZNAME:CEST
DTSTART:20150329T010000
END:DAYLIGHT
BEGIN:STANDARD
TZOFFSETFROM:+0200
TZOFFSETTO:+0100
TZNAME:CET
DTSTART:20151025T010000
END:STANDARD
BEGIN:DAYLIGHT
TZOFFSETFROM:+0100
TZOFFSETTO:+0200
TZNAME:CEST
DTSTART:20160327T010000
END:DAYLIGHT
BEGIN:STANDARD
TZOFFSETFROM:+0200
TZOFFSETTO:+0100
TZNAME:CET
DTSTART:20161030T010000
END:STANDARD
BEGIN:DAYLIGHT
TZOFFSETFROM:+0100
TZOFFSETTO:+0200
TZNAME:CEST
DTSTART:20170326T010000
END:DAYLIGHT
BEGIN:STANDARD
TZOFFSETFROM:+0200
TZOFFSETTO:+0100
TZNAME:CET
DTSTART:20171029T010000
END:STANDARD
END:VTIMEZONE
BEGIN:VEVENT
DTSTART;VALUE=DATE:20160428
DTEND;VALUE=DATE:20160502
DTSTAMP:20260422T124004
CREATED:20160422T093854Z
LAST-MODIFIED:20160423T131152Z
UID:14743-1461801600-1462147199@cronachedibirra.it
SUMMARY:Birra d'Ecc Rivarolo 2016
DESCRIPTION:Si terrà a Rivarolo Canavese\, in provincia di Torino\, la tappa locale della manifestazione Birra d’Ecc. In programma da giovedì 28 aprile a domenica 1 maggio\, il festival proporrà i seguenti birrifici: Diciottozerouno\, Zahre\, Campi Flegrei\, Lis d’Oc\, Quota 120\, Birrificio Nobili\, Birrificio Torino e Flea. Come sempre la formula prevederà un’ampia selezione di street food ad accompagnare la birra artigianale\, oltre a musica dal vivo\, spettacoli\, dj set e artisti di strada. Tutti i dettagli sul sito di Birra d’Ecc.
URL:https://cronachedibirra.it/evento/birra-decc-rivarolo-2016/
LOCATION:Luogo Senza Nome\, Rivarolo Canavese\, TO\, Italia
CATEGORIES:Manifestazioni
ATTACH;FMTTYPE=image/jpeg:https://cdn1.cronachedibirra.it/wp-content/uploads/20200131171319/copertina_rivarolo.jpg
END:VEVENT
BEGIN:VEVENT
DTSTART;VALUE=DATE:20160430
DTEND;VALUE=DATE:20160502
DTSTAMP:20260422T124004
CREATED:20160422T094724Z
LAST-MODIFIED:20160422T094724Z
UID:14795-1461974400-1462147199@cronachedibirra.it
SUMMARY:Il Senso della Birra 2016
DESCRIPTION:Giunge alla sua ottava edizione il festival Il Senso della Birra\, in programma sabato 30 aprile e domenica 1 maggio nella nuova location dell’Ex Real Collegio di Lucca. Ottima la lista dei birrifici partecipanti: Birrificio degli Archi\, Brùton\, PBC\, Argo\, Birrificio del Forte\, Biren\, Elvo\, Birrificio Italiano\, Foglie d’Erba\, Birra Perugia e Tryst Brewery. Il programma prevede interessanti laboratori di degustazione\, contest cucina alla birra\, assaggi guidati e altro ancora. Per ulteriori informazioni vi consiglio un giro sul sito de Il Senso della Birra.
URL:https://cronachedibirra.it/evento/il-senso-della-birra-2016/
LOCATION:Ex Real Collegio\, Piazza del Collegio\, Lucca\, LU\, Italia
CATEGORIES:Manifestazioni
ATTACH;FMTTYPE=image/jpeg:https://cdn1.cronachedibirra.it/wp-content/uploads/20200131171319/senso-birra-1.jpg
END:VEVENT
BEGIN:VEVENT
DTSTART;VALUE=DATE:20160506
DTEND;VALUE=DATE:20160509
DTSTAMP:20260422T124004
CREATED:20160310T074355Z
LAST-MODIFIED:20160429T115309Z
UID:14534-1462492800-1462751999@cronachedibirra.it
SUMMARY:Birra Expo 2016
DESCRIPTION:Mancano pochi giorni all’appuntamento con Birra Expo\, in programma da venerdì 6 a domenica 8 maggio presso il polo espositivo di Piacenza. I birrifici presenti saranno Brasseria Alpina\, Aleghe\, La Moncerà\, BSA\, Brew Gruff\, Buttiga\, Baladin\, I 3 Bagai\, Padus Cerevisiae\, Opera\, Terre d’Acquaviva\, Jeb\, I Beer\, Malastrana\, Abbà\, Retorto\, Beer In\, Brew Project\, Doppio Malto\, Sensolibero\, Trami e L’Incosueto\, oltre ai distributori Buffalo e Regalli e ad altri espositori del settore. Come sempre ampia sarà la selezione gastronomica\, con tante specialità regionali. Il programma prevede poi laboratori di degustazione\, concerti\, iniziative d’intrattenimento e altro ancora. Tutti i dettagli sul sito di Birra Expo.
URL:https://cronachedibirra.it/evento/birra-expo-2016/
LOCATION:Piacenza Expo
CATEGORIES:Manifestazioni
ATTACH;FMTTYPE=image/jpeg:https://cdn1.cronachedibirra.it/wp-content/uploads/20200131171537/birra-expo.jpg
END:VEVENT
BEGIN:VEVENT
DTSTART;VALUE=DATE:20160506
DTEND;VALUE=DATE:20160509
DTSTAMP:20260422T124004
CREATED:20160422T095419Z
LAST-MODIFIED:20160422T095419Z
UID:14798-1462492800-1462751999@cronachedibirra.it
SUMMARY:Mortara sotto la schiuma
DESCRIPTION:Debutta quest’anno la nuova manifestazione Mortara sotto la schiuma\, in programma da venerdì 6 a domenica 8 maggio ovviamente a Mortara (PV). I birrifici presenti saranno Orso Verde\, Birrificio Nobili\, Jeb\, Baladin\, Birrificio della Granda\, Aurora\, Cannabeer\, Birrificio Legnone\, De La Senne e Birra Gaia. Troverete diverse postazioni food con prodotti regionali e non solo\, spettacoli musicali\, concerti e un laboratorio di degustazione in programma domenica. Tutti i dettagli sul sito di Beerinba.
URL:https://cronachedibirra.it/evento/mortara-sotto-la-schiuma/
LOCATION:Luogo Senza Nome\, Piazza Vittorio Emanuele\, Mortara\, PV\, Italia
CATEGORIES:Manifestazioni
ATTACH;FMTTYPE=image/jpeg:https://cdn1.cronachedibirra.it/wp-content/uploads/20200131171306/mortara-1.jpg
END:VEVENT
BEGIN:VEVENT
DTSTART;VALUE=DATE:20160506
DTEND;VALUE=DATE:20160509
DTSTAMP:20260422T124004
CREATED:20160422T102808Z
LAST-MODIFIED:20160422T102808Z
UID:14808-1462492800-1462751999@cronachedibirra.it
SUMMARY:LuppolaTI 2016
DESCRIPTION:Anche quest’anno segnaliamo l’evento LuppolaTI\, che nonostante si tenga in Svizzera possiamo considerare italiano d’adozione. Da venerdì 6 a domenica 8 maggio il comune di Chiasso (5 minuti da Como) ospiterà birrifici svizzeri\, italiani e del resto del mondo: BFM\, Brewfist\, Opperbacco\, Canediguerra\, Math\, Revertis\, Birra del Borgo\, Cerveses La Pirata\, Troi Fourquets\, Officina della Birra\, Momò\, No Land\, Terra Matta\, RudBir\, Bibibir. Il programma prevede musica dal vivo\, selezione gastronomica e altro ancora. Tutti i dettagli su Facebook.
URL:https://cronachedibirra.it/evento/luppolati-2016/
LOCATION:Pista del ghiaccio
CATEGORIES:Manifestazioni
ATTACH;FMTTYPE=image/jpeg:https://cdn1.cronachedibirra.it/wp-content/uploads/20200131171301/luppolati-1.jpg
END:VEVENT
BEGIN:VEVENT
DTSTART;VALUE=DATE:20160509
DTEND;VALUE=DATE:20160513
DTSTAMP:20260422T124004
CREATED:20160506T120330Z
LAST-MODIFIED:20160506T122723Z
UID:14901-1462752000-1463097599@cronachedibirra.it
SUMMARY:Cibus 2016
DESCRIPTION:Anche quest’anno Cibus\, la grande manifestazione gastronomica di Parma\, riserverà un ampio spazio alla birra artigianale. Da lunedì 9 a giovedì 12 maggio troverete i birrifici 32 Via dei Birrai\, La Morosina\, Belgrano\, Amarcord\, Birra Terrona\, Birradamare\, Arechi\, Birranova\, Birrificio del Doge\, Maiella\, Pavese\, Troll\, Birrificio Veneto\, Ventitre\, Caber Beer\, Doppio Malto\, Ebeers\, Etnia\, Flea\, Palabrauhaus\, I Due Mastri\, Ibeer\, Mastri Birrai Umbri\, Insieme Birra\, Casa Veccia\, Petrognola\, Oxiana\, Bad Brewing\, Paul Bricius. Per approfondimenti potete consultare il sito di Cibus.
URL:https://cronachedibirra.it/evento/cibus-2016/
LOCATION:Fiere di Parma\, Viale delle Esposizioni 393A\, Parma\, PR\, Italia
CATEGORIES:Manifestazioni
ATTACH;FMTTYPE=image/png:https://cdn1.cronachedibirra.it/wp-content/uploads/20200131171226/cibus-1.png
END:VEVENT
BEGIN:VEVENT
DTSTART;VALUE=DATE:20160512
DTEND;VALUE=DATE:20160516
DTSTAMP:20260422T124004
CREATED:20160506T113755Z
LAST-MODIFIED:20160506T113755Z
UID:14894-1463011200-1463356799@cronachedibirra.it
SUMMARY:Spring Beer Festival 2016
DESCRIPTION:Giunge alla sua quarta edizione lo Spring Beer Festival di Roma\, che quest’anno andrà in scena da giovedì 12 a domenica 15 maggio. I birrifici partecipanti saranno: Birra Perugia\, Birrificio del Forte\, Amiata\, Crak\, Hilltop\, Argo\, Insieme Birra\, Mezzo Passo\, Okorei\, Rail Road\, Soralamà\, La Fucina\, Bibibir\, Birra dell’Eremo\, Birradamare\, Aurelio\, Ducato\, Pontino\, Svevo\, Birrone\, Croce di Malto\, Eternal City Brewing\, Etnia\, Foglie d’Erba\, Free Lions\, Jungle Juice\, La Buttiga\, Lucky Brews\, MC77\, Opperbacco\, Piccolo Birrificio Clandestino\, Retorto\, Superbum\, Birra del Borgo\, Maiella\, Turan\, Turbacci\, oltre agli stranieri La Pirata e Thornbridge. Il programma prevede angolo Real Ale e sidri\, cibo di strada\, musica dal vivo\, laboratori per bambini\, concorso fotografico e tanto altro ancora. Tutti i dettagli sul sito dello Spring Beer Festival.
URL:https://cronachedibirra.it/evento/spring-beer-festival-2016/
LOCATION:BZ
CATEGORIES:Manifestazioni
ATTACH;FMTTYPE=image/jpeg:https://cdn1.cronachedibirra.it/wp-content/uploads/20200131171230/spring-beer-fest-1.jpg
END:VEVENT
BEGIN:VEVENT
DTSTART;VALUE=DATE:20160513
DTEND;VALUE=DATE:20160516
DTSTAMP:20260422T124004
CREATED:20160422T100802Z
LAST-MODIFIED:20160422T100802Z
UID:14802-1463097600-1463356799@cronachedibirra.it
SUMMARY:Festival dei Birrai Eretici 2016
DESCRIPTION:  \n \nCome ormai da tradizione torna anche quest’anno l’appuntamento con il Festival dei Birrai Eretici\, in programma a Bologna a metà maggio\, e più precisamente da venerdì 13 a domenica 15. Protagonisti saranno i locali della città e non solo\, che proporranno delle selezioni pensate appositamente. Da Bologna saranno presenti Lortica\, Harvest Pub\, Ranzani 13\, La Tana del Luppolo\, La Frasca on the road\, Il Punto e Red Brick; da fuori Arrogant Pub\, Birroteca Guelfa\, BBB\, Diorama\, Drunken Duck e Xander Beer. Ampia e varia l’offerta gastronomica\, mentre non mancheranno incontri didattici e after party notturni. Ulteriori indicazioni sulla pagina Facebook dell’evento.
URL:https://cronachedibirra.it/evento/festival-dei-birrai-eretici-2016/
LOCATION:Parco DLF\, Via Stalingrado 12\, Bologna\, BO\, 40128\, Italy
CATEGORIES:Manifestazioni
ATTACH;FMTTYPE=image/jpeg:https://cdn1.cronachedibirra.it/wp-content/uploads/20200131171305/birrai-eretici-1.jpg
END:VEVENT
BEGIN:VEVENT
DTSTART;VALUE=DATE:20160514
DTEND;VALUE=DATE:20160516
DTSTAMP:20260422T124004
CREATED:20160429T121746Z
LAST-MODIFIED:20160429T121746Z
UID:14858-1463184000-1463356799@cronachedibirra.it
SUMMARY:Pils Pride 2016
DESCRIPTION:Quest’anno l’ormai tradizionale Pils Pride del Birrificio Italiano sarà in versione super speciale\, perché oltre a festeggiare la sua decima edizione rappresenterà anche l’occasione per celebrare i 20 anni della creatura di Agostino Arioli. L’evento si terrà sabato 14 e domenica 15 maggio\, chiaramente presso la storica sede di Lurago Marinone (CO)\, e come sempre sarà incentrato sullo splendido ma spesso maltrattato (dall’industria) stile Pilsner. Saranno allora disponibili più di 20 Pils prodotte in Italia e nel resto del mondo\, come quelle di Mastino\, Hammer\, Lariano e dello stesso Birrificio Italiano\, oltre a una selezione proveniente direttamente dalla Catalogna. Immancabili i seminari in programma (tra cui la mega degustazione alla cieca)\, la cucina con un menu studiato appositamente e la musica dal vivo. Approfondimenti sono possibili su Facebook.
URL:https://cronachedibirra.it/evento/pils-pride-2016/
LOCATION:Birrificio Italiano
CATEGORIES:Manifestazioni
ATTACH;FMTTYPE=image/jpeg:https://cdn1.cronachedibirra.it/wp-content/uploads/20200131171251/pils-pride.jpg
END:VEVENT
BEGIN:VEVENT
DTSTART;VALUE=DATE:20160514
DTEND;VALUE=DATE:20160517
DTSTAMP:20260422T124004
CREATED:20160506T114726Z
LAST-MODIFIED:20160506T122703Z
UID:14896-1463184000-1463443199@cronachedibirra.it
SUMMARY:Birra in Villa 2016
DESCRIPTION:Si terrà da sabato 14 a domenica 16 maggio l’edizione 2016 di Birra in Villa\, ospitata dal Palazzo Calvanese di Castel San Giorgio (SA). Saranno presenti diversi birrifici\, molti dei quali campani: Aeffe\, Maltovivo\, Maneba\, Sorrento\, Karma\, Birrificio dell’Aspide\, Serro Croce\, Il Chiostro\, Bella ‘Mbriana\, Fiej\, Birrificio Irpino\, Borrillo\, Kasperl\, Rude Boy\, San Pietro\, Stimalti e La Cotta. Il programma prevede laboratori di degustazione\, spettacoli\, presentazioni editoriali\, cooking show\, seminari e un’ampia zona gastronomica. Ulteriori informazioni sulla pagina Facebook di Birra in Villa.
URL:https://cronachedibirra.it/evento/birra-in-villa/
LOCATION:Palazzo Calvanese
CATEGORIES:Manifestazioni
ATTACH;FMTTYPE=image/jpeg:https://cdn1.cronachedibirra.it/wp-content/uploads/20200131171230/birra-villa-1.jpg
END:VEVENT
BEGIN:VEVENT
DTSTART;VALUE=DATE:20160514
DTEND;VALUE=DATE:20160523
DTSTAMP:20260422T124004
CREATED:20160506T115503Z
LAST-MODIFIED:20160506T115503Z
UID:14899-1463184000-1463961599@cronachedibirra.it
SUMMARY:Birrinitaly 2016
DESCRIPTION:Sarà ospitata all’interno della Fiera Campionaria di Padova la terza edizione di Birrinitaly\, in programma da sabato 14 a domenica 22 maggio. Saranno presenti i birrifici Conense\, Lartigianale\, Birrone\, Birra Camerini\, Belgrano\, Diciottozerouno\, White Pony\, Luckybrews\, Birdò\, Salgaro\, Agrifarnese\, Birrificio del Doge\, Ofelia\, Beerbante\, Sognandobirra e La Moncerà. Il programma prevede street food\, musica live\, laboratori di degustazione\, concorso popolare. Ulteriori informazioni sul sito di Birrinitaly.
URL:https://cronachedibirra.it/evento/birrinitaly-2016/
LOCATION:Padova Fiere
CATEGORIES:Manifestazioni
ATTACH;FMTTYPE=image/jpeg:https://cdn1.cronachedibirra.it/wp-content/uploads/20200131171226/birrinitaly.jpg
END:VEVENT
BEGIN:VEVENT
DTSTART;VALUE=DATE:20160518
DTEND;VALUE=DATE:20160523
DTSTAMP:20260422T124004
CREATED:20160513T140403Z
LAST-MODIFIED:20160513T140403Z
UID:14977-1463529600-1463961599@cronachedibirra.it
SUMMARY:Prato a tutta birra 2016
DESCRIPTION:Birra artigianale\, street food e musica dal vivo sono gli ingredienti di Prato a tutta birra\, festival che si terrà da mercoledì 18 a domenica 22 maggio\, ovviamente a Prato. Parteciperanno 8 birrifici toscani: Mostodolce\, Badalà\, Fermento Libero\, Demonia\, Mastrale Lilium\, I Due Mastri\, Beer on the road. Poi come accennato ci sarà una vasta scelta di cibo da strada e tanti concerti\, compreso quello dei Ministri. Ulteriori informazioni sono disponibili su Facebook.
URL:https://cronachedibirra.it/evento/prato-a-tutta-birra-2016/
LOCATION:Piazza del Mercato\, Piazza del Mercato Nuovo\, Prato\, PO\, Italia
CATEGORIES:Manifestazioni
ATTACH;FMTTYPE=image/jpeg:https://cdn1.cronachedibirra.it/wp-content/uploads/20200131171153/prato-birra.jpg
END:VEVENT
BEGIN:VEVENT
DTSTART;VALUE=DATE:20160520
DTEND;VALUE=DATE:20160523
DTSTAMP:20260422T124004
CREATED:20160506T120926Z
LAST-MODIFIED:20160506T120926Z
UID:14905-1463702400-1463961599@cronachedibirra.it
SUMMARY:Fermento Latina 2016
DESCRIPTION:Giunge alla sua terza edizione l’evento Fermento Latina\, previsto da venerdì 20 a domenica 22 maggio ovviamente a Latina. I birrifici presenti saranno Pontino\, Birradamare\, Castelli Romani\, Tolerium\, B-Four Beer\, Insieme Birra\, Vale la Pena\, 100Venti\, Campi Flegrei\, D’Adamo Brewery. Il programma prevede musica dal vivo\, area street food\, animazione\, degustazioni guidate. Per i dettagli potete dare un’occhiata al sito di Soluzioni Associazione.
URL:https://cronachedibirra.it/evento/fermento-latina-2016/
LOCATION:Piazza del Popolo\, Piazza del Popolo\, Latina\, LT\, Italia
CATEGORIES:Manifestazioni
ATTACH;FMTTYPE=image/jpeg:https://cdn1.cronachedibirra.it/wp-content/uploads/20200131171225/fermento-latina.jpg
END:VEVENT
BEGIN:VEVENT
DTSTART;VALUE=DATE:20160520
DTEND;VALUE=DATE:20160523
DTSTAMP:20260422T124004
CREATED:20160513T130054Z
LAST-MODIFIED:20160514T104445Z
UID:14965-1463702400-1463961599@cronachedibirra.it
SUMMARY:Binasco Beer Festival
DESCRIPTION:Si terrà a Binasco\, in provincia di Milano\, la prima edizione del Binasco Beer Festival\, in programma da venerdì 20 a domenica 22 maggio. Saranno presenti 11 birrifici artigianali: Nobili\, Birrificio Legnano\, Orso Verde\, Opera\, Aleghe\, Jeb\, Cannabeer\, Opperbacco\, Aurora\, I Tri Bagai e Classe 1920. Il programma prevede un’ampia selezione di street food con diversi produttori\, spettacoli musicali\, laboratori di degustazione e altro ancora. Tutti i dettagli sul sito di Beerinba.
URL:https://cronachedibirra.it/evento/binasco-beer-festival/
LOCATION:Castello Visconteo di Binasco\, Binasco\, MI\, Italia
CATEGORIES:Manifestazioni
ATTACH;FMTTYPE=image/jpeg:https://cdn1.cronachedibirra.it/wp-content/uploads/20200131171203/binasco.jpg
END:VEVENT
BEGIN:VEVENT
DTSTART;VALUE=DATE:20160520
DTEND;VALUE=DATE:20160523
DTSTAMP:20260422T124004
CREATED:20160513T132439Z
LAST-MODIFIED:20160513T132439Z
UID:14972-1463702400-1463961599@cronachedibirra.it
SUMMARY:Cerevisia 2016
DESCRIPTION:Si terrà per il terzo anno consecutivo il festival Cerevisia\, in programma come sempre a Fondo (TN) per tre giorni\, da venerdì 20 a domenica 22 maggio. I birrifici partecipanti saranno Pejo\, Barbaforte\, Leder\, Argentovivo\, Rethia\, Teddy Bier\, Birra di Fiemme\, Birra del Bosco\, Barbarrique (lo “spin off” acido del Birrificio Italiano)\, Birrificio Trento\, Mastro Rebuf\, Clesium\, Maso Alto\, Val Rendena\, Bionoc\, Rotaliano\, Ploteger\, Lagorai. Sarà inoltre presente la birra del festival\, battezzata Cerevisia 3.2. Il programma prevede cena con abbinamenti\, workshop\, musica dal vivo\, concorso tra le birre presenti. Per i dettagli vi rimando al sito di Cerevisia.
URL:https://cronachedibirra.it/evento/cerevisia-2016/
LOCATION:Luogo Senza Nome\, Fondo\, TN\, Italia
CATEGORIES:Manifestazioni
ATTACH;FMTTYPE=image/jpeg:https://cdn1.cronachedibirra.it/wp-content/uploads/20200131171158/cerevisia-1.jpg
END:VEVENT
BEGIN:VEVENT
DTSTART;VALUE=DATE:20160520
DTEND;VALUE=DATE:20160523
DTSTAMP:20260422T124004
CREATED:20160520T115652Z
LAST-MODIFIED:20160520T115652Z
UID:15016-1463702400-1463961599@cronachedibirra.it
SUMMARY:Birra in B... Rocca
DESCRIPTION:Il pittoresco Castello Arechi di Salerno ospiterà da oggi venerdì 20 fino a domenica 22 maggio la manifestazione Birra in B… Rocca. I birrifici partecipanti sono tutti campani: Lievito & Nuvole\, Birrificio Irpino\, Okorei\, Felix\, Arechi Birra\, Rudeboy\, Fiej\, Aeffe e Iris. Il programma prevede seminari a cura di Unionbirrai\, iniziative di solidarietà\, musica dal vivo\, street food\, navetta gratuita. Tutti i dettagli sulla pagina Facebook dell’evento.
URL:https://cronachedibirra.it/evento/birra-in-b-rocca/
LOCATION:Castello Arechi\, Salerno\, SA\, Italia
CATEGORIES:Manifestazioni
ATTACH;FMTTYPE=image/jpeg:https://cdn1.cronachedibirra.it/wp-content/uploads/20200131182728/birra-in-brocca.jpg
END:VEVENT
BEGIN:VEVENT
DTSTART;VALUE=DATE:20160522
DTEND;VALUE=DATE:20160524
DTSTAMP:20260422T124004
CREATED:20160513T131036Z
LAST-MODIFIED:20160513T131036Z
UID:14969-1463875200-1464047999@cronachedibirra.it
SUMMARY:Birra Gourmet 2016
DESCRIPTION:Giunge alla sua seconda edizione la manifestazione Birra Gourmet\, che si terrà a Roma nei giorni di domenica 22 e lunedì 23 maggio. L’obiettivo è puntato sugli abbinamenti tra birra e alta cucina. Saranno presenti i birrifici Almond ’22\, BAI\, Barbanera\, Birra del Borgo\, Losa\, Troll\, Turan\, Eastside e Ibeer. Il programma prevede convegni\, show cooking\, workshop tematici e ovviamente la presenza di tanti chef affermati. Ulteriori informazioni sul sito dell’iniziativa.
URL:https://cronachedibirra.it/evento/birra-gourmet-2016/
LOCATION:Opificio Romaeuropa\, Via dei Magazzini Generali\, 20/A\, Roma\, RM\, Italia
CATEGORIES:Manifestazioni
ATTACH;FMTTYPE=image/jpeg:https://cdn1.cronachedibirra.it/wp-content/uploads/20200131171203/birra-gourmet.jpg
END:VEVENT
BEGIN:VEVENT
DTSTART;VALUE=DATE:20160527
DTEND;VALUE=DATE:20160530
DTSTAMP:20260422T124005
CREATED:20160520T115024Z
LAST-MODIFIED:20160520T115024Z
UID:15011-1464307200-1464566399@cronachedibirra.it
SUMMARY:BeerCatania Spring
DESCRIPTION:Dopo il debutto dello scorso inverno\, torna a Catania l’appuntamento con BeerCatania\, ovviamente nella sua versione primaverile. Da venerdì 27 a domenica 29 maggio troverete 18 birrifici italiani: Kottabos\, Brùton\, Baron\, Timilia\, Malarazza\, Compagnia del Fermento\, Fratelli Birrafondai\, Alveria\, Castelli Romani\, Epica\, Irias\, Yblon\, J4 Beer\, Dea Mater\, Turan\, Ducato\, Birradamare\, De Alchemia. Presenti anche tre pub locali e diversi espositori food. Il programma prevede musica dal vivo\, cotta pubblica\, seminari\, laboratori\, dj set. Dettagli sul sito di BeerCatania.
URL:https://cronachedibirra.it/evento/beercatania-spring/
LOCATION:Ex Mercato Ortofrutticolo\, Via Forcile\, Catania\, CT\, 95121\, Italia
CATEGORIES:Manifestazioni
ATTACH;FMTTYPE=image/jpeg:https://cdn1.cronachedibirra.it/wp-content/uploads/20200131182732/beercatania-1.jpg
END:VEVENT
BEGIN:VEVENT
DTSTART;VALUE=DATE:20160527
DTEND;VALUE=DATE:20160530
DTSTAMP:20260422T124005
CREATED:20160527T115651Z
LAST-MODIFIED:20160527T115651Z
UID:15066-1464307200-1464566399@cronachedibirra.it
SUMMARY:Beerghem 2016
DESCRIPTION:Si terrà per il sesto anno consecutivo la manifestazione Beerghem\, incentrata esclusivamente sulle birre e i birrifici del bergamasco. Cornice del festival sarà il parco dell’Hotel Bigio di San Pellegrino Terme (BG)\, dove da stasera fino a domenica 29 maggio troverete 13 birrifici locali: Endorama\, Elav\, Ghironda\, Birrificio del Lago\, Adda\, Hopskin\, Orobia\, Lemine\, Otus\, ARBreeing\, Hammer\, Via Priula e Kaos. Il programma prevede cucina a tema\, angolo beershop\, musica dal vivo\, concorso tra le birre presenti e altro ancora. Dettagli sulla pagina Facebook dell’evento.
URL:https://cronachedibirra.it/evento/beerghem-2016/
LOCATION:Hotel Bigio\, San Pellegrino Terme\, BG\, Italia
CATEGORIES:Manifestazioni
ATTACH;FMTTYPE=image/jpeg:https://cdn1.cronachedibirra.it/wp-content/uploads/20200131182709/beerghem.jpg
END:VEVENT
BEGIN:VEVENT
DTSTART;VALUE=DATE:20160527
DTEND;VALUE=DATE:20160530
DTSTAMP:20260422T124005
CREATED:20160527T120932Z
LAST-MODIFIED:20160527T120932Z
UID:15069-1464307200-1464566399@cronachedibirra.it
SUMMARY:Birre in Piazza 2016
DESCRIPTION:Comincia oggi e continuerà fino a domenica 29 maggio l’edizione 2016 di Birre in Piazza\, iniziativa a cura di Eataly Lingotto di Torino. I birrifici presenti saranno 12: Hibu\, San Michele\, Birra del Borgo\, San Paolo\, Birra Up\, Gilac\, Lis d’Oc\, Podere La Berta\, Scarampola\, Soralama e Theresianer e Math. Il programma prevede un’ampia selezione di street food proveniente direttamente dall’offerta di Eataly\, musica dal vivo\, spettacoli d’intrattenimento e dj set. Ulteriori informazioni sono disponibili sul sito di Eataly.
URL:https://cronachedibirra.it/evento/birre-in-piazza-2016/
LOCATION:Eataly Torino
CATEGORIES:Manifestazioni
ATTACH;FMTTYPE=image/jpeg:https://cdn1.cronachedibirra.it/wp-content/uploads/20200131182708/birre-in-piazza-1.jpg
END:VEVENT
END:VCALENDAR