BEGIN:VCALENDAR
VERSION:2.0
PRODID:-//Cronache di Birra - ECPv6.15.20//NONSGML v1.0//EN
CALSCALE:GREGORIAN
METHOD:PUBLISH
X-ORIGINAL-URL:https://cronachedibirra.it
X-WR-CALDESC:Eventi per Cronache di Birra
REFRESH-INTERVAL;VALUE=DURATION:PT1H
X-Robots-Tag:noindex
X-PUBLISHED-TTL:PT1H
BEGIN:VTIMEZONE
TZID:Europe/Rome
BEGIN:DAYLIGHT
TZOFFSETFROM:+0100
TZOFFSETTO:+0200
TZNAME:CEST
DTSTART:20140330T010000
END:DAYLIGHT
BEGIN:STANDARD
TZOFFSETFROM:+0200
TZOFFSETTO:+0100
TZNAME:CET
DTSTART:20141026T010000
END:STANDARD
BEGIN:DAYLIGHT
TZOFFSETFROM:+0100
TZOFFSETTO:+0200
TZNAME:CEST
DTSTART:20150329T010000
END:DAYLIGHT
BEGIN:STANDARD
TZOFFSETFROM:+0200
TZOFFSETTO:+0100
TZNAME:CET
DTSTART:20151025T010000
END:STANDARD
BEGIN:DAYLIGHT
TZOFFSETFROM:+0100
TZOFFSETTO:+0200
TZNAME:CEST
DTSTART:20160327T010000
END:DAYLIGHT
BEGIN:STANDARD
TZOFFSETFROM:+0200
TZOFFSETTO:+0100
TZNAME:CET
DTSTART:20161030T010000
END:STANDARD
END:VTIMEZONE
BEGIN:VEVENT
DTSTART;VALUE=DATE:20151023
DTEND;VALUE=DATE:20151102
DTSTAMP:20260421T223039
CREATED:20150731T091118Z
LAST-MODIFIED:20151016T094358Z
UID:13195-1445558400-1446422399@cronachedibirra.it
SUMMARY:Fiera Birra Artigianale Pordenone
DESCRIPTION:I funzionali spazi della Fiera di Pordenone ospiteranno\, per due fine settimana successivi\, la tappa pordenonese della Fiera della Birra Artigianale. Il “primo tempo” andrà in scena da venerdì 23 a domenica 25 ottobre\, con la presenza dei seguenti birrifici: Jeb\, Zhare Beer\, San Giorgio\, Malastrana\, L’Inconsueto\, Villa Chazil\, Sognando Birra\, Padus\, Birrone\, Valscura\, Birrificio del Ducato\, Chimay\, Mr. Sez\, Bad Attitude\, Theresianer\, San Biagio\, Benaco 70\, Opperbacco e San Gabriel\, oltre a una selezione di birre americane. La seconda fase della manifestazione si terrà invece da venerdì 30 ottobre a domenica 1 novembre e vedrà la partecipazione dei birrifici Barcellona Beer Company\, Birradamare\, Les 3 Forquets\, Brasseria Alpina\, La Buttiga\, Birrificio della Granda\, Bradipongo\, Quero\, Birra del Borgo\, Baladin\, Birrificio Estense\, Caulier\, Birrificio Farnese\, La Superba\, Terre d’Acquaviva\, Birra 100Venti\, Croce di Malto\, Brau Kunst\, Bibibir\, Kundmuller. \nPer il resto la formula resterà invariata\, con ampia offerta gastronomica (prodotti regionali)\, laboratori di degustazione\, spazio per collezionisti\, musica dal vivo\, spettacoli d’intrattenimento e altro ancora. Tutti i dettagli sul sito del festival.
URL:https://cronachedibirra.it/evento/fiera-birra-artigianale-pordenone/
LOCATION:Pordenone Fiere\, Pordenone\, PN\, Italia
CATEGORIES:Manifestazioni
ATTACH;FMTTYPE=image/jpeg:https://cdn1.cronachedibirra.it/wp-content/uploads/20200131173235/fiera-pordenone.jpg
END:VEVENT
BEGIN:VEVENT
DTSTART;VALUE=DATE:20151030
DTEND;VALUE=DATE:20151102
DTSTAMP:20260421T223039
CREATED:20151030T111326Z
LAST-MODIFIED:20151030T111326Z
UID:13740-1446163200-1446422399@cronachedibirra.it
SUMMARY:Festa della Birra Artigianale 2015
DESCRIPTION:Anche quest’anno Eataly Bari organizza il suo festival birrario\, ma cambiandone il nome: non più Puglia in Fermento ma Festa della Birra Artigianale\, appellativo in linea con le analoghe iniziative proposte dagli altri Eataly sparsi per lo stivale. L’evento inizia questa sera alle 19\,00 e proseguirà fino alla mezzanotte di domenica 1 novembre. I birrifici ospiti saranno tutti pugliesi: Birranova\, Birra del Sud\, Decimoprimo\, Ebers\, I Peuceti\, Gruit\, Castel del Monte\, Svevo. Le birre saranno accompagnate dalle ottime proposte gastronomiche di Eataly: calzoni\, tacos\, hot dog\, panini\, ecc. Ulteriori informazioni su Facebook.
URL:https://cronachedibirra.it/evento/festa-della-birra-artigianale-2015/
LOCATION:Eataly Bari
CATEGORIES:Manifestazioni
ATTACH;FMTTYPE=image/jpeg:https://cdn1.cronachedibirra.it/wp-content/uploads/20200131172829/festa-birra-eataly.jpg
END:VEVENT
BEGIN:VEVENT
DTSTART;VALUE=DATE:20151106
DTEND;VALUE=DATE:20151109
DTSTAMP:20260421T223039
CREATED:20150806T053307Z
LAST-MODIFIED:20151030T112959Z
UID:13230-1446768000-1447027199@cronachedibirra.it
SUMMARY:Fiera Birra Artigianale Ravenna
DESCRIPTION:La manifestazione itinerante Fiera della Birra Artigianale arriva anche a Ravenna\, dove sarà ospitata dal Pala De André da venerdì 6 a domenica 8 novembre. I birrifici partecipanti saranno Maraffa\, Malastrana\, Abbà\, La Buttiga\, Terre d’Acquaviva\, Bad Attitude\, Baladin\, Birra 100Venti\, Jeb\, La Moncerà\, Birra dell’Eremo\, Monkey Beer\, Brasseria Alpina\, BSA\, Birradamare. Come sempre molto ampia sarà la scelta gastronomica\, con hamburger\, arrosticini\, pizza\, grigliate e altre specialità regionali. Come sempre molto ricco il programma di seminari e laboratori\, mentre non mancherà la musica dal vivo e vari spettacoli d’intrattenimento. Tutti i dettagli sul sito della manifestazione.
URL:https://cronachedibirra.it/evento/fiera-birra-artigianale-ravenna/
LOCATION:Pala de Andrè\, Viale Europa\, 1\, Ravenna\, RA\, 48122\, Italia
CATEGORIES:Manifestazioni
ATTACH;FMTTYPE=image/jpeg:https://cdn1.cronachedibirra.it/wp-content/uploads/20200131172826/fiera-ravenna.jpg
END:VEVENT
BEGIN:VEVENT
DTSTART;VALUE=DATE:20151113
DTEND;VALUE=DATE:20151116
DTSTAMP:20260421T223039
CREATED:20151030T110240Z
LAST-MODIFIED:20151030T112225Z
UID:13738-1447372800-1447631999@cronachedibirra.it
SUMMARY:IBF Pub Edition 2015
DESCRIPTION:Dopo il debutto dello scorso anno\, torna da venerdì 13 a domenica 15 novembre la versione “pubbara” dell’Italia Beer Festival\, o per meglio dire l’IBF Pub Edition. La cornice sarà ancora quella degli East End Studios di Milano\, dove sfileranno locali da tutta Italia: Barley Wine\, Birratrovo\, Birroteca Fermentazioni Spontanee\, BQ\, Ein Mass\, Galway Irish Pub\, Highlander\, Il Porco\, La Locanda del Monaco Felice\, Mosaik\, Ottavonano\, Ranzani 13\, Red Bear\, Struttura Birra\, The Dome\, Drunken Duck\, TNT e Vaffalluppolo. La parte gastronomica proporrà pizze\, hamburger\, piatti regionali ed etnici. Non mancherà la musica dal vivo e laboratori e seminari. Ulteriori informazioni sul sito dell’Italia Beer Festival.
URL:https://cronachedibirra.it/evento/ibf-pub-edition-2015/
LOCATION:East End Studios
CATEGORIES:Manifestazioni
ATTACH;FMTTYPE=image/jpeg:https://cdn1.cronachedibirra.it/wp-content/uploads/20200131172831/LOGO_IBF_SITO_HOME.jpg
END:VEVENT
BEGIN:VEVENT
DTSTART;VALUE=DATE:20151127
DTEND;VALUE=DATE:20151130
DTSTAMP:20260421T223039
CREATED:20151120T115703Z
LAST-MODIFIED:20151120T115712Z
UID:13879-1448582400-1448841599@cronachedibirra.it
SUMMARY:BeerCatania
DESCRIPTION:La birra artigianale sta cominciando a crescere anche in Sicilia e una delle testimonianze è la nascita di BeerCatania\, festival che si terrà nella sua edizione di debutto da venerdì 27 a domenica 29 novembre\, chiaramente a Catania. I birrifici presenti saranno Malarazza\, Kottabos\, Timilia\, La Compagnia del Fermento\, Alveria\, Irias\, Yblon\, Fratelli Birrafondai\, Ramon ed Epica. Ci sarà un ampio angolo gastronomico con piatti regionali realizzati da produttori e ristoratori locali\, mentre non mancheranno momenti di confronto\, approfondimento e dibattito che coinvolgeranno tecnici ed esperti del settore. Ulteriori informazioni sul sito della manifestazione.
URL:https://cronachedibirra.it/evento/beercatania/
LOCATION:SAL Borgo Creativo\, Via Indaco 23\, Catania\, CT\, 95100
CATEGORIES:Manifestazioni
ATTACH;FMTTYPE=image/jpeg:https://cdn1.cronachedibirra.it/wp-content/uploads/20200131172520/beercatania.jpg
END:VEVENT
BEGIN:VEVENT
DTSTART;VALUE=DATE:20151127
DTEND;VALUE=DATE:20151130
DTSTAMP:20260421T223039
CREATED:20151127T111909Z
LAST-MODIFIED:20151127T111909Z
UID:13953-1448582400-1448841599@cronachedibirra.it
SUMMARY:Bart
DESCRIPTION:Si chiama Bart (acronimo di Beer is Art) la manifestazione che comincerà oggi\, per protrarsi fino a domenica 29 novembre\, al Laboratorio Crash! di Bologna. Ci saranno birre artigianali da diversi birrifici artigianali italiani (più il tedesco Mahr’s)\, con un’attenzione nei confronti dei progetti sociali (Vecchia Orsa e Vale la Pena). Il programma prevede tanta musica dal vivo\, dj set\, performance artistiche\, angolo bbq. Per i dettagli vi rimando alla pagina Facebook dell’iniziativa.
URL:https://cronachedibirra.it/evento/bart/
LOCATION:Laboratorio Crash!\, Via della Cooperazione\, Bologna\, BO\, 40128\, Italia
CATEGORIES:Manifestazioni
ATTACH;FMTTYPE=image/jpeg:https://cdn1.cronachedibirra.it/wp-content/uploads/20200131172407/bart.jpg
END:VEVENT
END:VCALENDAR