BEGIN:VCALENDAR
VERSION:2.0
PRODID:-//Cronache di Birra - ECPv6.15.20//NONSGML v1.0//EN
CALSCALE:GREGORIAN
METHOD:PUBLISH
X-ORIGINAL-URL:https://cronachedibirra.it
X-WR-CALDESC:Eventi per Cronache di Birra
REFRESH-INTERVAL;VALUE=DURATION:PT1H
X-Robots-Tag:noindex
X-PUBLISHED-TTL:PT1H
BEGIN:VTIMEZONE
TZID:Europe/Rome
BEGIN:DAYLIGHT
TZOFFSETFROM:+0100
TZOFFSETTO:+0200
TZNAME:CEST
DTSTART:20170326T010000
END:DAYLIGHT
BEGIN:STANDARD
TZOFFSETFROM:+0200
TZOFFSETTO:+0100
TZNAME:CET
DTSTART:20171029T010000
END:STANDARD
BEGIN:DAYLIGHT
TZOFFSETFROM:+0100
TZOFFSETTO:+0200
TZNAME:CEST
DTSTART:20180325T010000
END:DAYLIGHT
BEGIN:STANDARD
TZOFFSETFROM:+0200
TZOFFSETTO:+0100
TZNAME:CET
DTSTART:20181028T010000
END:STANDARD
BEGIN:DAYLIGHT
TZOFFSETFROM:+0100
TZOFFSETTO:+0200
TZNAME:CEST
DTSTART:20190331T010000
END:DAYLIGHT
BEGIN:STANDARD
TZOFFSETFROM:+0200
TZOFFSETTO:+0100
TZNAME:CET
DTSTART:20191027T010000
END:STANDARD
END:VTIMEZONE
BEGIN:VEVENT
DTSTART;VALUE=DATE:20180915
DTEND;VALUE=DATE:20180917
DTSTAMP:20260422T061802
CREATED:20180907T110343Z
LAST-MODIFIED:20180907T110343Z
UID:21491-1536969600-1537142399@cronachedibirra.it
SUMMARY:Pork'n'Roll Fest 2018
DESCRIPTION:Dopo il riuscitissimo esperimento dello scorso anno\, torna sabato 15 e domenica 16 settembre l’appuntamento con il Pork’n’Roll Fest\, la festa di compleanno del Pork’n’Roll e del Pork’n’Roll Shop. Presso la tenuta La Mistica di Roma andrà in scena il meglio dell’offerta dei due locali: tante birre artigianali (molte delle quali prodotte in collaborazione con birrifici italiani e stranieri) e cibo a volontà\, con taglieri\, hamburger\, panini\, grigliate\, dolci e non solo. Non mancherà un angolo con specialty coffee\, un whisky corner\, intrattenimento per grandi e piccini\, musica dal vivo e dj set. Per saperne di più potete visitare la pagina Facebook dell’iniziativa.
URL:https://cronachedibirra.it/evento/porknroll-fest-2018/
LOCATION:Tenuta La Mistica\, Via Tenuta della Mistica\, Roma\, RM\, 00169\, Italia
CATEGORIES:Iniziative
ATTACH;FMTTYPE=image/jpeg:https://cdn1.cronachedibirra.it/wp-content/uploads/20200203094739/pork-roll-fest-1.jpg
END:VEVENT
END:VCALENDAR