BEGIN:VCALENDAR
VERSION:2.0
PRODID:-//Cronache di Birra - ECPv6.15.20//NONSGML v1.0//EN
CALSCALE:GREGORIAN
METHOD:PUBLISH
X-WR-CALNAME:Cronache di Birra
X-ORIGINAL-URL:https://cronachedibirra.it
X-WR-CALDESC:Eventi per Cronache di Birra
REFRESH-INTERVAL;VALUE=DURATION:PT1H
X-Robots-Tag:noindex
X-PUBLISHED-TTL:PT1H
BEGIN:VTIMEZONE
TZID:Europe/Rome
BEGIN:DAYLIGHT
TZOFFSETFROM:+0100
TZOFFSETTO:+0200
TZNAME:CEST
DTSTART:20150329T010000
END:DAYLIGHT
BEGIN:STANDARD
TZOFFSETFROM:+0200
TZOFFSETTO:+0100
TZNAME:CET
DTSTART:20151025T010000
END:STANDARD
BEGIN:DAYLIGHT
TZOFFSETFROM:+0100
TZOFFSETTO:+0200
TZNAME:CEST
DTSTART:20160327T010000
END:DAYLIGHT
BEGIN:STANDARD
TZOFFSETFROM:+0200
TZOFFSETTO:+0100
TZNAME:CET
DTSTART:20161030T010000
END:STANDARD
BEGIN:DAYLIGHT
TZOFFSETFROM:+0100
TZOFFSETTO:+0200
TZNAME:CEST
DTSTART:20170326T010000
END:DAYLIGHT
BEGIN:STANDARD
TZOFFSETFROM:+0200
TZOFFSETTO:+0100
TZNAME:CET
DTSTART:20171029T010000
END:STANDARD
END:VTIMEZONE
BEGIN:VEVENT
DTSTART;VALUE=DATE:20160528
DTEND;VALUE=DATE:20160529
DTSTAMP:20260422T010656
CREATED:20160527T122337Z
LAST-MODIFIED:20160527T124622Z
UID:15073-1464393600-1464479999@cronachedibirra.it
SUMMARY:Prato Beer Marathon 2016
DESCRIPTION:È in programma sabato 28 maggio l’appuntamento con la Prato Beer Marathon\, l’iniziativa creata per scoprire i luoghi birrari di Prato. Le tappe saranno sei\, ognuna con le sue peculiarità: Lo Scalino\, Camelot\, La Birreria di Prato\, Beerlab\, Mostodolce e Struttura Birra. Sarà possibile partecipare all’intera maratona “guidata” o solamente a singole tappe. Per tutti i dettagli\, comprese le line up di ogni singolo locale\, vi rimando alla pagina Facebook dell’evento.
URL:https://cronachedibirra.it/evento/prato-beer-marathon-2016/
LOCATION:Luogo Senza Nome\, Prato\, PO\, Italia
CATEGORIES:Iniziative
ATTACH;FMTTYPE=image/jpeg:https://cdn1.cronachedibirra.it/wp-content/uploads/20200131182708/prato-beer-marathon.jpg
END:VEVENT
END:VCALENDAR