BEGIN:VCALENDAR
VERSION:2.0
PRODID:-//Cronache di Birra - ECPv6.15.20//NONSGML v1.0//EN
CALSCALE:GREGORIAN
METHOD:PUBLISH
X-WR-CALNAME:Cronache di Birra
X-ORIGINAL-URL:https://cronachedibirra.it
X-WR-CALDESC:Eventi per Cronache di Birra
REFRESH-INTERVAL;VALUE=DURATION:PT1H
X-Robots-Tag:noindex
X-PUBLISHED-TTL:PT1H
BEGIN:VTIMEZONE
TZID:Europe/Rome
BEGIN:DAYLIGHT
TZOFFSETFROM:+0100
TZOFFSETTO:+0200
TZNAME:CEST
DTSTART:20150329T010000
END:DAYLIGHT
BEGIN:STANDARD
TZOFFSETFROM:+0200
TZOFFSETTO:+0100
TZNAME:CET
DTSTART:20151025T010000
END:STANDARD
BEGIN:DAYLIGHT
TZOFFSETFROM:+0100
TZOFFSETTO:+0200
TZNAME:CEST
DTSTART:20160327T010000
END:DAYLIGHT
BEGIN:STANDARD
TZOFFSETFROM:+0200
TZOFFSETTO:+0100
TZNAME:CET
DTSTART:20161030T010000
END:STANDARD
BEGIN:DAYLIGHT
TZOFFSETFROM:+0100
TZOFFSETTO:+0200
TZNAME:CEST
DTSTART:20170326T010000
END:DAYLIGHT
BEGIN:STANDARD
TZOFFSETFROM:+0200
TZOFFSETTO:+0100
TZNAME:CET
DTSTART:20171029T010000
END:STANDARD
END:VTIMEZONE
BEGIN:VEVENT
DTSTART;VALUE=DATE:20160306
DTEND;VALUE=DATE:20160307
DTSTAMP:20260422T035307
CREATED:20160203T100142Z
LAST-MODIFIED:20160226T133012Z
UID:14292-1457222400-1457308799@cronachedibirra.it
SUMMARY:Il Ballo delle Debuttanti
DESCRIPTION:Come da tradizione anche quest’anno l’inizio della Settimana della Birra Artigianale sarà anticipato da un pre-opening party: Il Ballo delle Debuttanti. Il nome è presto spiegato: domenica 6 marzo dalle 18\,00 troverete al Luppolo Station di Roma 10 birre inedite da altrettanti birrifici italiani\, che saranno presenti in anteprima durante una serata unica nel suo genere. Saranno presenti birrai\, publican\, esperti e appassionati del settore\, ma soprattutto sarà possibile assaggiare per la prima volta una moltitudine di prodotti completamente nuovi. I dettagli sulle “debuttanti” presenti alla serata saranno svelate giorno dopo giorno su Facebook\, ma per restituirvi l’importanza dei nomi coinvolti di seguito trovate le prime birre rivelate fino a oggi: \n\nPurple Rain di Birrone: White Ale aromatizzata con lamponi.\nWest Coast Garda Ipa di Manerba: West Coast Ipa generosamente luppolata.\nDogaressa del Birrificio del Doge: fermentazione mista ottenuta con bacche di gelso nere.\nTurondola di P3 Brewing: APA che esalta i 3 luppoli utilizzati (Cascade\, Chinook\, Athanum).\nPunching Obama de La Fucina: Sour Dark Ale nata in collaborazione con Lucky Brews.\nSounds from the tree di Foglie d’Erba: Imperial Stout con aggiunta di resina di pino.\n\nAltre novità seguiranno nei prossimi giorni\, quindi restate collegati e non perdete questo splendido evento pensato per entrare da subito nella grande atmosfera della Settimana della Birra Artigianale!
URL:https://cronachedibirra.it/evento/il-ballo-delle-debuttanti/
LOCATION:Luppolo Station\, Via Giuseppe Parini 4\, Roma\, RM\, Italia
CATEGORIES:Iniziative
ATTACH;FMTTYPE=image/png:https://cdn1.cronachedibirra.it/wp-content/uploads/20200131171900/copertina-fb-pre-opening.png
END:VEVENT
END:VCALENDAR