BEGIN:VCALENDAR
VERSION:2.0
PRODID:-//Cronache di Birra - ECPv6.15.20//NONSGML v1.0//EN
CALSCALE:GREGORIAN
METHOD:PUBLISH
X-ORIGINAL-URL:https://cronachedibirra.it
X-WR-CALDESC:Eventi per Cronache di Birra
REFRESH-INTERVAL;VALUE=DURATION:PT1H
X-Robots-Tag:noindex
X-PUBLISHED-TTL:PT1H
BEGIN:VTIMEZONE
TZID:Europe/Rome
BEGIN:DAYLIGHT
TZOFFSETFROM:+0100
TZOFFSETTO:+0200
TZNAME:CEST
DTSTART:20140330T010000
END:DAYLIGHT
BEGIN:STANDARD
TZOFFSETFROM:+0200
TZOFFSETTO:+0100
TZNAME:CET
DTSTART:20141026T010000
END:STANDARD
BEGIN:DAYLIGHT
TZOFFSETFROM:+0100
TZOFFSETTO:+0200
TZNAME:CEST
DTSTART:20150329T010000
END:DAYLIGHT
BEGIN:STANDARD
TZOFFSETFROM:+0200
TZOFFSETTO:+0100
TZNAME:CET
DTSTART:20151025T010000
END:STANDARD
BEGIN:DAYLIGHT
TZOFFSETFROM:+0100
TZOFFSETTO:+0200
TZNAME:CEST
DTSTART:20160327T010000
END:DAYLIGHT
BEGIN:STANDARD
TZOFFSETFROM:+0200
TZOFFSETTO:+0100
TZNAME:CET
DTSTART:20161030T010000
END:STANDARD
END:VTIMEZONE
BEGIN:VEVENT
DTSTART;VALUE=DATE:20151208
DTEND;VALUE=DATE:20151222
DTSTAMP:20260422T075514
CREATED:20151127T110903Z
LAST-MODIFIED:20151130T145351Z
UID:13950-1449532800-1450742399@cronachedibirra.it
SUMMARY:Jingle Beer
DESCRIPTION:Quest’anno il mese di dicembre a Bologna sarà particolarmente “birrario”\, con un occhio di riguardo per le produzioni natalizie. Tra martedì 8 e lunedì 21 dicembre 6 locali bolognesi proporranno altrettanti eventi dedicati alle kerstbier\, tra degustazioni\, abbinamenti e menù studiati appositamente. I locali protagonisti di Jingle Beer saranno Il Punto\, La Tana del Luppolo\, Astral Beers\, Red Brick\, Il Pretesto e Fermento Bolognina. Per i dettagli vi consiglio di consultare la pagina Facebook dell’iniziativa.
URL:https://cronachedibirra.it/evento/jingle-beer-a-bologna/
LOCATION:Luogo Senza Nome
CATEGORIES:Iniziative
ATTACH;FMTTYPE=image/jpeg:https://cdn1.cronachedibirra.it/wp-content/uploads/20200131172408/jingle-beer.jpg
END:VEVENT
BEGIN:VEVENT
DTSTART;VALUE=DATE:20151211
DTEND;VALUE=DATE:20151215
DTSTAMP:20260422T075514
CREATED:20151204T105400Z
LAST-MODIFIED:20151204T105400Z
UID:14001-1449792000-1450137599@cronachedibirra.it
SUMMARY:Birrathon 2015
DESCRIPTION:Da qualche anno il periodo natalizio coincide con un evento birrario di beneficenza\, organizzato da Mad for Beer di Roma\, ma supportato attivamente da publican e birrai amici. La formula del Birrathon è sempre la stessa: 60 ore di birra non stop\, con il locale di Monteverde che rimarrà aperto ininterrottamente\, 24 ore su 24\, per tutta la durate dell’iniziativa\, da venerdì 11 a lunedì 14 dicembre. Confermato anche il meccanismo di raccolta fondi: le birre costeranno 6 € invece dei normali 5\, ma 2 € a birra (1 del cliente e 1 del locale) saranno devoluti all’organizzazione PCRF che lotta a favore dei bambini palestinesi. Comunque non mancheranno le novità\, come il pranzo della domenica a cura della Taberna di Palestrina. Ulteriori dettagli sulla pagina Facebook del Birrathon.
URL:https://cronachedibirra.it/evento/birrathon-2015/
LOCATION:Mad for Beer
CATEGORIES:Iniziative
ATTACH;FMTTYPE=image/jpeg:https://cdn1.cronachedibirra.it/wp-content/uploads/20200131172312/birrathon3.jpg
END:VEVENT
END:VCALENDAR