BEGIN:VCALENDAR
VERSION:2.0
PRODID:-//Cronache di Birra - ECPv6.15.20//NONSGML v1.0//EN
CALSCALE:GREGORIAN
METHOD:PUBLISH
X-WR-CALNAME:Cronache di Birra
X-ORIGINAL-URL:https://cronachedibirra.it
X-WR-CALDESC:Eventi per Cronache di Birra
REFRESH-INTERVAL;VALUE=DURATION:PT1H
X-Robots-Tag:noindex
X-PUBLISHED-TTL:PT1H
BEGIN:VTIMEZONE
TZID:Europe/Rome
BEGIN:DAYLIGHT
TZOFFSETFROM:+0100
TZOFFSETTO:+0200
TZNAME:CEST
DTSTART:20250330T010000
END:DAYLIGHT
BEGIN:STANDARD
TZOFFSETFROM:+0200
TZOFFSETTO:+0100
TZNAME:CET
DTSTART:20251026T010000
END:STANDARD
BEGIN:DAYLIGHT
TZOFFSETFROM:+0100
TZOFFSETTO:+0200
TZNAME:CEST
DTSTART:20260329T010000
END:DAYLIGHT
BEGIN:STANDARD
TZOFFSETFROM:+0200
TZOFFSETTO:+0100
TZNAME:CET
DTSTART:20261025T010000
END:STANDARD
BEGIN:DAYLIGHT
TZOFFSETFROM:+0100
TZOFFSETTO:+0200
TZNAME:CEST
DTSTART:20270328T010000
END:DAYLIGHT
BEGIN:STANDARD
TZOFFSETFROM:+0200
TZOFFSETTO:+0100
TZNAME:CET
DTSTART:20271031T010000
END:STANDARD
END:VTIMEZONE
BEGIN:VEVENT
DTSTART;TZID=Europe/Rome:20260422T234908
DTEND;TZID=Europe/Rome:20260422T234908
DTSTAMP:20260422T234908
CREATED:20150410T120814Z
LAST-MODIFIED:20150410T120814Z
UID:12304-1776901748-1776901748@cronachedibirra.it
SUMMARY:Giro d'Italia in 30 spine
DESCRIPTION:Si terrà da venerdì 17 a domenica 19 aprile l’evento organizzato dallo Xander di Brescia in collaborazione con i locali Lortica e Green River di Bologna. Il Giro d’Italia in 30 spine offrirà una selezione di 90 birre selezionate dai tre pub che proporrà il meglio della produzione nazionale. Alcuni dei birrifici rappresentati saranno Birrificio Italiano\, Lambrate\, Extraomnes\, Birra del Borgo\, Endorama\, Valcavallina\, Birrone\, Birrificio Emiliano\, Vecchia Orsa\, PBC\, Ducato\, Bellazzi\, Birranova. Il programma prevede un laboratorio di degustazione condotto da Andrea Camaschella\, mentre non mancheranno stand gastronomici. Informazioni aggiuntive sul sito dello Xander.
URL:https://cronachedibirra.it/evento/giro-ditalia-in-30-spine/
LOCATION:AL
CATEGORIES:Iniziative
END:VEVENT
BEGIN:VEVENT
DTSTART;TZID=Europe/Rome:20260422T234908
DTEND;TZID=Europe/Rome:20260422T234908
DTSTAMP:20260422T234908
CREATED:20150410T122144Z
LAST-MODIFIED:20150410T122144Z
UID:12306-1776901748-1776901748@cronachedibirra.it
SUMMARY:Kuaska tour in Puglia
DESCRIPTION:Dopo tempo immemore Kuaska tornerà in Puglia per condurre tre eventi che già si annunciano imperdibili. Si comincerà venerdì 17 aprile presso la Birreria Birranova di Triggianello (BA) con Vita da pub\, una cena con abbinamenti per vivere in un colpo solo l’atmosfera da locale di Inghilterra\, USA\, Belgio e Germania. Chiaramente birre e cibo saranno dedicate a ogni rispettiva nazione. Sabato 18 sarà invece la volta di un beer tour in pullman con visita a tre importanti birrifici locali: B94\, Svevo e Decimoprimo. Domenica 19 infine Kuaska condurrà un pranzo con abbinamenti presso il Pecora Nera Country Pub di Cassano delle Murge (BA)\, dove sarà anche presidente di giuria del concorso locale per homebrewer. Tutti i dettagli su Facebook.
URL:https://cronachedibirra.it/evento/kuaska-tour-in-puglia/
LOCATION:AL
CATEGORIES:Iniziative
END:VEVENT
END:VCALENDAR