BEGIN:VCALENDAR
VERSION:2.0
PRODID:-//Cronache di Birra - ECPv6.15.20//NONSGML v1.0//EN
CALSCALE:GREGORIAN
METHOD:PUBLISH
X-ORIGINAL-URL:https://cronachedibirra.it
X-WR-CALDESC:Eventi per Cronache di Birra
REFRESH-INTERVAL;VALUE=DURATION:PT1H
X-Robots-Tag:noindex
X-PUBLISHED-TTL:PT1H
BEGIN:VTIMEZONE
TZID:Europe/Rome
BEGIN:DAYLIGHT
TZOFFSETFROM:+0100
TZOFFSETTO:+0200
TZNAME:CEST
DTSTART:20250330T010000
END:DAYLIGHT
BEGIN:STANDARD
TZOFFSETFROM:+0200
TZOFFSETTO:+0100
TZNAME:CET
DTSTART:20251026T010000
END:STANDARD
BEGIN:DAYLIGHT
TZOFFSETFROM:+0100
TZOFFSETTO:+0200
TZNAME:CEST
DTSTART:20260329T010000
END:DAYLIGHT
BEGIN:STANDARD
TZOFFSETFROM:+0200
TZOFFSETTO:+0100
TZNAME:CET
DTSTART:20261025T010000
END:STANDARD
BEGIN:DAYLIGHT
TZOFFSETFROM:+0100
TZOFFSETTO:+0200
TZNAME:CEST
DTSTART:20270328T010000
END:DAYLIGHT
BEGIN:STANDARD
TZOFFSETFROM:+0200
TZOFFSETTO:+0100
TZNAME:CET
DTSTART:20271031T010000
END:STANDARD
END:VTIMEZONE
BEGIN:VEVENT
DTSTART;TZID=Europe/Rome:20260423T075807
DTEND;TZID=Europe/Rome:20260423T075807
DTSTAMP:20260423T075807
CREATED:20141212T115910Z
LAST-MODIFIED:20141212T115910Z
UID:11646-1776931087-1776931087@cronachedibirra.it
SUMMARY:Christmas Beer Week al Red Bear
DESCRIPTION:Sette (anzi otto) giorni dedicati alle birre di Natale. È ciò che proporrà il Red Bear di Marghera (VE) da giovedì 18 a giovedì 25 dicembre con la sua Christmas Beer Week. Alla spina ruoteranno decine di birre provenienti da birrifici italiani e stranieri\, come Toccalmatto\, Boon\, Moor\, Cantillon\, Struise\, Dark Star\,  Kernel\, Sierra Nevada\, Adnams\, Borderline\, Haandbryggeriet\, oltre a una selezione di birre della Franconia. Per tutti i dettagli vi rimando alla pagina Facebook dell’iniziativa.
URL:https://cronachedibirra.it/evento/christmas-beer-week-al-red-bear/
LOCATION:AL
CATEGORIES:Iniziative
END:VEVENT
BEGIN:VEVENT
DTSTART;TZID=Europe/Rome:20260423T075807
DTEND;TZID=Europe/Rome:20260423T075807
DTSTAMP:20260423T075807
CREATED:20141205T114440Z
LAST-MODIFIED:20141205T114440Z
UID:11595-1776931087-1776931087@cronachedibirra.it
SUMMARY:Una slitta di... birra!
DESCRIPTION:Tra le tante iniziative incentrate sulle birre natalizie segnaliamo Una slitta di… birra!\, evento organizzato dal Beer House Club di Firenze che si terrà da venerdì 19 a domenica 21 dicembre. La giornata clou sarà quella di sabato\, quando presso il locale fiorentino saranno presenti i birrai dei birrifici ospiti dell’evento: Brùton\, PBC\, Birrificio del Forte\, Olmaia\, Maledetto Toscano\, Birra Mastrale\, Amiata e Ducato. La cucina del Beer House preparerà un menu pensato apposta per la tre giorni\, mentre altre sorprese potrebbero aggiungersi nei prossimi giorni. Per tutti gli aggiornamenti tenete d’occhio la pagina Facebook dell’evento.
URL:https://cronachedibirra.it/evento/una-slitta-di-birra/
LOCATION:AL
CATEGORIES:Iniziative
END:VEVENT
BEGIN:VEVENT
DTSTART;TZID=Europe/Rome:20260423T075807
DTEND;TZID=Europe/Rome:20260423T075807
DTSTAMP:20260423T075807
CREATED:20141205T115710Z
LAST-MODIFIED:20141205T115804Z
UID:11603-1776931087-1776931087@cronachedibirra.it
SUMMARY:Birrathon 2014
DESCRIPTION:Giunge alla sua terza edizione Birrathon\, l’evento benefico ideato dai folli ragazzi del Mad for Beer di Roma. Il funzionamento è presto detto: da venerdì 19 a domenica 21 dicembre il locale capitolino rimarrà aperto per 60 ore consecutive\, senza chiudere mai. Alle spine si alterneranno publican\, birrai e amici\, che contribuiranno a questa fantastica maratona birraria. Per tutta la durata dell’evento le birre costeranno 6 euro invece dei canonici 5\, ma 2 € a birra (1 del cliente e 1 del locale) saranno devoluti all’associazione Farmacisti in aiuto. La cucina resterà regolarmente aperta e al consueto menu si aggiungerà anche una corroborante english breakfast. Come sempre l’atmosfera sarà straordinariamente goliardica: non perdete l’occasione di partecipare a un’iniziativa benefica continuando a bere birra 🙂 . Ulteriori dettagli sulla pagina Facebook dell’evento.
URL:https://cronachedibirra.it/evento/birrathon-2014/
LOCATION:AL
CATEGORIES:Iniziative
END:VEVENT
BEGIN:VEVENT
DTSTART;TZID=Europe/Rome:20260423T075807
DTEND;TZID=Europe/Rome:20260423T075807
DTSTAMP:20260423T075807
CREATED:20141212T113840Z
LAST-MODIFIED:20141212T113840Z
UID:11639-1776931087-1776931087@cronachedibirra.it
SUMMARY:Festa di Natale Dada
DESCRIPTION:In vista delle festività 2014 il birrificio Dada di Correggio (RE) organizza la sua Festa di Natale\, che si terrà per tre giorni consecutivi da venerdì 19 a domenica 21 dicembre. Naturalmente grandi protagoniste saranno le birre della casa\, ma non mancheranno tante produzioni ospiti da altri birrifici italiani\, come Montegioco\, Retorto\, Croce di Malto\, Civale\, Chiostro\, Vecchia Orsa\, ecc. Lo speciale menu per l’evento sarà realizzato in collaborazione con l’Osteria Km0 e Il Luppolo e l’Uva: troverete primi\, zuppe\, hamburger\, carne\, fondute\, dolci e altro ancora. È possibile prenotare cene per comitive\, mentre le tre serate saranno accompagnate da dj set. Ulteriori informazioni sulla pagina Facebook dell’iniziativa.
URL:https://cronachedibirra.it/evento/festa-di-natale-dada/
LOCATION:AL
CATEGORIES:Iniziative
END:VEVENT
END:VCALENDAR