BEGIN:VCALENDAR
VERSION:2.0
PRODID:-//Cronache di Birra - ECPv6.15.20//NONSGML v1.0//EN
CALSCALE:GREGORIAN
METHOD:PUBLISH
X-ORIGINAL-URL:https://cronachedibirra.it
X-WR-CALDESC:Eventi per Cronache di Birra
REFRESH-INTERVAL;VALUE=DURATION:PT1H
X-Robots-Tag:noindex
X-PUBLISHED-TTL:PT1H
BEGIN:VTIMEZONE
TZID:Europe/Rome
BEGIN:DAYLIGHT
TZOFFSETFROM:+0100
TZOFFSETTO:+0200
TZNAME:CEST
DTSTART:20250330T010000
END:DAYLIGHT
BEGIN:STANDARD
TZOFFSETFROM:+0200
TZOFFSETTO:+0100
TZNAME:CET
DTSTART:20251026T010000
END:STANDARD
BEGIN:DAYLIGHT
TZOFFSETFROM:+0100
TZOFFSETTO:+0200
TZNAME:CEST
DTSTART:20260329T010000
END:DAYLIGHT
BEGIN:STANDARD
TZOFFSETFROM:+0200
TZOFFSETTO:+0100
TZNAME:CET
DTSTART:20261025T010000
END:STANDARD
BEGIN:DAYLIGHT
TZOFFSETFROM:+0100
TZOFFSETTO:+0200
TZNAME:CEST
DTSTART:20270328T010000
END:DAYLIGHT
BEGIN:STANDARD
TZOFFSETFROM:+0200
TZOFFSETTO:+0100
TZNAME:CET
DTSTART:20271031T010000
END:STANDARD
END:VTIMEZONE
BEGIN:VEVENT
DTSTART;TZID=Europe/Rome:20260423T075807
DTEND;TZID=Europe/Rome:20260423T075807
DTSTAMP:20260423T075807
CREATED:20141128T122826Z
LAST-MODIFIED:20141128T144323Z
UID:11543-1776931087-1776931087@cronachedibirra.it
SUMMARY:Festival della Madonna
DESCRIPTION:Era dal 2012 che il Nidaba di Montebelluna (TV) non organizzava un festival birrario nei mesi invernali. Ora però è il momento di tornare in pista grazie a una nuova struttura in vetro e legno creata ad hoc per le iniziative del locale\, dotata di bancone\, riscaldamento\, impianto audio e comode sedute. L’occasione allora sarà il Festival della Madonna che si terrà da sabato 6 a lunedì 8 dicembre\, con birre da tutto il mondo e appartenenti a tipologie “importanti”\, come Imperial Stout\, Barley Wine\, Double Ipa\, Belgian Strong Ale\, Kerstbier\, ecc. Non mancheranno musica dal vivo e dj set. Ulteriori informazioni sulla pagina Facebook dell’evento.
URL:https://cronachedibirra.it/evento/festival-della-madonna/
LOCATION:AL
CATEGORIES:Iniziative
END:VEVENT
END:VCALENDAR