BEGIN:VCALENDAR
VERSION:2.0
PRODID:-//Cronache di Birra - ECPv6.15.20//NONSGML v1.0//EN
CALSCALE:GREGORIAN
METHOD:PUBLISH
X-ORIGINAL-URL:https://cronachedibirra.it
X-WR-CALDESC:Eventi per Cronache di Birra
REFRESH-INTERVAL;VALUE=DURATION:PT1H
X-Robots-Tag:noindex
X-PUBLISHED-TTL:PT1H
BEGIN:VTIMEZONE
TZID:Europe/Rome
BEGIN:DAYLIGHT
TZOFFSETFROM:+0100
TZOFFSETTO:+0200
TZNAME:CEST
DTSTART:20250330T010000
END:DAYLIGHT
BEGIN:STANDARD
TZOFFSETFROM:+0200
TZOFFSETTO:+0100
TZNAME:CET
DTSTART:20251026T010000
END:STANDARD
BEGIN:DAYLIGHT
TZOFFSETFROM:+0100
TZOFFSETTO:+0200
TZNAME:CEST
DTSTART:20260329T010000
END:DAYLIGHT
BEGIN:STANDARD
TZOFFSETFROM:+0200
TZOFFSETTO:+0100
TZNAME:CET
DTSTART:20261025T010000
END:STANDARD
BEGIN:DAYLIGHT
TZOFFSETFROM:+0100
TZOFFSETTO:+0200
TZNAME:CEST
DTSTART:20270328T010000
END:DAYLIGHT
BEGIN:STANDARD
TZOFFSETFROM:+0200
TZOFFSETTO:+0100
TZNAME:CET
DTSTART:20271031T010000
END:STANDARD
END:VTIMEZONE
BEGIN:VEVENT
DTSTART;TZID=Europe/Rome:20260423T075809
DTEND;TZID=Europe/Rome:20260423T075809
DTSTAMP:20260423T075809
CREATED:20141128T121722Z
LAST-MODIFIED:20141128T121722Z
UID:11540-1776931089-1776931089@cronachedibirra.it
SUMMARY:Nino Bacelle ospite del Barley Wine
DESCRIPTION:Nella mia personale classifica dei birrifici del Belgio – e non solo mia sospetto – De Ranke occupa una delle primissime posizioni. È dunque un vero piacere segnalare che giovedì 4 dicembre il birraio Nino Bacelle sarà ospite del Barley Wine di Roma per una serata tutta dedicata alle birre De Ranke. Per l’occasione saranno presenti alla spina XX Bitter\, XXX Bitter\, Guldenberg\, Noir de Dottignies\, Saison de Dottignies\, Cuvee De Ranke\, Kriek De Ranke\, Hop Harvest e la natalizia Pere Noel. Oltre a bere le sue splendide creazioni\, naturalmente potrete scambiare due chiacchiere con uno dei maggiori geni brassicoli del Belgio. Per i dettagli vi rimando alla pagina Facebook dell’evento.
URL:https://cronachedibirra.it/evento/nino-bacelle-ospite-del-barley-wine/
LOCATION:AL
CATEGORIES:Iniziative
END:VEVENT
END:VCALENDAR