BEGIN:VCALENDAR
VERSION:2.0
PRODID:-//Cronache di Birra - ECPv6.15.20//NONSGML v1.0//EN
CALSCALE:GREGORIAN
METHOD:PUBLISH
X-WR-CALNAME:Cronache di Birra
X-ORIGINAL-URL:https://cronachedibirra.it
X-WR-CALDESC:Eventi per Cronache di Birra
REFRESH-INTERVAL;VALUE=DURATION:PT1H
X-Robots-Tag:noindex
X-PUBLISHED-TTL:PT1H
BEGIN:VTIMEZONE
TZID:Europe/Rome
BEGIN:DAYLIGHT
TZOFFSETFROM:+0100
TZOFFSETTO:+0200
TZNAME:CEST
DTSTART:20250330T010000
END:DAYLIGHT
BEGIN:STANDARD
TZOFFSETFROM:+0200
TZOFFSETTO:+0100
TZNAME:CET
DTSTART:20251026T010000
END:STANDARD
BEGIN:DAYLIGHT
TZOFFSETFROM:+0100
TZOFFSETTO:+0200
TZNAME:CEST
DTSTART:20260329T010000
END:DAYLIGHT
BEGIN:STANDARD
TZOFFSETFROM:+0200
TZOFFSETTO:+0100
TZNAME:CET
DTSTART:20261025T010000
END:STANDARD
BEGIN:DAYLIGHT
TZOFFSETFROM:+0100
TZOFFSETTO:+0200
TZNAME:CEST
DTSTART:20270328T010000
END:DAYLIGHT
BEGIN:STANDARD
TZOFFSETFROM:+0200
TZOFFSETTO:+0100
TZNAME:CET
DTSTART:20271031T010000
END:STANDARD
END:VTIMEZONE
BEGIN:VEVENT
DTSTART;TZID=Europe/Rome:20260423T125413
DTEND;TZID=Europe/Rome:20260423T125413
DTSTAMP:20260423T125413
CREATED:20141030T122705Z
LAST-MODIFIED:20141030T122705Z
UID:11365-1776948853-1776948853@cronachedibirra.it
SUMMARY:I Giorni dell'IPA 2014
DESCRIPTION:Anche quest’anno Birra del Borgo organizza il suo I Giorni dell’IPA\, l’evento completamente dedicato alle IPA (e loro derivate) italiane. L’appuntamento è per sabato 15 novembre presso Piana di Spedino\, a due passi da Borgorose (RI)\, dove troverete le birre di Opperbacco\, La Casa di Cura\, Baladin\, Lambrate\, Ducato\, MC77 e ovviamente Birra del Borgo. Ci saranno anche gli ospiti stranieri di Guineu (Spagna). La giornata si dividerà in due parti\, una a pagamento dalla mattina\, l’altra a ingresso gratuito dalla tarda serata. Nella prima parte si potrà partecipare alla cotta pubblica\, alla visita guidata all’impianto e al pranzo in collaborazione con Taberna e Taverna dei Briganti. Poi dalle 18 si apriranno le porte a tutti e si terrà un laboratorio sui luppoli a cura di ADB Lazio. Tutti i dettagli sul blog di Birra del Borgo.
URL:https://cronachedibirra.it/evento/i-giorni-dellipa-2014/
LOCATION:AL
CATEGORIES:Iniziative
END:VEVENT
END:VCALENDAR