BEGIN:VCALENDAR
VERSION:2.0
PRODID:-//Cronache di Birra - ECPv6.15.20//NONSGML v1.0//EN
CALSCALE:GREGORIAN
METHOD:PUBLISH
X-ORIGINAL-URL:https://cronachedibirra.it
X-WR-CALDESC:Eventi per Cronache di Birra
REFRESH-INTERVAL;VALUE=DURATION:PT1H
X-Robots-Tag:noindex
X-PUBLISHED-TTL:PT1H
BEGIN:VTIMEZONE
TZID:Europe/Rome
BEGIN:DAYLIGHT
TZOFFSETFROM:+0100
TZOFFSETTO:+0200
TZNAME:CEST
DTSTART:20250330T010000
END:DAYLIGHT
BEGIN:STANDARD
TZOFFSETFROM:+0200
TZOFFSETTO:+0100
TZNAME:CET
DTSTART:20251026T010000
END:STANDARD
BEGIN:DAYLIGHT
TZOFFSETFROM:+0100
TZOFFSETTO:+0200
TZNAME:CEST
DTSTART:20260329T010000
END:DAYLIGHT
BEGIN:STANDARD
TZOFFSETFROM:+0200
TZOFFSETTO:+0100
TZNAME:CET
DTSTART:20261025T010000
END:STANDARD
BEGIN:DAYLIGHT
TZOFFSETFROM:+0100
TZOFFSETTO:+0200
TZNAME:CEST
DTSTART:20270328T010000
END:DAYLIGHT
BEGIN:STANDARD
TZOFFSETFROM:+0200
TZOFFSETTO:+0100
TZNAME:CET
DTSTART:20271031T010000
END:STANDARD
END:VTIMEZONE
BEGIN:VEVENT
DTSTART;TZID=Europe/Rome:20260423T165856
DTEND;TZID=Europe/Rome:20260423T165856
DTSTAMP:20260423T165856
CREATED:20140919T100725Z
LAST-MODIFIED:20140919T100725Z
UID:11030-1776963536-1776963536@cronachedibirra.it
SUMMARY:Zwanze Day 2014
DESCRIPTION:Gli appassionati delle birre a fermentazione spontanea saranno ben felici di sapere che anche quest’anno tornerà l’appuntamento con lo Zwanze Day\, l’evento “diffuso” del birrificio belga Cantillon con protagonista la sua Zwanze – produzione che cambia ricetta ogni anno. I fusti disponibili sono pochissimi e saranno disponibili in contemporanea sabato 20 settembre dalle 21\,00 in alcuni dei migliori locali mondiali per la birra artigianale. Per fortuna l’Italia è ben rappresentata: potrete trovare la Zwanze presso il Macche (Roma)\, il The Dome (Nembro\, BG)\, lo Sherwood Pub (Nicorvo\, PV)\, il Drunken Duck (Quinto Vicentino\, VI)\, il Ristopub Margherita (Quartu Sant’Elena\, CA) e l’Ottavonano (Atripalda\, AV). La Zwanze di quest’anno sarà una variazione della Cuvée Florian\, nata per festeggiare la maggiore età del figlio di Jean Van Roy. La base è una Iris Grand Cru che prevede l’aggiunta di ciliegie e un dry hopping di luppolo Bramling Cross. Se l’idea vi stuzzica\, ricordate che i fusti sono a rischio esaurimento in pochissimi minuti. Informazioni sul sito di Cantillon.
URL:https://cronachedibirra.it/evento/zwanze-day-2014/
LOCATION:AL
CATEGORIES:Iniziative
END:VEVENT
END:VCALENDAR