BEGIN:VCALENDAR
VERSION:2.0
PRODID:-//Cronache di Birra - ECPv6.15.20//NONSGML v1.0//EN
CALSCALE:GREGORIAN
METHOD:PUBLISH
X-WR-CALNAME:Cronache di Birra
X-ORIGINAL-URL:https://cronachedibirra.it
X-WR-CALDESC:Eventi per Cronache di Birra
REFRESH-INTERVAL;VALUE=DURATION:PT1H
X-Robots-Tag:noindex
X-PUBLISHED-TTL:PT1H
BEGIN:VTIMEZONE
TZID:Europe/Rome
BEGIN:DAYLIGHT
TZOFFSETFROM:+0100
TZOFFSETTO:+0200
TZNAME:CEST
DTSTART:20250330T010000
END:DAYLIGHT
BEGIN:STANDARD
TZOFFSETFROM:+0200
TZOFFSETTO:+0100
TZNAME:CET
DTSTART:20251026T010000
END:STANDARD
BEGIN:DAYLIGHT
TZOFFSETFROM:+0100
TZOFFSETTO:+0200
TZNAME:CEST
DTSTART:20260329T010000
END:DAYLIGHT
BEGIN:STANDARD
TZOFFSETFROM:+0200
TZOFFSETTO:+0100
TZNAME:CET
DTSTART:20261025T010000
END:STANDARD
BEGIN:DAYLIGHT
TZOFFSETFROM:+0100
TZOFFSETTO:+0200
TZNAME:CEST
DTSTART:20270328T010000
END:DAYLIGHT
BEGIN:STANDARD
TZOFFSETFROM:+0200
TZOFFSETTO:+0100
TZNAME:CET
DTSTART:20271031T010000
END:STANDARD
END:VTIMEZONE
BEGIN:VEVENT
DTSTART;TZID=Europe/Rome:20260423T192323
DTEND;TZID=Europe/Rome:20260423T192323
DTSTAMP:20260423T192323
CREATED:20140627T095713Z
LAST-MODIFIED:20140627T095713Z
UID:10497-1776972203-1776972203@cronachedibirra.it
SUMMARY:Un Tuffo nella Birra
DESCRIPTION:Dopo il successo dell’edizione di debutto\, torna anche quest’anno a Roma il Summer Pool Festival\, ribattezzato Un Tuffo nella Birra. L’evento\, in programma sabato 5 luglio dalla mattina alla sera\, vede protagonisti alcuni tra i migliori locali capitolini con le loro ottime selezioni di birre artigianali. I partecipanti saranno: Barley Wine\, Birra+\, Birrifugio Trastevere\, Birrifugio Ostia\, Golden Pot\, Hop&Pork\, King Arthur\, Kombeer\, Luppolo12\, Mastro Titta\, Tree Folk’s\, Buskers e Mad for Beer. Ci sarà musica e soprattutto una grande piscina per far felici grandi e piccini. L’ingresso costa 10 euro\, comprensivi di una consumazione. Tutti i dettagli sulla pagina Facebook dell’evento.
URL:https://cronachedibirra.it/evento/un-tuffo-nella-birra/
LOCATION:AL
CATEGORIES:Iniziative
END:VEVENT
END:VCALENDAR