BEGIN:VCALENDAR
VERSION:2.0
PRODID:-//Cronache di Birra - ECPv6.15.20//NONSGML v1.0//EN
CALSCALE:GREGORIAN
METHOD:PUBLISH
X-WR-CALNAME:Cronache di Birra
X-ORIGINAL-URL:https://cronachedibirra.it
X-WR-CALDESC:Eventi per Cronache di Birra
REFRESH-INTERVAL;VALUE=DURATION:PT1H
X-Robots-Tag:noindex
X-PUBLISHED-TTL:PT1H
BEGIN:VTIMEZONE
TZID:Europe/Rome
BEGIN:DAYLIGHT
TZOFFSETFROM:+0100
TZOFFSETTO:+0200
TZNAME:CEST
DTSTART:20250330T010000
END:DAYLIGHT
BEGIN:STANDARD
TZOFFSETFROM:+0200
TZOFFSETTO:+0100
TZNAME:CET
DTSTART:20251026T010000
END:STANDARD
BEGIN:DAYLIGHT
TZOFFSETFROM:+0100
TZOFFSETTO:+0200
TZNAME:CEST
DTSTART:20260329T010000
END:DAYLIGHT
BEGIN:STANDARD
TZOFFSETFROM:+0200
TZOFFSETTO:+0100
TZNAME:CET
DTSTART:20261025T010000
END:STANDARD
BEGIN:DAYLIGHT
TZOFFSETFROM:+0100
TZOFFSETTO:+0200
TZNAME:CEST
DTSTART:20270328T010000
END:DAYLIGHT
BEGIN:STANDARD
TZOFFSETFROM:+0200
TZOFFSETTO:+0100
TZNAME:CET
DTSTART:20271031T010000
END:STANDARD
END:VTIMEZONE
BEGIN:VEVENT
DTSTART;TZID=Europe/Rome:20260423T214627
DTEND;TZID=Europe/Rome:20260423T214627
DTSTAMP:20260423T214627
CREATED:20140516T102002Z
LAST-MODIFIED:20140516T102227Z
UID:10169-1776980787-1776980787@cronachedibirra.it
SUMMARY:Fruhling Beer Fest
DESCRIPTION:Si chiama Fruhling Beer Fest la festa della birra di primavera organizzata dal birrificio Biren a Renazzo (FE) e in programma da giovedì 22 a sabato 24 maggio. Sarà un evento in stile bavarese\, decisamente in linea con le basse fermentazioni del produttore. La parte gastronomica sarà a tema\, con piatti d’ispirazione tedesca\, ma senza disdegnare diverse eccezioni. Non mancherà musica dal vivo\, spettacoli d’intrattenimento e dj set. Per i dettagli vi rimando alla pagina Facebook dell’iniziativa.
URL:https://cronachedibirra.it/evento/fruhling-beer-fest/
LOCATION:AL
CATEGORIES:Iniziative
END:VEVENT
END:VCALENDAR