BEGIN:VCALENDAR
VERSION:2.0
PRODID:-//Cronache di Birra - ECPv6.15.20//NONSGML v1.0//EN
CALSCALE:GREGORIAN
METHOD:PUBLISH
X-ORIGINAL-URL:https://cronachedibirra.it
X-WR-CALDESC:Eventi per Cronache di Birra
REFRESH-INTERVAL;VALUE=DURATION:PT1H
X-Robots-Tag:noindex
X-PUBLISHED-TTL:PT1H
BEGIN:VTIMEZONE
TZID:Europe/Rome
BEGIN:DAYLIGHT
TZOFFSETFROM:+0100
TZOFFSETTO:+0200
TZNAME:CEST
DTSTART:20250330T010000
END:DAYLIGHT
BEGIN:STANDARD
TZOFFSETFROM:+0200
TZOFFSETTO:+0100
TZNAME:CET
DTSTART:20251026T010000
END:STANDARD
BEGIN:DAYLIGHT
TZOFFSETFROM:+0100
TZOFFSETTO:+0200
TZNAME:CEST
DTSTART:20260329T010000
END:DAYLIGHT
BEGIN:STANDARD
TZOFFSETFROM:+0200
TZOFFSETTO:+0100
TZNAME:CET
DTSTART:20261025T010000
END:STANDARD
BEGIN:DAYLIGHT
TZOFFSETFROM:+0100
TZOFFSETTO:+0200
TZNAME:CEST
DTSTART:20270328T010000
END:DAYLIGHT
BEGIN:STANDARD
TZOFFSETFROM:+0200
TZOFFSETTO:+0100
TZNAME:CET
DTSTART:20271031T010000
END:STANDARD
END:VTIMEZONE
BEGIN:VEVENT
DTSTART;TZID=Europe/Rome:20260423T214826
DTEND;TZID=Europe/Rome:20260423T214826
DTSTAMP:20260423T214826
CREATED:20140418T101811Z
LAST-MODIFIED:20140418T101811Z
UID:9995-1776980906-1776980906@cronachedibirra.it
SUMMARY:Quintessence 2014
DESCRIPTION:Recentemente ho dato spazio a un importante evento straniero come lo Zythos\, ma a breve un altro appuntamento belga richiamerà appassionati da mezzo mondo. Mi riferisco alla Quintessence del birrificio Cantillon\, che si terrà presso la sede del produttore di Bruxelles il giorno giovedì 1 maggio. Si tratta di un evento unico\, un viaggio tra le meraviglie acide di uno dei più straordinari birrifici al mondo. Le creazioni di Jean Van Roy però non saranno le sole protagoniste\, poiché avranno come “compagne di ventura” le creazioni di due importanti birrifici americani: Allagash e Russian River. Inoltre quest’anno si terrà il Cantillon After al Moeder Lambic\, una sorta di continuazione della Quintessence con alcune chicche vintage alla spina. Ulteriori informazioni sul sito Mondo Acido.
URL:https://cronachedibirra.it/evento/quintessence-2014/
LOCATION:AL
CATEGORIES:Iniziative
END:VEVENT
END:VCALENDAR