BEGIN:VCALENDAR
VERSION:2.0
PRODID:-//Cronache di Birra - ECPv6.15.20//NONSGML v1.0//EN
CALSCALE:GREGORIAN
METHOD:PUBLISH
X-WR-CALNAME:Cronache di Birra
X-ORIGINAL-URL:https://cronachedibirra.it
X-WR-CALDESC:Eventi per Cronache di Birra
REFRESH-INTERVAL;VALUE=DURATION:PT1H
X-Robots-Tag:noindex
X-PUBLISHED-TTL:PT1H
BEGIN:VTIMEZONE
TZID:Europe/Rome
BEGIN:DAYLIGHT
TZOFFSETFROM:+0100
TZOFFSETTO:+0200
TZNAME:CEST
DTSTART:20250330T010000
END:DAYLIGHT
BEGIN:STANDARD
TZOFFSETFROM:+0200
TZOFFSETTO:+0100
TZNAME:CET
DTSTART:20251026T010000
END:STANDARD
BEGIN:DAYLIGHT
TZOFFSETFROM:+0100
TZOFFSETTO:+0200
TZNAME:CEST
DTSTART:20260329T010000
END:DAYLIGHT
BEGIN:STANDARD
TZOFFSETFROM:+0200
TZOFFSETTO:+0100
TZNAME:CET
DTSTART:20261025T010000
END:STANDARD
BEGIN:DAYLIGHT
TZOFFSETFROM:+0100
TZOFFSETTO:+0200
TZNAME:CEST
DTSTART:20270328T010000
END:DAYLIGHT
BEGIN:STANDARD
TZOFFSETFROM:+0200
TZOFFSETTO:+0100
TZNAME:CET
DTSTART:20271031T010000
END:STANDARD
END:VTIMEZONE
BEGIN:VEVENT
DTSTART;TZID=Europe/Rome:20260423T231655
DTEND;TZID=Europe/Rome:20260423T231655
DTSTAMP:20260423T231655
CREATED:20140328T120728Z
LAST-MODIFIED:20140328T120728Z
UID:9832-1776986215-1776986215@cronachedibirra.it
SUMMARY:18 anni di Birrificio Lambrate
DESCRIPTION:Il Birrificio Lambrate di Milano diventa maggiorenne e sabato 5 aprile festeggia i suoi primi 18 anni con un evento apposito\, da festeggiare insieme a tutti gli amici che hanno segnato fino a oggi l’avventura di questo straordinario birrificio. La festa partirà già da mezzogiorno e sarà accompagnata da dj set\, visite guidate agli impianti (su prenotazione)\, publican e birrai da tutta Italia e la presentazione di una nuova birra prodotta in loco. Per ulteriori informazioni date un’occhiata al sito del Lambrate.
URL:https://cronachedibirra.it/evento/18-anni-di-birrificio-lambrate/
LOCATION:AL
CATEGORIES:Iniziative
END:VEVENT
END:VCALENDAR