BEGIN:VCALENDAR
VERSION:2.0
PRODID:-//Cronache di Birra - ECPv6.15.20//NONSGML v1.0//EN
CALSCALE:GREGORIAN
METHOD:PUBLISH
X-ORIGINAL-URL:https://cronachedibirra.it
X-WR-CALDESC:Eventi per Cronache di Birra
REFRESH-INTERVAL;VALUE=DURATION:PT1H
X-Robots-Tag:noindex
X-PUBLISHED-TTL:PT1H
BEGIN:VTIMEZONE
TZID:Europe/Rome
BEGIN:DAYLIGHT
TZOFFSETFROM:+0100
TZOFFSETTO:+0200
TZNAME:CEST
DTSTART:20250330T010000
END:DAYLIGHT
BEGIN:STANDARD
TZOFFSETFROM:+0200
TZOFFSETTO:+0100
TZNAME:CET
DTSTART:20251026T010000
END:STANDARD
BEGIN:DAYLIGHT
TZOFFSETFROM:+0100
TZOFFSETTO:+0200
TZNAME:CEST
DTSTART:20260329T010000
END:DAYLIGHT
BEGIN:STANDARD
TZOFFSETFROM:+0200
TZOFFSETTO:+0100
TZNAME:CET
DTSTART:20261025T010000
END:STANDARD
BEGIN:DAYLIGHT
TZOFFSETFROM:+0100
TZOFFSETTO:+0200
TZNAME:CEST
DTSTART:20270328T010000
END:DAYLIGHT
BEGIN:STANDARD
TZOFFSETFROM:+0200
TZOFFSETTO:+0100
TZNAME:CET
DTSTART:20271031T010000
END:STANDARD
END:VTIMEZONE
BEGIN:VEVENT
DTSTART;TZID=Europe/Rome:20260424T042528
DTEND;TZID=Europe/Rome:20260424T042528
DTSTAMP:20260424T042528
CREATED:20140214T120110Z
LAST-MODIFIED:20140214T120753Z
UID:9546-1777004728-1777004728@cronachedibirra.it
SUMMARY:Drunken Winter Beer Festival
DESCRIPTION:Il sempre attivissimo Drunken Duck di Quinto Vicentino (VI) organizza da venerdì 21 a domenica 23 febbraio il suo Drunken Winter Beer Festival. Tutti i giorni sarà presente una moltitudine di birre alla spina (tra cui quelle a marchio Drunken Duck)\, mentre gli appuntamenti saranno ghiotti e interessanti. Si partirà venerdì 21 con una degustazione di formaggi (e birre\, immagino) condotta da Andrea Camaschella\, poi sabato 22 con un mini corso di homebrewing comprensivo di cotta pubblica e una degustazione di birre “selvagge” guidata da Kuaska\, per chiudere domenica 23 con la prima tappa del Campionato italiano homebrewer di MoBI. Per i dettagli vi rimando al sito web del locale
URL:https://cronachedibirra.it/evento/drunken-winter-beer-festival/
LOCATION:AL
CATEGORIES:Iniziative
END:VEVENT
END:VCALENDAR