BEGIN:VCALENDAR
VERSION:2.0
PRODID:-//Cronache di Birra - ECPv6.15.20//NONSGML v1.0//EN
CALSCALE:GREGORIAN
METHOD:PUBLISH
X-ORIGINAL-URL:https://cronachedibirra.it
X-WR-CALDESC:Eventi per Cronache di Birra
REFRESH-INTERVAL;VALUE=DURATION:PT1H
X-Robots-Tag:noindex
X-PUBLISHED-TTL:PT1H
BEGIN:VTIMEZONE
TZID:Europe/Rome
BEGIN:DAYLIGHT
TZOFFSETFROM:+0100
TZOFFSETTO:+0200
TZNAME:CEST
DTSTART:20250330T010000
END:DAYLIGHT
BEGIN:STANDARD
TZOFFSETFROM:+0200
TZOFFSETTO:+0100
TZNAME:CET
DTSTART:20251026T010000
END:STANDARD
BEGIN:DAYLIGHT
TZOFFSETFROM:+0100
TZOFFSETTO:+0200
TZNAME:CEST
DTSTART:20260329T010000
END:DAYLIGHT
BEGIN:STANDARD
TZOFFSETFROM:+0200
TZOFFSETTO:+0100
TZNAME:CET
DTSTART:20261025T010000
END:STANDARD
BEGIN:DAYLIGHT
TZOFFSETFROM:+0100
TZOFFSETTO:+0200
TZNAME:CEST
DTSTART:20270328T010000
END:DAYLIGHT
BEGIN:STANDARD
TZOFFSETFROM:+0200
TZOFFSETTO:+0100
TZNAME:CET
DTSTART:20271031T010000
END:STANDARD
END:VTIMEZONE
BEGIN:VEVENT
DTSTART;TZID=Europe/Rome:20260424T020238
DTEND;TZID=Europe/Rome:20260424T020238
DTSTAMP:20260424T020238
CREATED:20140131T114455Z
LAST-MODIFIED:20140131T114455Z
UID:9470-1776996158-1776996158@cronachedibirra.it
SUMMARY:Oyster Day 2014
DESCRIPTION:Anche in questo inizio di 2014 torna uno degli eventi più attesi di Birra del Borgo: il suo Oyster Day. La festa per la cotta di Perle ai Porci (Stout alle ostriche) è in programma per sabato 15 febbraio a Borgorose (RI)\, ma come al solito l’iniziativa non si limiterà ai soli aspetti produttivi. Ci sarà infatti una degustazione con le birre della casa\, i formaggi del Caseificio Campo Felice\, i salumi di Scherzerino e piatti in abbinamento a cura della Taberna di Palestrina. Inoltre non mancherà un laboratorio a cura di ADB Lazio e musica dal vivo in stile irlandese. La partecipazione al’intera giornata è a prenotazione e costa 30 euro a persona. Ulteriori dettagli sul blog di Birra del Borgo.
URL:https://cronachedibirra.it/evento/oyster-day-2014/
LOCATION:AL
CATEGORIES:Iniziative
END:VEVENT
BEGIN:VEVENT
DTSTART;TZID=Europe/Rome:20260424T020238
DTEND;TZID=Europe/Rome:20260424T020238
DTSTAMP:20260424T020238
CREATED:20140131T115427Z
LAST-MODIFIED:20140131T115427Z
UID:9476-1776996158-1776996158@cronachedibirra.it
SUMMARY:Primo anniversario del Cerevisia Vetus
DESCRIPTION:Circa un anno fa apriva a Ceccano (FR) il Cerevisia Vetus\, locale della beer firm omonima. Un anno dopo\, e più precisamente sabato 15 e domenica 16 febbraio\, è in programma la festa per celebrare il primo compleanno. Per l’occasione saranno allestiti due diversi punti di spillatura\, per un totale di 14 vie che ospiteranno altrettante birre italiane e straniere. Chiaramente saranno presenti tanti birrai\, che serviranno direttamente le loro produzioni\, nonché un gruppo agguerrito e scapestrato di publican. Le birre avranno tutte lo stesso prezzo\, in funzione del solo formato di mescita (20\, 30 e 40 cl). Inoltre saranno proiettate alcune riprese girate da amici e clienti e tanta musica ad accompagnare le bevute. Per approfondimenti\, potete consultare la pagina Facebook dell’evento.
URL:https://cronachedibirra.it/evento/primo-anniversario-del-cerevisia-vetus/
LOCATION:AL
CATEGORIES:Iniziative
END:VEVENT
END:VCALENDAR