BEGIN:VCALENDAR
VERSION:2.0
PRODID:-//Cronache di Birra - ECPv6.15.20//NONSGML v1.0//EN
CALSCALE:GREGORIAN
METHOD:PUBLISH
X-WR-CALNAME:Cronache di Birra
X-ORIGINAL-URL:https://cronachedibirra.it
X-WR-CALDESC:Eventi per Cronache di Birra
REFRESH-INTERVAL;VALUE=DURATION:PT1H
X-Robots-Tag:noindex
X-PUBLISHED-TTL:PT1H
BEGIN:VTIMEZONE
TZID:Europe/Rome
BEGIN:DAYLIGHT
TZOFFSETFROM:+0100
TZOFFSETTO:+0200
TZNAME:CEST
DTSTART:20250330T010000
END:DAYLIGHT
BEGIN:STANDARD
TZOFFSETFROM:+0200
TZOFFSETTO:+0100
TZNAME:CET
DTSTART:20251026T010000
END:STANDARD
BEGIN:DAYLIGHT
TZOFFSETFROM:+0100
TZOFFSETTO:+0200
TZNAME:CEST
DTSTART:20260329T010000
END:DAYLIGHT
BEGIN:STANDARD
TZOFFSETFROM:+0200
TZOFFSETTO:+0100
TZNAME:CET
DTSTART:20261025T010000
END:STANDARD
BEGIN:DAYLIGHT
TZOFFSETFROM:+0100
TZOFFSETTO:+0200
TZNAME:CEST
DTSTART:20270328T010000
END:DAYLIGHT
BEGIN:STANDARD
TZOFFSETFROM:+0200
TZOFFSETTO:+0100
TZNAME:CET
DTSTART:20271031T010000
END:STANDARD
END:VTIMEZONE
BEGIN:VEVENT
DTSTART;TZID=Europe/Rome:20260424T071832
DTEND;TZID=Europe/Rome:20260424T071832
DTSTAMP:20260424T071832
CREATED:20140131T121345Z
LAST-MODIFIED:20140131T121345Z
UID:9482-1777015112-1777015112@cronachedibirra.it
SUMMARY:Die Kölsch Nacht alla Cantina della Birra
DESCRIPTION:Se siete amanti delle tradizioni brassicole europee\, occhio all’evento organizzato per martedì 11 febbraio dalla Cantina della Birra di Triggianello (BA) in collaborazione con il birrificio Birranova. Protagonista della serata sarà la nuova Kölsch di quest’ultimo\, che sarà servita nel puro stile di Colonia: in bicchieri da 20 cl\, che verranno riempiti di continuo segnando con trattino sul sottobicchiere il numero di birre bevute. Ogni bicchiere costerà 2 €\, con la promozione di 1 € di sconto ogni 3 birre ordinate. Ulteriori informazioni sulla pagina Facebook dell’evento.
URL:https://cronachedibirra.it/evento/die-kolsch-nacht-alla-cantina-della-birra/
LOCATION:AL
CATEGORIES:Iniziative
END:VEVENT
END:VCALENDAR