BEGIN:VCALENDAR
VERSION:2.0
PRODID:-//Cronache di Birra - ECPv6.15.20//NONSGML v1.0//EN
CALSCALE:GREGORIAN
METHOD:PUBLISH
X-WR-CALNAME:Cronache di Birra
X-ORIGINAL-URL:https://cronachedibirra.it
X-WR-CALDESC:Eventi per Cronache di Birra
REFRESH-INTERVAL;VALUE=DURATION:PT1H
X-Robots-Tag:noindex
X-PUBLISHED-TTL:PT1H
BEGIN:VTIMEZONE
TZID:Europe/Rome
BEGIN:DAYLIGHT
TZOFFSETFROM:+0100
TZOFFSETTO:+0200
TZNAME:CEST
DTSTART:20250330T010000
END:DAYLIGHT
BEGIN:STANDARD
TZOFFSETFROM:+0200
TZOFFSETTO:+0100
TZNAME:CET
DTSTART:20251026T010000
END:STANDARD
BEGIN:DAYLIGHT
TZOFFSETFROM:+0100
TZOFFSETTO:+0200
TZNAME:CEST
DTSTART:20260329T010000
END:DAYLIGHT
BEGIN:STANDARD
TZOFFSETFROM:+0200
TZOFFSETTO:+0100
TZNAME:CET
DTSTART:20261025T010000
END:STANDARD
BEGIN:DAYLIGHT
TZOFFSETFROM:+0100
TZOFFSETTO:+0200
TZNAME:CEST
DTSTART:20270328T010000
END:DAYLIGHT
BEGIN:STANDARD
TZOFFSETFROM:+0200
TZOFFSETTO:+0100
TZNAME:CET
DTSTART:20271031T010000
END:STANDARD
END:VTIMEZONE
BEGIN:VEVENT
DTSTART;TZID=Europe/Rome:20260424T041728
DTEND;TZID=Europe/Rome:20260424T041728
DTSTAMP:20260424T041728
CREATED:20140125T105851Z
LAST-MODIFIED:20140129T144350Z
UID:9417-1777004248-1777004248@cronachedibirra.it
SUMMARY:God saves the Barley Wine
DESCRIPTION:Dopo il successo della prima edizione\, giovedì 30 gennaio il Barley Wine di Roma ripropone il suo God Save the Barley Wine\, una serata completamente dedicata alle birre anglosassoni. Le spine del locale ospiteranno le seguenti birre: Dark Star Revelation\,\nDark Star Hop Head\, Thornbridge Jaipur\, Thornbridge Chiron\, Buxton Black Rocks\,\nBuxton Tsar\, Moor Revival\, Moor Amoor\, Moor Hoppiness\, Wild Beer Co Madness\, Wild Beer Co Scarlet Fever\, Wild Beer Co Fresh Pale Ale\, Weird Beard Five O’clock Shadow. \nOcchio anche al giorno successivo (venerdi 31 gennaio)\, quando saranno presentate due nuovissime birre romane: la Big Zombie di Free Lions e la Urbe di Eternal City.
URL:https://cronachedibirra.it/evento/god-saves-the-barley-wine/
LOCATION:AL
CATEGORIES:Iniziative
END:VEVENT
END:VCALENDAR