BEGIN:VCALENDAR
VERSION:2.0
PRODID:-//Cronache di Birra - ECPv6.15.20//NONSGML v1.0//EN
CALSCALE:GREGORIAN
METHOD:PUBLISH
X-ORIGINAL-URL:https://cronachedibirra.it
X-WR-CALDESC:Eventi per Cronache di Birra
REFRESH-INTERVAL;VALUE=DURATION:PT1H
X-Robots-Tag:noindex
X-PUBLISHED-TTL:PT1H
BEGIN:VTIMEZONE
TZID:Europe/Rome
BEGIN:DAYLIGHT
TZOFFSETFROM:+0100
TZOFFSETTO:+0200
TZNAME:CEST
DTSTART:20250330T010000
END:DAYLIGHT
BEGIN:STANDARD
TZOFFSETFROM:+0200
TZOFFSETTO:+0100
TZNAME:CET
DTSTART:20251026T010000
END:STANDARD
BEGIN:DAYLIGHT
TZOFFSETFROM:+0100
TZOFFSETTO:+0200
TZNAME:CEST
DTSTART:20260329T010000
END:DAYLIGHT
BEGIN:STANDARD
TZOFFSETFROM:+0200
TZOFFSETTO:+0100
TZNAME:CET
DTSTART:20261025T010000
END:STANDARD
BEGIN:DAYLIGHT
TZOFFSETFROM:+0100
TZOFFSETTO:+0200
TZNAME:CEST
DTSTART:20270328T010000
END:DAYLIGHT
BEGIN:STANDARD
TZOFFSETFROM:+0200
TZOFFSETTO:+0100
TZNAME:CET
DTSTART:20271031T010000
END:STANDARD
END:VTIMEZONE
BEGIN:VEVENT
DTSTART;TZID=Europe/Rome:20260424T055840
DTEND;TZID=Europe/Rome:20260424T055840
DTSTAMP:20260424T055840
CREATED:20140117T115821Z
LAST-MODIFIED:20140117T115821Z
UID:9357-1777010320-1777010320@cronachedibirra.it
SUMMARY:20 anni di Clock Tower
DESCRIPTION:A Roma ancora risuonano gli echi del ventesimo anniversario del Serpente\, ma il pub capitolino non è l’unico a festeggiare in questo periodo la tappa della doppia decina. A Treviglio (BG)\, infatti\, il Clock Tower è ormai prossimo ai 20 anni e ha deciso di celebrare l’evento con una festa di due giorni\, che si terrà venerdì 24 e sabato 25 gennaio. Alla spina ci saranno ovviamente le birre di Elav (il locale è la public house del birrificio)\, tra cui una produzione inedita: la Twenty\, una Belgian Ipa creata per l’occasione. Ci saranno poi concerti di musica folk\, birra in botte e buffet di qualità. Dettagli aggiuntivi sulla pagina Facebook dell’evento.
URL:https://cronachedibirra.it/evento/20-anni-di-clock-tower/
LOCATION:AL
CATEGORIES:Iniziative
END:VEVENT
BEGIN:VEVENT
DTSTART;TZID=Europe/Rome:20260424T055840
DTEND;TZID=Europe/Rome:20260424T055840
DTSTAMP:20260424T055840
CREATED:20140124T120708Z
LAST-MODIFIED:20140124T120708Z
UID:9407-1777010320-1777010320@cronachedibirra.it
SUMMARY:Takeover Birra del Borgo al Buskers Pub
DESCRIPTION:Tra i tanti takeover organizzati con costanza dal Buskers Pub di Roma non poteva mancare quello dedicato a Birra del Borgo\, che andrà in scena venerdì 24 e sabato 25 gennaio. E sarà un evento in grande stile\, con una miriade di birre in fusto e in bottiglia. Alla spina ci saranno Maledetta\, Hoppycat\, 7ipa\, KeTo Reporter\, Lady Moana\, Cortigiana\, Duchessa\, Reale\, Reale Extra\, Prunus\, Ducale\, My Antonia\, Enkir\, Dave\, Rubus (in forse)\, Old Antonia (in cask)\, Aboriginal (in cask)\, Sedicigradi\, Dave. In bottiglia invece\, oltre alle classiche\, troverete magnum di Tabernale\, 25 Dodici (annate dal 2006 al 2013)\, Sedicigradi (annate dal 2008 in poi)\, Impirial Stout & Imperiale (diverse annate)\, Keto reporter (dal 2007 in poi)\, Old Antonia\, Etrusca\, Equilibrista\, Rubus\, Kashmir\, Kashmir Oak Aged\, Kashmir Imperial\, 6sonIpa\, jeroboam di 25 dodici\, magnum di 25 dodici. Ci saranno poi alcune bottiglie “vintage” con le primissime etichette. Stasera dovrei fare un salto.
URL:https://cronachedibirra.it/evento/takeover-birra-del-borgo-al-buskers-pub/
LOCATION:AL
CATEGORIES:Iniziative
END:VEVENT
END:VCALENDAR