BEGIN:VCALENDAR
VERSION:2.0
PRODID:-//Cronache di Birra - ECPv6.15.20//NONSGML v1.0//EN
CALSCALE:GREGORIAN
METHOD:PUBLISH
X-WR-CALNAME:Cronache di Birra
X-ORIGINAL-URL:https://cronachedibirra.it
X-WR-CALDESC:Eventi per Cronache di Birra
REFRESH-INTERVAL;VALUE=DURATION:PT1H
X-Robots-Tag:noindex
X-PUBLISHED-TTL:PT1H
BEGIN:VTIMEZONE
TZID:Europe/Rome
BEGIN:DAYLIGHT
TZOFFSETFROM:+0100
TZOFFSETTO:+0200
TZNAME:CEST
DTSTART:20250330T010000
END:DAYLIGHT
BEGIN:STANDARD
TZOFFSETFROM:+0200
TZOFFSETTO:+0100
TZNAME:CET
DTSTART:20251026T010000
END:STANDARD
BEGIN:DAYLIGHT
TZOFFSETFROM:+0100
TZOFFSETTO:+0200
TZNAME:CEST
DTSTART:20260329T010000
END:DAYLIGHT
BEGIN:STANDARD
TZOFFSETFROM:+0200
TZOFFSETTO:+0100
TZNAME:CET
DTSTART:20261025T010000
END:STANDARD
BEGIN:DAYLIGHT
TZOFFSETFROM:+0100
TZOFFSETTO:+0200
TZNAME:CEST
DTSTART:20270328T010000
END:DAYLIGHT
BEGIN:STANDARD
TZOFFSETFROM:+0200
TZOFFSETTO:+0100
TZNAME:CET
DTSTART:20271031T010000
END:STANDARD
END:VTIMEZONE
BEGIN:VEVENT
DTSTART;TZID=Europe/Rome:20260424T071812
DTEND;TZID=Europe/Rome:20260424T071812
DTSTAMP:20260424T071812
CREATED:20140110T121604Z
LAST-MODIFIED:20140110T121604Z
UID:9304-1777015092-1777015092@cronachedibirra.it
SUMMARY:Ventesimo anniversario de Il Serpente
DESCRIPTION:Un anno come il 1994 può essere considerato il pleistocene del movimento birrario italiano\, eppure fu allora che aprì i battenti a Roma il pub Il Serpente. Così domenica 12 gennaio il locale festeggerà la bellezza di 20 anni di attività e lo farà con una grande festa. Chiaramente la birra scorrerà a fiumi\, ma saranno presenti anche diversi birrai (con alcune sorprese al seguito) da birrifici come Hibu\, Pontino\, Croce di Malto\, Amiata\, Lambrate\, Stavio\, La Fucina\, Eternal City Brewing\, Rurale. Chiaramente poi non mancheranno tanti publican della Capitale\, cucina a cura de La Taverna del Barone e dj set per tutta la giornata. Buon compleanno al Serpente allora!
URL:https://cronachedibirra.it/evento/ventesimo-anniversario-de-il-serpente/
LOCATION:AL
CATEGORIES:Iniziative
END:VEVENT
END:VCALENDAR