BEGIN:VCALENDAR
VERSION:2.0
PRODID:-//Cronache di Birra - ECPv6.15.20//NONSGML v1.0//EN
CALSCALE:GREGORIAN
METHOD:PUBLISH
X-ORIGINAL-URL:https://cronachedibirra.it
X-WR-CALDESC:Eventi per Cronache di Birra
REFRESH-INTERVAL;VALUE=DURATION:PT1H
X-Robots-Tag:noindex
X-PUBLISHED-TTL:PT1H
BEGIN:VTIMEZONE
TZID:Europe/Rome
BEGIN:DAYLIGHT
TZOFFSETFROM:+0100
TZOFFSETTO:+0200
TZNAME:CEST
DTSTART:20250330T010000
END:DAYLIGHT
BEGIN:STANDARD
TZOFFSETFROM:+0200
TZOFFSETTO:+0100
TZNAME:CET
DTSTART:20251026T010000
END:STANDARD
BEGIN:DAYLIGHT
TZOFFSETFROM:+0100
TZOFFSETTO:+0200
TZNAME:CEST
DTSTART:20260329T010000
END:DAYLIGHT
BEGIN:STANDARD
TZOFFSETFROM:+0200
TZOFFSETTO:+0100
TZNAME:CET
DTSTART:20261025T010000
END:STANDARD
BEGIN:DAYLIGHT
TZOFFSETFROM:+0100
TZOFFSETTO:+0200
TZNAME:CEST
DTSTART:20270328T010000
END:DAYLIGHT
BEGIN:STANDARD
TZOFFSETFROM:+0200
TZOFFSETTO:+0100
TZNAME:CET
DTSTART:20271031T010000
END:STANDARD
END:VTIMEZONE
BEGIN:VEVENT
DTSTART;TZID=Europe/Rome:20260424T070103
DTEND;TZID=Europe/Rome:20260424T070103
DTSTAMP:20260424T070103
CREATED:20131206T133151Z
LAST-MODIFIED:20131206T133151Z
UID:9176-1777014063-1777014063@cronachedibirra.it
SUMMARY:Birrathon 2013
DESCRIPTION:Anche quest’anno si terrà a Roma uno degli eventi birrari più fuori di testa e allo stesso tempo ammirevoli del periodo. I ragazzi del Mad for Beer\, infatti\, organizzano anche quest’anno il Birrathon\, una maratona di birra che andrà in scena da venerdì 20 fino all’alba di lunedì 23 dicembre. La particolarità è che per 60 ore ininterrotte il locale resterà aperto\, con le spine che vedranno alternarsi alcuni tra i migliori publican e birrai di Roma e dintorni. Non li riporto tutti per motivi di spazio (sono presenti sulla pagina Facebook dell’evento\, insieme ad altri dettagli)\, ma cito Colonna e Zaniol (Macche)\, Leonardo (Birra del Borgo)\, Alex (4:20)\, Tony (Grapes)\, Mirco\, Marco e Quell’altro (Barley Wine)\, Mirko (Buskers Pub)\, Alfonso (Bir&fud)\, Valerio (Birra+)\, Danilo (Golden Pot) e tanti\, tanti altri (non me ne vogliano quelli che non ho riportato). Ci sarà anche Stefano Callegari di Sforno. \nMa il punto è: perché tutto questo “casino”? Semplice\, visto che l’iniziativa ha uno scopo benefico. Le birre costeranno infatti 1 euro in più rispetto al normale\, cosicché 2 euro (1 del cliente e 1 del locale) saranno devoluti in favore della campagna Indifesa dell’associazione Terre des hommes. Se sarò a Roma in quei giorni non mancherò\, vi consiglio di fare lo stesso.
URL:https://cronachedibirra.it/evento/birrathon-2013/
LOCATION:AL
CATEGORIES:Iniziative
END:VEVENT
END:VCALENDAR