BEGIN:VCALENDAR
VERSION:2.0
PRODID:-//Cronache di Birra - ECPv6.15.20//NONSGML v1.0//EN
CALSCALE:GREGORIAN
METHOD:PUBLISH
X-ORIGINAL-URL:https://cronachedibirra.it
X-WR-CALDESC:Eventi per Cronache di Birra
REFRESH-INTERVAL;VALUE=DURATION:PT1H
X-Robots-Tag:noindex
X-PUBLISHED-TTL:PT1H
BEGIN:VTIMEZONE
TZID:Europe/Rome
BEGIN:DAYLIGHT
TZOFFSETFROM:+0100
TZOFFSETTO:+0200
TZNAME:CEST
DTSTART:20250330T010000
END:DAYLIGHT
BEGIN:STANDARD
TZOFFSETFROM:+0200
TZOFFSETTO:+0100
TZNAME:CET
DTSTART:20251026T010000
END:STANDARD
BEGIN:DAYLIGHT
TZOFFSETFROM:+0100
TZOFFSETTO:+0200
TZNAME:CEST
DTSTART:20260329T010000
END:DAYLIGHT
BEGIN:STANDARD
TZOFFSETFROM:+0200
TZOFFSETTO:+0100
TZNAME:CET
DTSTART:20261025T010000
END:STANDARD
BEGIN:DAYLIGHT
TZOFFSETFROM:+0100
TZOFFSETTO:+0200
TZNAME:CEST
DTSTART:20270328T010000
END:DAYLIGHT
BEGIN:STANDARD
TZOFFSETFROM:+0200
TZOFFSETTO:+0100
TZNAME:CET
DTSTART:20271031T010000
END:STANDARD
END:VTIMEZONE
BEGIN:VEVENT
DTSTART;TZID=Europe/Rome:20260424T070103
DTEND;TZID=Europe/Rome:20260424T070103
DTSTAMP:20260424T070103
CREATED:20131212T124822Z
LAST-MODIFIED:20131212T124822Z
UID:9208-1777014063-1777014063@cronachedibirra.it
SUMMARY:Xander Winter Fest
DESCRIPTION:Lo Xander Brewpub di Brescia organizza da giovedì 19 a sabato 21 dicembre lo Xander Winter Fest\, una tre giorni con musica dal vivo e tante produzioni natalizie alla spine (10 vie + 1 pompa) e in bottiglia. Il programma prevede la presentazione di tre nuove birre in abbinamento a formaggi e salumi (solo per gli iscritti alla newsletter)\, menu a tema e altre sorprese. Tutti i dettagli sul sito del locale.
URL:https://cronachedibirra.it/evento/xander-winter-fest/
LOCATION:AL
CATEGORIES:Iniziative
END:VEVENT
END:VCALENDAR