BEGIN:VCALENDAR
VERSION:2.0
PRODID:-//Cronache di Birra - ECPv6.15.20//NONSGML v1.0//EN
CALSCALE:GREGORIAN
METHOD:PUBLISH
X-ORIGINAL-URL:https://cronachedibirra.it
X-WR-CALDESC:Eventi per Cronache di Birra
REFRESH-INTERVAL;VALUE=DURATION:PT1H
X-Robots-Tag:noindex
X-PUBLISHED-TTL:PT1H
BEGIN:VTIMEZONE
TZID:Europe/Rome
BEGIN:DAYLIGHT
TZOFFSETFROM:+0100
TZOFFSETTO:+0200
TZNAME:CEST
DTSTART:20250330T010000
END:DAYLIGHT
BEGIN:STANDARD
TZOFFSETFROM:+0200
TZOFFSETTO:+0100
TZNAME:CET
DTSTART:20251026T010000
END:STANDARD
BEGIN:DAYLIGHT
TZOFFSETFROM:+0100
TZOFFSETTO:+0200
TZNAME:CEST
DTSTART:20260329T010000
END:DAYLIGHT
BEGIN:STANDARD
TZOFFSETFROM:+0200
TZOFFSETTO:+0100
TZNAME:CET
DTSTART:20261025T010000
END:STANDARD
BEGIN:DAYLIGHT
TZOFFSETFROM:+0100
TZOFFSETTO:+0200
TZNAME:CEST
DTSTART:20270328T010000
END:DAYLIGHT
BEGIN:STANDARD
TZOFFSETFROM:+0200
TZOFFSETTO:+0100
TZNAME:CET
DTSTART:20271031T010000
END:STANDARD
END:VTIMEZONE
BEGIN:VEVENT
DTSTART;TZID=Europe/Rome:20260424T041936
DTEND;TZID=Europe/Rome:20260424T041936
DTSTAMP:20260424T041936
CREATED:20131206T131511Z
LAST-MODIFIED:20131206T131511Z
UID:9170-1777004376-1777004376@cronachedibirra.it
SUMMARY:Brutal Truth/Brewtal Truth al Solo Birra di Monza
DESCRIPTION:Essendo un amante di birra ma anche di metal\, non potevo non segnalare l’evento organizzato dal Solo Birra di Monza per domenica 8 dicembre. Ospiti del locale saranno infatti Dan Lilker e Kevin Sharp dei Brutal Truth\, una delle band di metal estremo più importanti al mondo. Sarà una serata di birra e musica\, in cui si potrà ascoltare l’ultima fatica del gruppo (l’album End Time) e chiacchierare con i due musicisti. Sarà inoltre presentato il libro The Brewtal Truth Guide to Extreme Beers\, scritto da Adem Tepedelen e presentato da Kevin (suo collega a Decibel e grande conoscitore di birra). Sarà possibile acquistare il libro\, il merchandise della band e farsi autografare i propri vinili. Altre info sulla pagina Facebook dell’evento.
URL:https://cronachedibirra.it/evento/brutal-truthbrewtal-truth-al-solo-birra-di-monza/
LOCATION:AL
CATEGORIES:Iniziative
END:VEVENT
END:VCALENDAR