BEGIN:VCALENDAR
VERSION:2.0
PRODID:-//Cronache di Birra - ECPv6.15.20//NONSGML v1.0//EN
CALSCALE:GREGORIAN
METHOD:PUBLISH
X-WR-CALNAME:Cronache di Birra
X-ORIGINAL-URL:https://cronachedibirra.it
X-WR-CALDESC:Eventi per Cronache di Birra
REFRESH-INTERVAL;VALUE=DURATION:PT1H
X-Robots-Tag:noindex
X-PUBLISHED-TTL:PT1H
BEGIN:VTIMEZONE
TZID:Europe/Rome
BEGIN:DAYLIGHT
TZOFFSETFROM:+0100
TZOFFSETTO:+0200
TZNAME:CEST
DTSTART:20250330T010000
END:DAYLIGHT
BEGIN:STANDARD
TZOFFSETFROM:+0200
TZOFFSETTO:+0100
TZNAME:CET
DTSTART:20251026T010000
END:STANDARD
BEGIN:DAYLIGHT
TZOFFSETFROM:+0100
TZOFFSETTO:+0200
TZNAME:CEST
DTSTART:20260329T010000
END:DAYLIGHT
BEGIN:STANDARD
TZOFFSETFROM:+0200
TZOFFSETTO:+0100
TZNAME:CET
DTSTART:20261025T010000
END:STANDARD
BEGIN:DAYLIGHT
TZOFFSETFROM:+0100
TZOFFSETTO:+0200
TZNAME:CEST
DTSTART:20270328T010000
END:DAYLIGHT
BEGIN:STANDARD
TZOFFSETFROM:+0200
TZOFFSETTO:+0100
TZNAME:CET
DTSTART:20271031T010000
END:STANDARD
END:VTIMEZONE
BEGIN:VEVENT
DTSTART;TZID=Europe/Rome:20260424T041835
DTEND;TZID=Europe/Rome:20260424T041835
DTSTAMP:20260424T041835
CREATED:20131122T134746Z
LAST-MODIFIED:20131122T134746Z
UID:9062-1777004315-1777004315@cronachedibirra.it
SUMMARY:South Beer Day 2013 a Reggio Calabria
DESCRIPTION:L’attivissimo Malto Gradimento di Reggio Calabria organizza anche quest’anno il South Beer Day\, una cena di degustazione guidata da Kuaska e incentrata su quattro birrifici del Meridione\, in programma martedì 3 dicembre. Stavolta toccherà a Rocca dei Conti (Sicilia)\, Maltovivo (Campania)\, B94 (Puglia) e Calabrewers Birrartigianale (Calabria). Il programma prevede una birra per produttore\, abbinata a una portata. \nL’ultimo birrificio menzionato\, di recentissima apertura\, sarà di scena anche lunedì 2 per presentare la sua Beergamott\, prima creatura del progetto. Per saperne di più vi rimando alla pagina Facebook del locale.
URL:https://cronachedibirra.it/evento/south-beer-day-2013-a-reggio-calabria/
LOCATION:AL
CATEGORIES:Degustazioni,Iniziative
END:VEVENT
END:VCALENDAR