BEGIN:VCALENDAR
VERSION:2.0
PRODID:-//Cronache di Birra - ECPv6.15.20//NONSGML v1.0//EN
CALSCALE:GREGORIAN
METHOD:PUBLISH
X-ORIGINAL-URL:https://cronachedibirra.it
X-WR-CALDESC:Eventi per Cronache di Birra
REFRESH-INTERVAL;VALUE=DURATION:PT1H
X-Robots-Tag:noindex
X-PUBLISHED-TTL:PT1H
BEGIN:VTIMEZONE
TZID:Europe/Rome
BEGIN:DAYLIGHT
TZOFFSETFROM:+0100
TZOFFSETTO:+0200
TZNAME:CEST
DTSTART:20250330T010000
END:DAYLIGHT
BEGIN:STANDARD
TZOFFSETFROM:+0200
TZOFFSETTO:+0100
TZNAME:CET
DTSTART:20251026T010000
END:STANDARD
BEGIN:DAYLIGHT
TZOFFSETFROM:+0100
TZOFFSETTO:+0200
TZNAME:CEST
DTSTART:20260329T010000
END:DAYLIGHT
BEGIN:STANDARD
TZOFFSETFROM:+0200
TZOFFSETTO:+0100
TZNAME:CET
DTSTART:20261025T010000
END:STANDARD
BEGIN:DAYLIGHT
TZOFFSETFROM:+0100
TZOFFSETTO:+0200
TZNAME:CEST
DTSTART:20270328T010000
END:DAYLIGHT
BEGIN:STANDARD
TZOFFSETFROM:+0200
TZOFFSETTO:+0100
TZNAME:CET
DTSTART:20271031T010000
END:STANDARD
END:VTIMEZONE
BEGIN:VEVENT
DTSTART;TZID=Europe/Rome:20260424T041932
DTEND;TZID=Europe/Rome:20260424T041932
DTSTAMP:20260424T041932
CREATED:20131122T131211Z
LAST-MODIFIED:20131122T131211Z
UID:9053-1777004372-1777004372@cronachedibirra.it
SUMMARY:Le Bire de Nadal 2013
DESCRIPTION:Tra i tanti eventi birrari organizzati in prossimità delle festività natalizie è ormai entrato nel novero delle tradizioni quello organizzato dal The Dome di Nembro (BG). Le Bire de Nadal tornerà anche quest’anno da venerdì 29 novembre a domenica 1 dicembre\, con le spine del locale che saranno onorate di ospitare tante kerstbier italiane e straniere (e non solo). Tra le altre troverete Brewdog Hoppy Christmas\, Mikkeller Hoppy Lovin Xmass\, De Struise Tsjeeses Reserva 2010\, Extraomnes/Cantillon Les Trait D’union\, Extraomnes Weltaschaaung\, Brewfist Gruyt\, Bi-du Inverno Nucleare\, Ducato Frambozchella\, Ducato Crisopolis\, Menaresta Roots\, Menaresta Felinozzo\, Baladin Xyauyu Fumé\, Almond 22 Noa Reserva 2010\, Almond 22 Christmas Cru\, Almond 22 Hibernum\, Montegioco Dolii Raptor 2011\, Cantillon Fou Foune\, Dupont Avec Le Bons Voeux\, St Bernardus Christmas\, Bush Noel\, N’ice Chouffe\, Les 3 Fourquets Hibernatus\, Sierra Nevada Celebration. \nOspiti stranieri saranno i birrai Urbain Cotteau di Struise e Davy Spessens di Alvinne. Domenica si terrà la premiazione della tappa del concorso hb di MoBI\, mentre la cucina del The Dome sarà a pieno regime. Se ne volete sapere di più\, potete consultare il sito del locale.
URL:https://cronachedibirra.it/evento/le-bire-de-nadal-2013/
LOCATION:AL
CATEGORIES:Iniziative
END:VEVENT
END:VCALENDAR