BEGIN:VCALENDAR
VERSION:2.0
PRODID:-//Cronache di Birra - ECPv6.15.20//NONSGML v1.0//EN
CALSCALE:GREGORIAN
METHOD:PUBLISH
X-ORIGINAL-URL:https://cronachedibirra.it
X-WR-CALDESC:Eventi per Cronache di Birra
REFRESH-INTERVAL;VALUE=DURATION:PT1H
X-Robots-Tag:noindex
X-PUBLISHED-TTL:PT1H
BEGIN:VTIMEZONE
TZID:Europe/Rome
BEGIN:DAYLIGHT
TZOFFSETFROM:+0100
TZOFFSETTO:+0200
TZNAME:CEST
DTSTART:20250330T010000
END:DAYLIGHT
BEGIN:STANDARD
TZOFFSETFROM:+0200
TZOFFSETTO:+0100
TZNAME:CET
DTSTART:20251026T010000
END:STANDARD
BEGIN:DAYLIGHT
TZOFFSETFROM:+0100
TZOFFSETTO:+0200
TZNAME:CEST
DTSTART:20260329T010000
END:DAYLIGHT
BEGIN:STANDARD
TZOFFSETFROM:+0200
TZOFFSETTO:+0100
TZNAME:CET
DTSTART:20261025T010000
END:STANDARD
BEGIN:DAYLIGHT
TZOFFSETFROM:+0100
TZOFFSETTO:+0200
TZNAME:CEST
DTSTART:20270328T010000
END:DAYLIGHT
BEGIN:STANDARD
TZOFFSETFROM:+0200
TZOFFSETTO:+0100
TZNAME:CET
DTSTART:20271031T010000
END:STANDARD
END:VTIMEZONE
BEGIN:VEVENT
DTSTART;TZID=Europe/Rome:20260424T070128
DTEND;TZID=Europe/Rome:20260424T070128
DTSTAMP:20260424T070128
CREATED:20131025T110302Z
LAST-MODIFIED:20131025T110302Z
UID:8872-1777014088-1777014088@cronachedibirra.it
SUMMARY:I Giorni dell'IPA 2013
DESCRIPTION:Dopo il successo dell’edizione di debutto\, torna anche quest’anno I Giorni dell’IPA\, l’iniziativa ideata da Birra del Borgo per omaggiare lo stile più diffuso in assoluto. L’appuntamento è per sabato 9 novembre\, quando il birrificio di Borgorose\, località Piana di Spedino (RI)\, ospiterà le birre più luppolate del produttore di casa e degli altri ospiti: Toccalmatto\, Opperbacco\, Extraomnes\, Brewfist\, Baladin e (forse) gli inglesi di Camden Town Brewery. La giornata sarà scandita da vari eventi collaterali: cotta pubblica\, degustazione guidata da Giacu\, gastronomia a cura di Taberna\, I Giro Cuochi e Taverna dei Briganti. Tutti i dettagli li trovate sul blog della Birra del Borgo.
URL:https://cronachedibirra.it/evento/i-giorni-dellipa-2013/
LOCATION:AL
CATEGORIES:Iniziative
END:VEVENT
END:VCALENDAR