BEGIN:VCALENDAR
VERSION:2.0
PRODID:-//Cronache di Birra - ECPv6.15.20//NONSGML v1.0//EN
CALSCALE:GREGORIAN
METHOD:PUBLISH
X-WR-CALNAME:Cronache di Birra
X-ORIGINAL-URL:https://cronachedibirra.it
X-WR-CALDESC:Eventi per Cronache di Birra
REFRESH-INTERVAL;VALUE=DURATION:PT1H
X-Robots-Tag:noindex
X-PUBLISHED-TTL:PT1H
BEGIN:VTIMEZONE
TZID:Europe/Rome
BEGIN:DAYLIGHT
TZOFFSETFROM:+0100
TZOFFSETTO:+0200
TZNAME:CEST
DTSTART:20250330T010000
END:DAYLIGHT
BEGIN:STANDARD
TZOFFSETFROM:+0200
TZOFFSETTO:+0100
TZNAME:CET
DTSTART:20251026T010000
END:STANDARD
BEGIN:DAYLIGHT
TZOFFSETFROM:+0100
TZOFFSETTO:+0200
TZNAME:CEST
DTSTART:20260329T010000
END:DAYLIGHT
BEGIN:STANDARD
TZOFFSETFROM:+0200
TZOFFSETTO:+0100
TZNAME:CET
DTSTART:20261025T010000
END:STANDARD
BEGIN:DAYLIGHT
TZOFFSETFROM:+0100
TZOFFSETTO:+0200
TZNAME:CEST
DTSTART:20270328T010000
END:DAYLIGHT
BEGIN:STANDARD
TZOFFSETFROM:+0200
TZOFFSETTO:+0100
TZNAME:CET
DTSTART:20271031T010000
END:STANDARD
END:VTIMEZONE
BEGIN:VEVENT
DTSTART;TZID=Europe/Rome:20260424T065838
DTEND;TZID=Europe/Rome:20260424T065838
DTSTAMP:20260424T065838
CREATED:20131018T111725Z
LAST-MODIFIED:20131018T111725Z
UID:8834-1777013918-1777013918@cronachedibirra.it
SUMMARY:Hallowbeer - Il lato oscuro della Birra
DESCRIPTION:La ricorrenza di Halloween sarà l’occasione per qualche evento a tema\, che ci permetterà di trovare un rifugio birrario da maschere di cattivo gusto e dolcetti o scherzetti. A tal proposito da giovedì 31 ottobre a domenica 3 novembre La Compagnia del Luppolo organizza a San Pellegrino Terme (BG) la manifestazione Hallowbeer -Il lato oscuro della Birra. Si tratta di una rassegna di circa 30 birre scure\, che ruoteranno alla spina e a pompa e saranno accompagnate da diverse proposte gastronomiche. Per i dettagli vi rimando al sito dell’associazione.
URL:https://cronachedibirra.it/evento/hallowbeer-il-lato-oscuro-della-birra/
LOCATION:AL
CATEGORIES:Iniziative
END:VEVENT
END:VCALENDAR