BEGIN:VCALENDAR
VERSION:2.0
PRODID:-//Cronache di Birra - ECPv6.15.20//NONSGML v1.0//EN
CALSCALE:GREGORIAN
METHOD:PUBLISH
X-WR-CALNAME:Cronache di Birra
X-ORIGINAL-URL:https://cronachedibirra.it
X-WR-CALDESC:Eventi per Cronache di Birra
REFRESH-INTERVAL;VALUE=DURATION:PT1H
X-Robots-Tag:noindex
X-PUBLISHED-TTL:PT1H
BEGIN:VTIMEZONE
TZID:Europe/Rome
BEGIN:DAYLIGHT
TZOFFSETFROM:+0100
TZOFFSETTO:+0200
TZNAME:CEST
DTSTART:20250330T010000
END:DAYLIGHT
BEGIN:STANDARD
TZOFFSETFROM:+0200
TZOFFSETTO:+0100
TZNAME:CET
DTSTART:20251026T010000
END:STANDARD
BEGIN:DAYLIGHT
TZOFFSETFROM:+0100
TZOFFSETTO:+0200
TZNAME:CEST
DTSTART:20260329T010000
END:DAYLIGHT
BEGIN:STANDARD
TZOFFSETFROM:+0200
TZOFFSETTO:+0100
TZNAME:CET
DTSTART:20261025T010000
END:STANDARD
BEGIN:DAYLIGHT
TZOFFSETFROM:+0100
TZOFFSETTO:+0200
TZNAME:CEST
DTSTART:20270328T010000
END:DAYLIGHT
BEGIN:STANDARD
TZOFFSETFROM:+0200
TZOFFSETTO:+0100
TZNAME:CET
DTSTART:20271031T010000
END:STANDARD
END:VTIMEZONE
BEGIN:VEVENT
DTSTART;TZID=Europe/Rome:20260424T085740
DTEND;TZID=Europe/Rome:20260424T085740
DTSTAMP:20260424T085740
CREATED:20130920T103400Z
LAST-MODIFIED:20130920T113901Z
UID:8586-1777021060-1777021060@cronachedibirra.it
SUMMARY:Oktoberfest 2013 della Valle dell'Aniene
DESCRIPTION:Tra i tanti pseudo-Oktoberfest italiani segnalo quello organizzato a Tivoli Terme (RM) dal Golden Pot e Il Casale. Inizia questa sera e si protrarrà fino a domenica 6 ottobre\, proprio in contemporanea con l’originale bavarese. Le birre spillate saranno quelle dell’Hofbrau (HB)\, insieme a quelle delle altre “cinque sorelle”\, che andranno a rotazione. Poi nel corso della manifestazione faranno visita diversi amici del Golden Pot\, che porteranno con sé birre artigianali in stile tedesco: ad esempio la ReAlt di Birra del Borgo\, la Quinn di Turbacci\, ecc. Grande chiusura il 6 ottobre\, quando le vie alla spina si moltiplicheranno grazie al supporto dei locali Union Pub: ci sarà una grande selezione di birre tedesche selezionate da Manuele Colonna. Per tutti i dettagli potete consultare la pagina web dell’iniziativa.
URL:https://cronachedibirra.it/evento/oktoberfest-2013-del-golden-pot/
LOCATION:AL
CATEGORIES:Iniziative
END:VEVENT
BEGIN:VEVENT
DTSTART;TZID=Europe/Rome:20260424T085740
DTEND;TZID=Europe/Rome:20260424T085740
DTSTAMP:20260424T085740
CREATED:20130920T110426Z
LAST-MODIFIED:20130920T110426Z
UID:8589-1777021060-1777021060@cronachedibirra.it
SUMMARY:Oktoberfest al King Arthur + Birra Stavio
DESCRIPTION:Anche il King Arthur di Ciampino (RM) festeggia l’Oktoberfest a modo suo\, dedicando alla ricorrenza bavarese un evento in programma da sabato 21 a domenica 6 ottobre. Oltre ai piatti tipici della tradizione tedesca (leberkase\, stinchi\, currybockwurst\, strudel\, ecc.)\, la spina dedicata ospiterà a rotazione le migliori produzioni italiane e tedesche tra Pils\, Helles\, Kölsch\, Marzen\, ecc. con nomi del calibro di Maxlrainer\, Lambrate\, Mahrs\, Ducato\, Birrificio Italiano e molti altri. Domenica 6 saranno invece ospiti i ragazzi di Birra Stavio\, per una serata dedicata alle loro birre. Tutti i dettagli sulla pagina Facebook dell’iniziativa.
URL:https://cronachedibirra.it/evento/oktoberfest-al-king-arthur-birra-stavio/
LOCATION:AL
CATEGORIES:Degustazioni,Iniziative
END:VEVENT
BEGIN:VEVENT
DTSTART;TZID=Europe/Rome:20260424T085740
DTEND;TZID=Europe/Rome:20260424T085740
DTSTAMP:20260424T085740
CREATED:20130924T072333Z
LAST-MODIFIED:20130927T104846Z
UID:8620-1777021060-1777021060@cronachedibirra.it
SUMMARY:Porkoberfest 2013
DESCRIPTION:Anche quest’anno la birreria Il Porco di Corbetta (MI) festeggia la fine dell’estate con il suo Porkoberfest\, in programma da oggi fino a domenica 29 settembre. Le 24 spine del locale ospiteranno le produzioni di 6 diversi birrifici italiani: Bi-Du\, Orso Verde\, Lambrate\, Menaresta\, Extraomnes e Rurale. L’iniziativa\, che si terrà anche in caso di maltempo (facendo gli scongiuri)\, proporrà anche musica dal vivo e grigliata e altre prelibatezze della cucina. Per saperne di più vi rimando al sito web de Il Porco.
URL:https://cronachedibirra.it/evento/porkoberfest-2013/
LOCATION:AL
CATEGORIES:Iniziative
END:VEVENT
BEGIN:VEVENT
DTSTART;TZID=Europe/Rome:20260424T085740
DTEND;TZID=Europe/Rome:20260424T085740
DTSTAMP:20260424T085740
CREATED:20130927T105911Z
LAST-MODIFIED:20130927T105911Z
UID:8659-1777021060-1777021060@cronachedibirra.it
SUMMARY:Quarto compleanno dell'Open Baladin Roma
DESCRIPTION:Sono già passati quattro anni dall’apertura dell’Open Baladin a Roma… Riflessioni da anziano a parte\, sabato 28 settembre il locale festeggerà la ricorrenza con la solita grande festa. Per l’occasione alla spina saranno presenti alcune chicche molto interessanti\, come la Reale Extra con il nuovo dry hopping e l’Aboriginal IPA (nome provvisorio) di Birra del Borgo\, Carsent di Montegioco\, Don Zaucker di Stavio\, Stardust di Maltovivo\, Stille Nacht 2012 di De Dolle (eh sì\, ci sentiremo come a Natale)\, Redor Pils di Dupont\, Krausen di Schlenkerla e altre sorprese. La lista finale è presente sulla pagina Facebook dell’Open. Poi immagino che ci sarà musica dal vivo come gli scorsi anni e la solita ottima cucina del locale. Ci vediamo lì.
URL:https://cronachedibirra.it/evento/quarto-compleanno-dellopen-baladin-roma/
LOCATION:AL
CATEGORIES:Iniziative
END:VEVENT
END:VCALENDAR