BEGIN:VCALENDAR
VERSION:2.0
PRODID:-//Cronache di Birra - ECPv6.15.20//NONSGML v1.0//EN
CALSCALE:GREGORIAN
METHOD:PUBLISH
X-WR-CALNAME:Cronache di Birra
X-ORIGINAL-URL:https://cronachedibirra.it
X-WR-CALDESC:Eventi per Cronache di Birra
REFRESH-INTERVAL;VALUE=DURATION:PT1H
X-Robots-Tag:noindex
X-PUBLISHED-TTL:PT1H
BEGIN:VTIMEZONE
TZID:Europe/Rome
BEGIN:DAYLIGHT
TZOFFSETFROM:+0100
TZOFFSETTO:+0200
TZNAME:CEST
DTSTART:20250330T010000
END:DAYLIGHT
BEGIN:STANDARD
TZOFFSETFROM:+0200
TZOFFSETTO:+0100
TZNAME:CET
DTSTART:20251026T010000
END:STANDARD
BEGIN:DAYLIGHT
TZOFFSETFROM:+0100
TZOFFSETTO:+0200
TZNAME:CEST
DTSTART:20260329T010000
END:DAYLIGHT
BEGIN:STANDARD
TZOFFSETFROM:+0200
TZOFFSETTO:+0100
TZNAME:CET
DTSTART:20261025T010000
END:STANDARD
BEGIN:DAYLIGHT
TZOFFSETFROM:+0100
TZOFFSETTO:+0200
TZNAME:CEST
DTSTART:20270328T010000
END:DAYLIGHT
BEGIN:STANDARD
TZOFFSETFROM:+0200
TZOFFSETTO:+0100
TZNAME:CET
DTSTART:20271031T010000
END:STANDARD
END:VTIMEZONE
BEGIN:VEVENT
DTSTART;TZID=Europe/Rome:20260424T085741
DTEND;TZID=Europe/Rome:20260424T085741
DTSTAMP:20260424T085741
CREATED:20130830T110346Z
LAST-MODIFIED:20130830T110346Z
UID:8483-1777021061-1777021061@cronachedibirra.it
SUMMARY:L'ultima spiaggia a Ostia
DESCRIPTION:Come il nome suggerisce\, si terrà in spiaggia l’evento capitolino che vede riuniti sei pub storici di Roma\, da anni in prima fila nella diffusione del verbo artigianale. L’iniziativa si terrà sabato 7 settembre presso lo stabilimento Il Capanno di Ostia e ogni locale sarà presente con due birre ognuno. I pub coinvolti sono Ma che siete venuti a fà\, Mastro Titta\, Le Bon Bock\, Il Serpente\, Birrifugio e Treefolk’s. Chi frequenta da anni la scena romana sarà commosso nel vederli insieme in un solo evento. Ovviamente ci sarà un angolo gastronomico\, mentre per i dettagli vi rimando alla pagina Facebook dell’evento.
URL:https://cronachedibirra.it/evento/lultima-spiaggia-a-ostia/
LOCATION:AL
CATEGORIES:Iniziative
END:VEVENT
END:VCALENDAR