BEGIN:VCALENDAR
VERSION:2.0
PRODID:-//Cronache di Birra - ECPv6.15.20//NONSGML v1.0//EN
CALSCALE:GREGORIAN
METHOD:PUBLISH
X-WR-CALNAME:Cronache di Birra
X-ORIGINAL-URL:https://cronachedibirra.it
X-WR-CALDESC:Eventi per Cronache di Birra
REFRESH-INTERVAL;VALUE=DURATION:PT1H
X-Robots-Tag:noindex
X-PUBLISHED-TTL:PT1H
BEGIN:VTIMEZONE
TZID:Europe/Rome
BEGIN:DAYLIGHT
TZOFFSETFROM:+0100
TZOFFSETTO:+0200
TZNAME:CEST
DTSTART:20250330T010000
END:DAYLIGHT
BEGIN:STANDARD
TZOFFSETFROM:+0200
TZOFFSETTO:+0100
TZNAME:CET
DTSTART:20251026T010000
END:STANDARD
BEGIN:DAYLIGHT
TZOFFSETFROM:+0100
TZOFFSETTO:+0200
TZNAME:CEST
DTSTART:20260329T010000
END:DAYLIGHT
BEGIN:STANDARD
TZOFFSETFROM:+0200
TZOFFSETTO:+0100
TZNAME:CET
DTSTART:20261025T010000
END:STANDARD
BEGIN:DAYLIGHT
TZOFFSETFROM:+0100
TZOFFSETTO:+0200
TZNAME:CEST
DTSTART:20270328T010000
END:DAYLIGHT
BEGIN:STANDARD
TZOFFSETFROM:+0200
TZOFFSETTO:+0100
TZNAME:CET
DTSTART:20271031T010000
END:STANDARD
END:VTIMEZONE
BEGIN:VEVENT
DTSTART;TZID=Europe/Rome:20260424T115315
DTEND;TZID=Europe/Rome:20260424T115315
DTSTAMP:20260424T115315
CREATED:20130704T111337Z
LAST-MODIFIED:20130704T111337Z
UID:8168-1777031595-1777031595@cronachedibirra.it
SUMMARY:Beer for Summertime
DESCRIPTION:Il Pikkio di Fiano Romano (RM) organizza Beer for Summertime\, una due giorni (venerdì 12 e sabato 13 luglio) dedicata alle birre artigianali. Saranno disponibili i prodotti di Turan\, Birradamare\, L’Olmaia\, Castelli Romani\, Itineris\, Cerevisia Vetus\, Kashmir con alcuni dei rispettivi birrai. Ci sarà anche un banco del Domus Birrae con Brewfist e Rurale. Sabato pomeriggio Marco Meneghin effettuerà una cotta pubblica\, mentre venerdì Paolo Mazzola e Orazio Laudi condurranno un laboratorio su IPA e APA. Per i dettagli consultate il blog del Pikkio.
URL:https://cronachedibirra.it/evento/beer-for-summertime/
LOCATION:AL
CATEGORIES:Iniziative
END:VEVENT
END:VCALENDAR