BEGIN:VCALENDAR
VERSION:2.0
PRODID:-//Cronache di Birra - ECPv6.15.20//NONSGML v1.0//EN
CALSCALE:GREGORIAN
METHOD:PUBLISH
X-WR-CALNAME:Cronache di Birra
X-ORIGINAL-URL:https://cronachedibirra.it
X-WR-CALDESC:Eventi per Cronache di Birra
REFRESH-INTERVAL;VALUE=DURATION:PT1H
X-Robots-Tag:noindex
X-PUBLISHED-TTL:PT1H
BEGIN:VTIMEZONE
TZID:Europe/Rome
BEGIN:DAYLIGHT
TZOFFSETFROM:+0100
TZOFFSETTO:+0200
TZNAME:CEST
DTSTART:20250330T010000
END:DAYLIGHT
BEGIN:STANDARD
TZOFFSETFROM:+0200
TZOFFSETTO:+0100
TZNAME:CET
DTSTART:20251026T010000
END:STANDARD
BEGIN:DAYLIGHT
TZOFFSETFROM:+0100
TZOFFSETTO:+0200
TZNAME:CEST
DTSTART:20260329T010000
END:DAYLIGHT
BEGIN:STANDARD
TZOFFSETFROM:+0200
TZOFFSETTO:+0100
TZNAME:CET
DTSTART:20261025T010000
END:STANDARD
BEGIN:DAYLIGHT
TZOFFSETFROM:+0100
TZOFFSETTO:+0200
TZNAME:CEST
DTSTART:20270328T010000
END:DAYLIGHT
BEGIN:STANDARD
TZOFFSETFROM:+0200
TZOFFSETTO:+0100
TZNAME:CET
DTSTART:20271031T010000
END:STANDARD
END:VTIMEZONE
BEGIN:VEVENT
DTSTART;TZID=Europe/Rome:20260424T143014
DTEND;TZID=Europe/Rome:20260424T143014
DTSTAMP:20260424T143014
CREATED:20130621T110644Z
LAST-MODIFIED:20130621T110644Z
UID:8039-1777041014-1777041014@cronachedibirra.it
SUMMARY:10 anni di Troll
DESCRIPTION:Grandi festeggiamenti in quel di Vernante (CN) per la doppia meta raggiunta dal Troll: la bellezza di 10 anni di attività del birrificio e addirittura 30 della birreria. Le celebrazioni andranno avanti per tre giorni\, da venerdì 28 a domenica 30 giugno\, con le birre del Troll e altre 10 produzioni ospiti. Il tutto sarà accompagnato dalla mitica grigliata del locale e da una marea di musica dal vivo\, di tutti gli stili. Lunghissimo l’elenco dei birrifici ospiti: Baladin\, Bi-Du\, Birra del Borgo\, Lambrate\, Scarampola\, Grado Plato\, Maltus Faber\, Birrificio del Forte\, Montegioco\, Opperbacco\, Mostodolce\, Orso Verde\, Olmaia\, Trunasse\, Citabiunda\, Birrificio Italiano\, Beba e Stavio.
URL:https://cronachedibirra.it/evento/10-anni-di-troll/
LOCATION:AL
CATEGORIES:Iniziative
END:VEVENT
END:VCALENDAR