BEGIN:VCALENDAR
VERSION:2.0
PRODID:-//Cronache di Birra - ECPv6.15.20//NONSGML v1.0//EN
CALSCALE:GREGORIAN
METHOD:PUBLISH
X-ORIGINAL-URL:https://cronachedibirra.it
X-WR-CALDESC:Eventi per Cronache di Birra
REFRESH-INTERVAL;VALUE=DURATION:PT1H
X-Robots-Tag:noindex
X-PUBLISHED-TTL:PT1H
BEGIN:VTIMEZONE
TZID:Europe/Rome
BEGIN:DAYLIGHT
TZOFFSETFROM:+0100
TZOFFSETTO:+0200
TZNAME:CEST
DTSTART:20250330T010000
END:DAYLIGHT
BEGIN:STANDARD
TZOFFSETFROM:+0200
TZOFFSETTO:+0100
TZNAME:CET
DTSTART:20251026T010000
END:STANDARD
BEGIN:DAYLIGHT
TZOFFSETFROM:+0100
TZOFFSETTO:+0200
TZNAME:CEST
DTSTART:20260329T010000
END:DAYLIGHT
BEGIN:STANDARD
TZOFFSETFROM:+0200
TZOFFSETTO:+0100
TZNAME:CET
DTSTART:20261025T010000
END:STANDARD
BEGIN:DAYLIGHT
TZOFFSETFROM:+0100
TZOFFSETTO:+0200
TZNAME:CEST
DTSTART:20270328T010000
END:DAYLIGHT
BEGIN:STANDARD
TZOFFSETFROM:+0200
TZOFFSETTO:+0100
TZNAME:CET
DTSTART:20271031T010000
END:STANDARD
END:VTIMEZONE
BEGIN:VEVENT
DTSTART;TZID=Europe/Rome:20260424T131955
DTEND;TZID=Europe/Rome:20260424T131955
DTSTAMP:20260424T131955
CREATED:20130607T113655Z
LAST-MODIFIED:20130607T113655Z
UID:7959-1777036795-1777036795@cronachedibirra.it
SUMMARY:Liberitutti! per il primo anno de La Fucina
DESCRIPTION:Il birrificio La Fucina compie un anno e lo festeggia domenica 9 giugno con una grande festa in piazza a Isernia. Oltre alle birre della casa ci sarà un pranzo con lo chef Gaetano Minervini (L’Affresco)\, una cotta pubblica\, la musica popolare degli Alberi Sonori\, i giochi della tradizione molisana. Inoltre ci sarà il contributo delle associazioni Birrando si impara e Slow Food. Last but not least\, sarà presentata l’ultima creazione del birrificio\, la Liberitutti. Dettagli aggiuntivi sulla pagina Facebook dell’evento.
URL:https://cronachedibirra.it/evento/liberitutti-per-il-primo-anno-de-la-fucina/
LOCATION:AL
CATEGORIES:Iniziative
END:VEVENT
END:VCALENDAR