BEGIN:VCALENDAR
VERSION:2.0
PRODID:-//Cronache di Birra - ECPv6.15.20//NONSGML v1.0//EN
CALSCALE:GREGORIAN
METHOD:PUBLISH
X-ORIGINAL-URL:https://cronachedibirra.it
X-WR-CALDESC:Eventi per Cronache di Birra
REFRESH-INTERVAL;VALUE=DURATION:PT1H
X-Robots-Tag:noindex
X-PUBLISHED-TTL:PT1H
BEGIN:VTIMEZONE
TZID:Europe/Rome
BEGIN:DAYLIGHT
TZOFFSETFROM:+0100
TZOFFSETTO:+0200
TZNAME:CEST
DTSTART:20250330T010000
END:DAYLIGHT
BEGIN:STANDARD
TZOFFSETFROM:+0200
TZOFFSETTO:+0100
TZNAME:CET
DTSTART:20251026T010000
END:STANDARD
BEGIN:DAYLIGHT
TZOFFSETFROM:+0100
TZOFFSETTO:+0200
TZNAME:CEST
DTSTART:20260329T010000
END:DAYLIGHT
BEGIN:STANDARD
TZOFFSETFROM:+0200
TZOFFSETTO:+0100
TZNAME:CET
DTSTART:20261025T010000
END:STANDARD
BEGIN:DAYLIGHT
TZOFFSETFROM:+0100
TZOFFSETTO:+0200
TZNAME:CEST
DTSTART:20270328T010000
END:DAYLIGHT
BEGIN:STANDARD
TZOFFSETFROM:+0200
TZOFFSETTO:+0100
TZNAME:CET
DTSTART:20271031T010000
END:STANDARD
END:VTIMEZONE
BEGIN:VEVENT
DTSTART;TZID=Europe/Rome:20260424T143533
DTEND;TZID=Europe/Rome:20260424T143533
DTSTAMP:20260424T143533
CREATED:20130531T105737Z
LAST-MODIFIED:20130531T105737Z
UID:7903-1777041333-1777041333@cronachedibirra.it
SUMMARY:Hi\, my name is Brett
DESCRIPTION:Una volta le birre acide rappresentavano produzioni leggendarie bevute solo da pochi mentecatti 🙂 \, oggi invece esiste un’ampia base di estimatori. Per questa ragione si stanno moltiplicando gli eventi completamente dedicati a queste produzioni\, sempre molto interessanti. L’ultimo in ordine di tempo è Hi\, my name is Brett\, in programma presso il The Dome di Nembro (BG) sabato 1 giugno. Ovviamente protagoniste saranno solo birre acide\, provenienti da birrifici italiani e stranieri: Cantillon\, BFM\, Montegioco\, De Struise\, Baladin\, Loverbeer\, Menaresta\, Bayerischer Banhof\, Ducato\, Black Barrel. Insomma\, per gli amanti di queste creazioni c’è solo l’imbarazzo della scelta (e il consiglio di armarsi di bicarbonato 🙂 ).
URL:https://cronachedibirra.it/evento/hi-my-name-is-brett/
LOCATION:AL
CATEGORIES:Iniziative
END:VEVENT
END:VCALENDAR