BEGIN:VCALENDAR
VERSION:2.0
PRODID:-//Cronache di Birra - ECPv6.15.20//NONSGML v1.0//EN
CALSCALE:GREGORIAN
METHOD:PUBLISH
X-ORIGINAL-URL:https://cronachedibirra.it
X-WR-CALDESC:Eventi per Cronache di Birra
REFRESH-INTERVAL;VALUE=DURATION:PT1H
X-Robots-Tag:noindex
X-PUBLISHED-TTL:PT1H
BEGIN:VTIMEZONE
TZID:Europe/Rome
BEGIN:DAYLIGHT
TZOFFSETFROM:+0100
TZOFFSETTO:+0200
TZNAME:CEST
DTSTART:20250330T010000
END:DAYLIGHT
BEGIN:STANDARD
TZOFFSETFROM:+0200
TZOFFSETTO:+0100
TZNAME:CET
DTSTART:20251026T010000
END:STANDARD
BEGIN:DAYLIGHT
TZOFFSETFROM:+0100
TZOFFSETTO:+0200
TZNAME:CEST
DTSTART:20260329T010000
END:DAYLIGHT
BEGIN:STANDARD
TZOFFSETFROM:+0200
TZOFFSETTO:+0100
TZNAME:CET
DTSTART:20261025T010000
END:STANDARD
BEGIN:DAYLIGHT
TZOFFSETFROM:+0100
TZOFFSETTO:+0200
TZNAME:CEST
DTSTART:20270328T010000
END:DAYLIGHT
BEGIN:STANDARD
TZOFFSETFROM:+0200
TZOFFSETTO:+0100
TZNAME:CET
DTSTART:20271031T010000
END:STANDARD
END:VTIMEZONE
BEGIN:VEVENT
DTSTART;TZID=Europe/Rome:20260424T201215
DTEND;TZID=Europe/Rome:20260424T201215
DTSTAMP:20260424T201215
CREATED:20130503T112121Z
LAST-MODIFIED:20130503T112121Z
UID:7680-1777061535-1777061535@cronachedibirra.it
SUMMARY:Un Po di Birra - Atto VII
DESCRIPTION:L’ormai storica gita birraria sul Po organizzata dal Circolo del Luppolo e Alta Fermentazione quest’anno è prevista per domenica 19 maggio. La Motonave Stradivari partirà da Boretto (RE) agli ordini del comandante Kuaska e con un carico di birra artigianale. Saranno presenti i birrifici Black Barrell\, Emiliano\, Birrificio del Forte\, Bi-Du\, Orso Verde\, Manerba\, Endorama\, Brewfist\, Ducato\, Maltus Faber\, Montegioco\, Elav e probabilmente qualche altro che mi è sfuggito. \nNon mancherà un pranzo a tema con degustazione guidata da Kuaska e la musica dal vivo dei Simpsong. Ulteriori informazioni sul sito del Circolo del Luppolo.
URL:https://cronachedibirra.it/evento/un-po-di-birra-atto-vii/
CATEGORIES:Iniziative
END:VEVENT
END:VCALENDAR