BEGIN:VCALENDAR
VERSION:2.0
PRODID:-//Cronache di Birra - ECPv6.15.20//NONSGML v1.0//EN
CALSCALE:GREGORIAN
METHOD:PUBLISH
X-ORIGINAL-URL:https://cronachedibirra.it
X-WR-CALDESC:Eventi per Cronache di Birra
REFRESH-INTERVAL;VALUE=DURATION:PT1H
X-Robots-Tag:noindex
X-PUBLISHED-TTL:PT1H
BEGIN:VTIMEZONE
TZID:Europe/Rome
BEGIN:DAYLIGHT
TZOFFSETFROM:+0100
TZOFFSETTO:+0200
TZNAME:CEST
DTSTART:20250330T010000
END:DAYLIGHT
BEGIN:STANDARD
TZOFFSETFROM:+0200
TZOFFSETTO:+0100
TZNAME:CET
DTSTART:20251026T010000
END:STANDARD
BEGIN:DAYLIGHT
TZOFFSETFROM:+0100
TZOFFSETTO:+0200
TZNAME:CEST
DTSTART:20260329T010000
END:DAYLIGHT
BEGIN:STANDARD
TZOFFSETFROM:+0200
TZOFFSETTO:+0100
TZNAME:CET
DTSTART:20261025T010000
END:STANDARD
BEGIN:DAYLIGHT
TZOFFSETFROM:+0100
TZOFFSETTO:+0200
TZNAME:CEST
DTSTART:20270328T010000
END:DAYLIGHT
BEGIN:STANDARD
TZOFFSETFROM:+0200
TZOFFSETTO:+0100
TZNAME:CET
DTSTART:20271031T010000
END:STANDARD
END:VTIMEZONE
BEGIN:VEVENT
DTSTART;TZID=Europe/Rome:20260424T142643
DTEND;TZID=Europe/Rome:20260424T142643
DTSTAMP:20260424T142643
CREATED:20130419T112210Z
LAST-MODIFIED:20130419T112251Z
UID:7601-1777040803-1777040803@cronachedibirra.it
SUMMARY:Arrogant Sour Festival
DESCRIPTION:Questa volta l’Arrogant Pub di Reggio Emilia ha organizzato un festival davvero fuori di testa\, completamente dedicato alle birre acide. E lo ha fatto in grande\, con la bellezza di 40 produzioni alla spina\, provenienti da birrifici come Cantillon\, BFM\, Montegioco\, Stavio\, Menaresta\, Loverbeer\, Tilquin\, De Ranke\, Rodenbach\, Freigeist\, Bayerischer Banhof\, Ducato e altri. A spillare ci sarà non solo l’ospite di casa\, Alle\, ma anche altri tre grandissmi publican italiani: Michele Galati (The Dome)\, Manuele Colonna (Macche)\, Nino Maiorano (Sherwood). Non mancheranno tanti birrai italiani e stranieri. Dimenticavo\, l’evento è in programma mercoledì 1 maggio. Ulteriori informazioni sulla pagina dell’evento Facebook.
URL:https://cronachedibirra.it/evento/arrogant-sour-festival/
LOCATION:AL
CATEGORIES:Iniziative
END:VEVENT
END:VCALENDAR