BEGIN:VCALENDAR
VERSION:2.0
PRODID:-//Cronache di Birra - ECPv6.15.20//NONSGML v1.0//EN
CALSCALE:GREGORIAN
METHOD:PUBLISH
X-WR-CALNAME:Cronache di Birra
X-ORIGINAL-URL:https://cronachedibirra.it
X-WR-CALDESC:Eventi per Cronache di Birra
REFRESH-INTERVAL;VALUE=DURATION:PT1H
X-Robots-Tag:noindex
X-PUBLISHED-TTL:PT1H
BEGIN:VTIMEZONE
TZID:Europe/Rome
BEGIN:DAYLIGHT
TZOFFSETFROM:+0100
TZOFFSETTO:+0200
TZNAME:CEST
DTSTART:20250330T010000
END:DAYLIGHT
BEGIN:STANDARD
TZOFFSETFROM:+0200
TZOFFSETTO:+0100
TZNAME:CET
DTSTART:20251026T010000
END:STANDARD
BEGIN:DAYLIGHT
TZOFFSETFROM:+0100
TZOFFSETTO:+0200
TZNAME:CEST
DTSTART:20260329T010000
END:DAYLIGHT
BEGIN:STANDARD
TZOFFSETFROM:+0200
TZOFFSETTO:+0100
TZNAME:CET
DTSTART:20261025T010000
END:STANDARD
BEGIN:DAYLIGHT
TZOFFSETFROM:+0100
TZOFFSETTO:+0200
TZNAME:CEST
DTSTART:20270328T010000
END:DAYLIGHT
BEGIN:STANDARD
TZOFFSETFROM:+0200
TZOFFSETTO:+0100
TZNAME:CET
DTSTART:20271031T010000
END:STANDARD
END:VTIMEZONE
BEGIN:VEVENT
DTSTART;TZID=Europe/Rome:20260424T201007
DTEND;TZID=Europe/Rome:20260424T201007
DTSTAMP:20260424T201007
CREATED:20130412T113119Z
LAST-MODIFIED:20130412T113119Z
UID:7543-1777061407-1777061407@cronachedibirra.it
SUMMARY:Evento Chimay Dorée in Italia
DESCRIPTION:Anche se non siete grandi appassionati di birra sicuramente avrete incrociato qualche birra di Chimay\, il più diffuso tra tutti i birrifici trappisti. In beershop\, enoteche e addirittura supermercati non è difficile imbattersi nelle Chimay Rossa e Blu\, talvolta anche nella Triple. È invece una rarità assoluta la Dorée\, la versione prodotta per il consumo interno del monastero che\, come da tradizione per i birrifici trappisti\, solitamente è disponibile solo in loco. Ebbene nei prossimi giorni la Dorée sbarcherà in Italia in quantità limitata\, sia alla spina che in bottiglie da 33 cl. Insieme all’Inghilterra\, l’Italia sarà la sola nazione al mondo dove faranno capolino i fusti di questa birra\, in 50 locali selezionati. \nPer l’occasione\, martedì 23 aprile alle 19\,00 saranno attaccati contemporaneamente o fusti di Chimay Dorée nei 50 locali italiani\, di cui al momento posso riportarvi un elenco parziale (che aggiornerò nelle prossime ore): Thomasbrau – Garlasco PV\, Einmass- Montello – BG\, Il Cetra – Cittadella PD\, Officina Gambrinus Trento\, Gos – Ronsecco VC\, Good Devil Pub – Villorba TV\, King&Arms – Pordenone\, Il Fondo – Recco GE\, Mastro Titta – Roma\, Gregory’s inn – Roma\, Piccola Abbazzia – Roma\, Torquemada – Genzano di Roma RM\, Cult Room – Aprilia LT\, The Bentley – Ferentino FR. \nPoi a giugno a Roma si terrà una presentazione ufficiale\, di cui vi farò sapere i dettagli. Allo scorso Selezione Birra la Dorée fu in grado di commuovermi\, perciò non vedo l’ora di assaggiarla in questa nuova occasione.
URL:https://cronachedibirra.it/evento/evento-chimay-doree-in-italia/
CATEGORIES:Iniziative
END:VEVENT
END:VCALENDAR