BEGIN:VCALENDAR
VERSION:2.0
PRODID:-//Cronache di Birra - ECPv6.15.20//NONSGML v1.0//EN
CALSCALE:GREGORIAN
METHOD:PUBLISH
X-WR-CALNAME:Cronache di Birra
X-ORIGINAL-URL:https://cronachedibirra.it
X-WR-CALDESC:Eventi per Cronache di Birra
REFRESH-INTERVAL;VALUE=DURATION:PT1H
X-Robots-Tag:noindex
X-PUBLISHED-TTL:PT1H
BEGIN:VTIMEZONE
TZID:Europe/Rome
BEGIN:DAYLIGHT
TZOFFSETFROM:+0100
TZOFFSETTO:+0200
TZNAME:CEST
DTSTART:20250330T010000
END:DAYLIGHT
BEGIN:STANDARD
TZOFFSETFROM:+0200
TZOFFSETTO:+0100
TZNAME:CET
DTSTART:20251026T010000
END:STANDARD
BEGIN:DAYLIGHT
TZOFFSETFROM:+0100
TZOFFSETTO:+0200
TZNAME:CEST
DTSTART:20260329T010000
END:DAYLIGHT
BEGIN:STANDARD
TZOFFSETFROM:+0200
TZOFFSETTO:+0100
TZNAME:CET
DTSTART:20261025T010000
END:STANDARD
BEGIN:DAYLIGHT
TZOFFSETFROM:+0100
TZOFFSETTO:+0200
TZNAME:CEST
DTSTART:20270328T010000
END:DAYLIGHT
BEGIN:STANDARD
TZOFFSETFROM:+0200
TZOFFSETTO:+0100
TZNAME:CET
DTSTART:20271031T010000
END:STANDARD
END:VTIMEZONE
BEGIN:VEVENT
DTSTART;TZID=Europe/Rome:20260424T173724
DTEND;TZID=Europe/Rome:20260424T173724
DTSTAMP:20260424T173724
CREATED:20130412T111453Z
LAST-MODIFIED:20130412T111453Z
UID:7541-1777052244-1777052244@cronachedibirra.it
SUMMARY:Loverbeer mon amour al King Arthur
DESCRIPTION:Le birre del birrificio Loverbeer e il suo birraio\, Valter Loverier\, saranno protagoniste domenica 21 aprile di una serata organizzata dal pub King Arthur di Ciampino (RM). La lineup delle spine sarà composta da Madamin\, Dama Bruna\, D’Uvabeer\, Beerbera e Papessa. La cucina del locale proporrà un menu abbinato alle birre\, con portate che ognuno sarà libero di scegliere se associare o meno alle birre. Per i dettagli vi rimando alla pagina Facebook dell’evento. \n\n\nSunday\, April 21
URL:https://cronachedibirra.it/evento/loverbeer-mon-amour-al-king-arthur/
CATEGORIES:Iniziative
END:VEVENT
END:VCALENDAR