BEGIN:VCALENDAR
VERSION:2.0
PRODID:-//Cronache di Birra - ECPv6.15.20//NONSGML v1.0//EN
CALSCALE:GREGORIAN
METHOD:PUBLISH
X-WR-CALNAME:Cronache di Birra
X-ORIGINAL-URL:https://cronachedibirra.it
X-WR-CALDESC:Eventi per Cronache di Birra
REFRESH-INTERVAL;VALUE=DURATION:PT1H
X-Robots-Tag:noindex
X-PUBLISHED-TTL:PT1H
BEGIN:VTIMEZONE
TZID:Europe/Rome
BEGIN:DAYLIGHT
TZOFFSETFROM:+0100
TZOFFSETTO:+0200
TZNAME:CEST
DTSTART:20250330T010000
END:DAYLIGHT
BEGIN:STANDARD
TZOFFSETFROM:+0200
TZOFFSETTO:+0100
TZNAME:CET
DTSTART:20251026T010000
END:STANDARD
BEGIN:DAYLIGHT
TZOFFSETFROM:+0100
TZOFFSETTO:+0200
TZNAME:CEST
DTSTART:20260329T010000
END:DAYLIGHT
BEGIN:STANDARD
TZOFFSETFROM:+0200
TZOFFSETTO:+0100
TZNAME:CET
DTSTART:20261025T010000
END:STANDARD
BEGIN:DAYLIGHT
TZOFFSETFROM:+0100
TZOFFSETTO:+0200
TZNAME:CEST
DTSTART:20270328T010000
END:DAYLIGHT
BEGIN:STANDARD
TZOFFSETFROM:+0200
TZOFFSETTO:+0100
TZNAME:CET
DTSTART:20271031T010000
END:STANDARD
END:VTIMEZONE
BEGIN:VEVENT
DTSTART;TZID=Europe/Rome:20260424T212836
DTEND;TZID=Europe/Rome:20260424T212836
DTSTAMP:20260424T212836
CREATED:20130419T105613Z
LAST-MODIFIED:20130419T105613Z
UID:7593-1777066116-1777066116@cronachedibirra.it
SUMMARY:Presentazione Birrificio Settimo a Roma
DESCRIPTION:Come annunciato recentemente\, sabato 20 aprile il rinnovato Birrificio Settimo (ex Siebter Himmel) sbarca a Roma: a partire da sabato 20 aprile le sue birre (e il birraio Nicola Grande) saranno presenti in una serie di pub capitolini. L’elenco dei locali che aderiscono all’iniziativa è la seguente: Blind Pig\, Grandma Bistrot\, Hop & Pork Quadraro\, Hop & Pork Cinecittà\, Kombeer\, Mad For Beer\, Red Fox. Per ulteriori informazioni potete consultare la pagina Facebook dell’evento.
URL:https://cronachedibirra.it/evento/presentazione-birrificio-settimo-a-roma/
CATEGORIES:Iniziative
END:VEVENT
END:VCALENDAR