BEGIN:VCALENDAR
VERSION:2.0
PRODID:-//Cronache di Birra - ECPv6.15.20//NONSGML v1.0//EN
CALSCALE:GREGORIAN
METHOD:PUBLISH
X-WR-CALNAME:Cronache di Birra
X-ORIGINAL-URL:https://cronachedibirra.it
X-WR-CALDESC:Eventi per Cronache di Birra
REFRESH-INTERVAL;VALUE=DURATION:PT1H
X-Robots-Tag:noindex
X-PUBLISHED-TTL:PT1H
BEGIN:VTIMEZONE
TZID:Europe/Rome
BEGIN:DAYLIGHT
TZOFFSETFROM:+0100
TZOFFSETTO:+0200
TZNAME:CEST
DTSTART:20250330T010000
END:DAYLIGHT
BEGIN:STANDARD
TZOFFSETFROM:+0200
TZOFFSETTO:+0100
TZNAME:CET
DTSTART:20251026T010000
END:STANDARD
BEGIN:DAYLIGHT
TZOFFSETFROM:+0100
TZOFFSETTO:+0200
TZNAME:CEST
DTSTART:20260329T010000
END:DAYLIGHT
BEGIN:STANDARD
TZOFFSETFROM:+0200
TZOFFSETTO:+0100
TZNAME:CET
DTSTART:20261025T010000
END:STANDARD
BEGIN:DAYLIGHT
TZOFFSETFROM:+0100
TZOFFSETTO:+0200
TZNAME:CEST
DTSTART:20270328T010000
END:DAYLIGHT
BEGIN:STANDARD
TZOFFSETFROM:+0200
TZOFFSETTO:+0100
TZNAME:CET
DTSTART:20271031T010000
END:STANDARD
END:VTIMEZONE
BEGIN:VEVENT
DTSTART;TZID=Europe/Rome:20260424T201010
DTEND;TZID=Europe/Rome:20260424T201010
DTSTAMP:20260424T201010
CREATED:20130405T114132Z
LAST-MODIFIED:20130405T114132Z
UID:7495-1777061410-1777061410@cronachedibirra.it
SUMMARY:Magic Rock al Macche
DESCRIPTION:Se siete amanti delle birre anglosassoni\, vi segnalo l’appuntamento di venerdì 19 aprile al Ma che siete di Roma con i birrai di Magic Rock: Stuart Ross e la nostra Giada Maria Simioni (anche responsabile del controllo qualità del birrificio). Alle spine del pub capitolino troverete 6 delle loro birre: Rapture\, Cannonball\, High Wire\, Curious\, Simpleton e\, in anteprima\, la nuova Dancing Bear. \nIl birrificio di Huddersfield si propone come una delle migliori realtà del crescente nuovo panorama anglosassone. L’evento partirà alle 18\,00\, tutti i dettagli sono su Facebook.
URL:https://cronachedibirra.it/evento/magic-rock-al-macche/
CATEGORIES:Iniziative
END:VEVENT
END:VCALENDAR