BEGIN:VCALENDAR
VERSION:2.0
PRODID:-//Cronache di Birra - ECPv6.15.20//NONSGML v1.0//EN
CALSCALE:GREGORIAN
METHOD:PUBLISH
X-ORIGINAL-URL:https://cronachedibirra.it
X-WR-CALDESC:Eventi per Cronache di Birra
REFRESH-INTERVAL;VALUE=DURATION:PT1H
X-Robots-Tag:noindex
X-PUBLISHED-TTL:PT1H
BEGIN:VTIMEZONE
TZID:Europe/Rome
BEGIN:DAYLIGHT
TZOFFSETFROM:+0100
TZOFFSETTO:+0200
TZNAME:CEST
DTSTART:20250330T010000
END:DAYLIGHT
BEGIN:STANDARD
TZOFFSETFROM:+0200
TZOFFSETTO:+0100
TZNAME:CET
DTSTART:20251026T010000
END:STANDARD
BEGIN:DAYLIGHT
TZOFFSETFROM:+0100
TZOFFSETTO:+0200
TZNAME:CEST
DTSTART:20260329T010000
END:DAYLIGHT
BEGIN:STANDARD
TZOFFSETFROM:+0200
TZOFFSETTO:+0100
TZNAME:CET
DTSTART:20261025T010000
END:STANDARD
BEGIN:DAYLIGHT
TZOFFSETFROM:+0100
TZOFFSETTO:+0200
TZNAME:CEST
DTSTART:20270328T010000
END:DAYLIGHT
BEGIN:STANDARD
TZOFFSETFROM:+0200
TZOFFSETTO:+0100
TZNAME:CET
DTSTART:20271031T010000
END:STANDARD
END:VTIMEZONE
BEGIN:VEVENT
DTSTART;TZID=Europe/Rome:20260424T184640
DTEND;TZID=Europe/Rome:20260424T184640
DTSTAMP:20260424T184640
CREATED:20130412T110529Z
LAST-MODIFIED:20130412T110529Z
UID:7536-1777056400-1777056400@cronachedibirra.it
SUMMARY:Fly with Us tour: presentazione Starship a Roma e dintorni
DESCRIPTION:Nelle scorse settimane vi ho parlato della Starship\, ultima nata in casa Olmaia. Il nome della birra è un omaggio del birraio Moreno Ercolani ai Led Zeppelin\, per confermare il suo amore per la band britannica e per il rock più in generale. Da questa passione è nata l’idea di organizzare qualcosa simile a un tour musicale: un evento itinerante di presentazione della nuova birra\, con 16 tappe corrispondenti ad altrettanti locali di Roma e dintorni. Detto – fatto: è così che negli stessi giorni Moreno ha annunciato il suo Fly with Us tour 2013 🙂 . \nDi seguito le tappe con le rispettive date: \nDom. 14 Aprile ore 18.00 Saxophone\nDom. 14 Aprile ore 22.00 Piccola Abbazia\nLun. 15 Aprile ore 20.30 Ozi vizi e sfizi\nVen. 19 Aprile ore 19.00 Lannister\nDom. 21 Aprile ore 18.00 Bir&fud\nDom. 21 Aprile ore 22.00 La Tana (con proiezione su megaschermo di un concerto dei Led Zeppelin a sorpresa)\nLun. 22 Aprile ore 20.00 Taberna (serata per i 10 anni di Mondobirra.org)\nVen. 26 Aprile ore 2.00 !!! Mastro Titta ( questa è veramente Rock’n’Roll)\nDom. 28 Aprile ore 18.00 Pirati\nDom. 28 Aprile ore 22.00 Officina Birra\nLun. 29 Aprile ore 18.00 Eataly\nLun. 29 Aprile ore 21.00 Open Baladin (con Leonardo Di Vincenzo)\nSab. 4 Maggio ore 22.00 Maltese\nDom. 5 Maggio ore 18.00 Altroquando (con concerto Acustico Led Zeppelin Cover)\nLun. 6 Maggio ore 20.30 Exodus Pub\nDa definire Buskers Pub \nA ogni tappa sarà attaccato un fusto di Starship\, accompagnato dalla musica dei Led Zeppelin. Niente degustazioni\, niente abbinamenti\, ma solo birra da bere in compagnia. Se ne volete sapere di più\, ecco il relativo post sul blog di Moreno.
URL:https://cronachedibirra.it/evento/fly-with-us-tour-presentazione-starship-a-roma-e-dintorni/
CATEGORIES:Iniziative
END:VEVENT
END:VCALENDAR