BEGIN:VCALENDAR
VERSION:2.0
PRODID:-//Cronache di Birra - ECPv6.15.20//NONSGML v1.0//EN
CALSCALE:GREGORIAN
METHOD:PUBLISH
X-ORIGINAL-URL:https://cronachedibirra.it
X-WR-CALDESC:Eventi per Cronache di Birra
REFRESH-INTERVAL;VALUE=DURATION:PT1H
X-Robots-Tag:noindex
X-PUBLISHED-TTL:PT1H
BEGIN:VTIMEZONE
TZID:Europe/Rome
BEGIN:DAYLIGHT
TZOFFSETFROM:+0100
TZOFFSETTO:+0200
TZNAME:CEST
DTSTART:20250330T010000
END:DAYLIGHT
BEGIN:STANDARD
TZOFFSETFROM:+0200
TZOFFSETTO:+0100
TZNAME:CET
DTSTART:20251026T010000
END:STANDARD
BEGIN:DAYLIGHT
TZOFFSETFROM:+0100
TZOFFSETTO:+0200
TZNAME:CEST
DTSTART:20260329T010000
END:DAYLIGHT
BEGIN:STANDARD
TZOFFSETFROM:+0200
TZOFFSETTO:+0100
TZNAME:CET
DTSTART:20261025T010000
END:STANDARD
BEGIN:DAYLIGHT
TZOFFSETFROM:+0100
TZOFFSETTO:+0200
TZNAME:CEST
DTSTART:20270328T010000
END:DAYLIGHT
BEGIN:STANDARD
TZOFFSETFROM:+0200
TZOFFSETTO:+0100
TZNAME:CET
DTSTART:20271031T010000
END:STANDARD
END:VTIMEZONE
BEGIN:VEVENT
DTSTART;TZID=Europe/Rome:20260424T201206
DTEND;TZID=Europe/Rome:20260424T201206
DTSTAMP:20260424T201206
CREATED:20130405T110314Z
LAST-MODIFIED:20130405T110412Z
UID:7483-1777061526-1777061526@cronachedibirra.it
SUMMARY:Menaresta a Roma
DESCRIPTION:Negli ultimi mesi il birrificio Menaresta ha cominciato a occupare le spine dei locali romani con una certa costanza\, calamitando l’attenzione e l’approvazione di tanti appassionati. In molti quindi saranno felici di sapere che in questi giorni l’azienda di Carate Brianza sarà di scena a Roma nella figura di Marco Valeriani. Si comincerà sabato con una speciale giornata al Ma che siete\, si proseguirà domenica con un’ospitata al Blind Pig. \nSei delle tante spine del pub trasteverino saranno dedicate a Menaresta\, con prodotti come 22 La Verguenza\, 2 di Picche\, Fumata Bianca e San Dalmazzo. Inoltre sarà disponibile un fusto di Roots in Wine\, rara Strong Ale acida invecchiata in botti di Nebbiolo della Valtellina e prodotta con aggiunta di carrube. Per info dettagliate vi rimando alla pagina Facebook dell’evento. \nCome detto\, la domenica successiva Marco Valeriani sarà al Blind Pig\, dove porterà cinque delle sue birre: Pan Negar\, Bevera\, 2 di Picche\, San Dalmazzo e 22 La Verguenza. Il pub di zona Alberone proporrà un menu speciale da abbinare eventualmente alle birre. Anche qui trovate tutte le informazioni su Facebook.
URL:https://cronachedibirra.it/evento/menaresta-a-roma/
CATEGORIES:Iniziative
END:VEVENT
END:VCALENDAR