BEGIN:VCALENDAR
VERSION:2.0
PRODID:-//Cronache di Birra - ECPv6.15.20//NONSGML v1.0//EN
CALSCALE:GREGORIAN
METHOD:PUBLISH
X-WR-CALNAME:Cronache di Birra
X-ORIGINAL-URL:https://cronachedibirra.it
X-WR-CALDESC:Eventi per Cronache di Birra
REFRESH-INTERVAL;VALUE=DURATION:PT1H
X-Robots-Tag:noindex
X-PUBLISHED-TTL:PT1H
BEGIN:VTIMEZONE
TZID:Europe/Rome
BEGIN:DAYLIGHT
TZOFFSETFROM:+0100
TZOFFSETTO:+0200
TZNAME:CEST
DTSTART:20250330T010000
END:DAYLIGHT
BEGIN:STANDARD
TZOFFSETFROM:+0200
TZOFFSETTO:+0100
TZNAME:CET
DTSTART:20251026T010000
END:STANDARD
BEGIN:DAYLIGHT
TZOFFSETFROM:+0100
TZOFFSETTO:+0200
TZNAME:CEST
DTSTART:20260329T010000
END:DAYLIGHT
BEGIN:STANDARD
TZOFFSETFROM:+0200
TZOFFSETTO:+0100
TZNAME:CET
DTSTART:20261025T010000
END:STANDARD
BEGIN:DAYLIGHT
TZOFFSETFROM:+0100
TZOFFSETTO:+0200
TZNAME:CEST
DTSTART:20270328T010000
END:DAYLIGHT
BEGIN:STANDARD
TZOFFSETFROM:+0200
TZOFFSETTO:+0100
TZNAME:CET
DTSTART:20271031T010000
END:STANDARD
END:VTIMEZONE
BEGIN:VEVENT
DTSTART;TZID=Europe/Rome:20260425T133555
DTEND;TZID=Europe/Rome:20260425T133555
DTSTAMP:20260425T133555
CREATED:20130308T132143Z
LAST-MODIFIED:20130308T132143Z
UID:7270-1777124155-1777124155@cronachedibirra.it
SUMMARY:Festa di Primavera di Elav
DESCRIPTION:Il Birrificio Indipendente Elav in collaborazione con Bergamo Sottosuolo organizza la sua 1a Festa di Primavera. Se siete in zona\, segnatevi le date: dal 21 al 24 di marzo presso il birrificio andrà in scena una quattro giorni di musica\, birra\, proiezioni \, mostre fotografiche e ospiti. Le prime due serate vedranno alternarsi sul palco del birrificio 6 gruppi musicali con generi che spaziano dal country rock al garage pop\, post punk e punk rock. Il sabato sera invece protagoniste saranno le birre della casa\, tra cui la nuovissima Psycho Star. Inoltre gradito ospite sarà il beershop Beertop\, che proporrà due Gose. \nPer tutti i dettagli vi rimando al blog di Elav.
URL:https://cronachedibirra.it/evento/festa-di-primavera-di-elav/
CATEGORIES:Iniziative
END:VEVENT
END:VCALENDAR