BEGIN:VCALENDAR
VERSION:2.0
PRODID:-//Cronache di Birra - ECPv6.15.20//NONSGML v1.0//EN
CALSCALE:GREGORIAN
METHOD:PUBLISH
X-ORIGINAL-URL:https://cronachedibirra.it
X-WR-CALDESC:Eventi per Cronache di Birra
REFRESH-INTERVAL;VALUE=DURATION:PT1H
X-Robots-Tag:noindex
X-PUBLISHED-TTL:PT1H
BEGIN:VTIMEZONE
TZID:Europe/Rome
BEGIN:DAYLIGHT
TZOFFSETFROM:+0100
TZOFFSETTO:+0200
TZNAME:CEST
DTSTART:20250330T010000
END:DAYLIGHT
BEGIN:STANDARD
TZOFFSETFROM:+0200
TZOFFSETTO:+0100
TZNAME:CET
DTSTART:20251026T010000
END:STANDARD
BEGIN:DAYLIGHT
TZOFFSETFROM:+0100
TZOFFSETTO:+0200
TZNAME:CEST
DTSTART:20260329T010000
END:DAYLIGHT
BEGIN:STANDARD
TZOFFSETFROM:+0200
TZOFFSETTO:+0100
TZNAME:CET
DTSTART:20261025T010000
END:STANDARD
BEGIN:DAYLIGHT
TZOFFSETFROM:+0100
TZOFFSETTO:+0200
TZNAME:CEST
DTSTART:20270328T010000
END:DAYLIGHT
BEGIN:STANDARD
TZOFFSETFROM:+0200
TZOFFSETTO:+0100
TZNAME:CET
DTSTART:20271031T010000
END:STANDARD
END:VTIMEZONE
BEGIN:VEVENT
DTSTART;TZID=Europe/Rome:20260426T025501
DTEND;TZID=Europe/Rome:20260426T025501
DTSTAMP:20260426T025501
CREATED:20130308T130741Z
LAST-MODIFIED:20130308T130741Z
UID:7262-1777172101-1777172101@cronachedibirra.it
SUMMARY:Brewers Next Door
DESCRIPTION:Alla Brasserie 4:20 di Roma andrà in scena lunedì 11 e martedì 12 marzo il mini festival Brewers Next Door\, completamente dedicato ai birrifici e le beer firm del Lazio. L’evento\, che in qualche modo proseguirà sulla scia del Local Beer Day previsto tra gli appuntamenti della Settimana della Birra Artigianale\, vedrà alternarsi alle spine i prodotti di Turan\, Buskers\, Int3pid\, Free Lions\, Cerevisia Vetus\, Atlas Coelestis\, Revelation Cat\, Eureka\, Alta Quota\, Tower Beer\, Ecsit Ventidodici\, Birra del Borgo\, Antica Dogana\, Stazione Birra\, Pontino\, MRL\, Turbacci\, Stavio\, Aurelio\, Mister Malto\, Birradamare e Itineris. E pensare che fino a un paio di anni fa i produttori del Lazio erano poche unità! \nLe serate partiranno alle 19\,00 con birra gratis per un tempo indefinito\, poi ci si sposterà in terrazza dove si potranno assaggiare le birre e parlare con i birrai. La parte gastronomica sarà coperta con porchetta e pane di Marino. \nUlteriori informazioni sulla pagina Facebook dell’evento.
URL:https://cronachedibirra.it/evento/brewers-next-door/
CATEGORIES:Iniziative
END:VEVENT
END:VCALENDAR