BEGIN:VCALENDAR
VERSION:2.0
PRODID:-//Cronache di Birra - ECPv6.15.20//NONSGML v1.0//EN
CALSCALE:GREGORIAN
METHOD:PUBLISH
X-WR-CALNAME:Cronache di Birra
X-ORIGINAL-URL:https://cronachedibirra.it
X-WR-CALDESC:Eventi per Cronache di Birra
REFRESH-INTERVAL;VALUE=DURATION:PT1H
X-Robots-Tag:noindex
X-PUBLISHED-TTL:PT1H
BEGIN:VTIMEZONE
TZID:Europe/Rome
BEGIN:DAYLIGHT
TZOFFSETFROM:+0100
TZOFFSETTO:+0200
TZNAME:CEST
DTSTART:20240331T010000
END:DAYLIGHT
BEGIN:STANDARD
TZOFFSETFROM:+0200
TZOFFSETTO:+0100
TZNAME:CET
DTSTART:20241027T010000
END:STANDARD
BEGIN:DAYLIGHT
TZOFFSETFROM:+0100
TZOFFSETTO:+0200
TZNAME:CEST
DTSTART:20250330T010000
END:DAYLIGHT
BEGIN:STANDARD
TZOFFSETFROM:+0200
TZOFFSETTO:+0100
TZNAME:CET
DTSTART:20251026T010000
END:STANDARD
BEGIN:DAYLIGHT
TZOFFSETFROM:+0100
TZOFFSETTO:+0200
TZNAME:CEST
DTSTART:20260329T010000
END:DAYLIGHT
BEGIN:STANDARD
TZOFFSETFROM:+0200
TZOFFSETTO:+0100
TZNAME:CET
DTSTART:20261025T010000
END:STANDARD
END:VTIMEZONE
BEGIN:VEVENT
DTSTART;VALUE=DATE:20250301
DTEND;VALUE=DATE:20250302
DTSTAMP:20260424T143558
CREATED:20250214T135711Z
LAST-MODIFIED:20250214T135711Z
UID:52608-1740787200-1740873599@cronachedibirra.it
SUMMARY:Homebrewing Madness
DESCRIPTION:Il Campionato Italiano di Homebrewing di MoBI è un concorso a tappe dedicato ai birrificatori casalinghi. La finalissima dell’edizione 2024 si terrà sabato 1 marzo presso il Drunken Duck di Quinto Vicentino (VI)\, che per l’occasione ha organizzato un evento ad hoc. Homebrewing Madness è il nome dell’iniziativa che vedrà protagonisti i birrai di MC77\, Porta Bruciata\, Siemàn e Bondai\, ognuno presente con cinque birre disponibili alla spina. Il locale aprirà eccezionalmente già alle 9\,30 del mattino e alle 15\,00 si terrà la cerimonia di premiazione. Per saperne di più potete dare un’occhiata alla pagina Facebook del Drunken Duck.
URL:https://cronachedibirra.it/evento/homebrewing-madness/
LOCATION:Drunken Duck\, Via Degli Eroi\, 77\, Quinto Vicentino\, VI\, 36050\, Italy
CATEGORIES:Iniziative
ATTACH;FMTTYPE=image/png:https://cdn1.cronachedibirra.it/wp-content/uploads/20250214145659/hb-madness.png
END:VEVENT
BEGIN:VEVENT
DTSTART;VALUE=DATE:20250308
DTEND;VALUE=DATE:20250310
DTSTAMP:20260424T143558
CREATED:20250214T140805Z
LAST-MODIFIED:20250214T140805Z
UID:52611-1741392000-1741564799@cronachedibirra.it
SUMMARY:Luppolo Station - 10 Years Anniversary
DESCRIPTION:Correva l’anno 2015 quando\, a due passi dalla Stazione Trastevere di Roma\, aprì i battenti Luppolo Station\, destinato a diventare in poco tempo uno dei locali birrari più importanti della città. Sabato 8 e domenica 9 marzo si terrà allora l’evento per il decimo anniversario\, in compagnia di birrai\, publican e altri operatori del settore. Il programma al momento prevede English Breakfast con botticella a caduta\, dj set\, concerto di musica jazz e ovviamente tanta birra\, con chicche speciali e birre prodotte ad hoc dai birrifici amici del Luppolo Station. Per approfondimenti e aggiornamenti vi conviene seguire la pagina Facebook dell’evento.
URL:https://cronachedibirra.it/evento/luppolo-station-10-years-anniversary/
LOCATION:Luppolo Station\, Via Giuseppe Parini 4\, Roma\, RM\, Italia
CATEGORIES:Iniziative
ATTACH;FMTTYPE=image/png:https://cdn1.cronachedibirra.it/wp-content/uploads/20250214150751/station-10-1.png
END:VEVENT
BEGIN:VEVENT
DTSTART;VALUE=DATE:20250313
DTEND;VALUE=DATE:20250314
DTSTAMP:20260424T143558
CREATED:20250307T131635Z
LAST-MODIFIED:20250307T131635Z
UID:54270-1741824000-1741910399@cronachedibirra.it
SUMMARY:Tipopils Day 2025
DESCRIPTION:Si terrà giovedì 13 marzo l’edizione 2025 del Tipopils Day\, l’iniziativa del Birrificio Italiano nata per celebrare una delle birre artigianali più iconiche in assoluto. Come sempre saranno coinvolti tantissimi locali italiani (oltre che statunitensi e del resto d’Europa)\, in cui sarà disponibile alla spina non solo la Tipopils\, ma anche due sue versioni inedite e celebrative: Tipo³\, prodotta con tripla decozione e triplo dry hopping in botticella a caduta\, e Tipopils Slovenian Cut – Slovenia über Helles\, confezionata in fusto e luppolata con varietà slovene in purezza. Ulteriori informazioni\, compreso l’elenco completo di tutti i locali aderenti\, sono consultabili sul sito del Birrificio Italiano.
URL:https://cronachedibirra.it/evento/tipopils-day-2025/
LOCATION:Italia\, Italia
CATEGORIES:Iniziative
ATTACH;FMTTYPE=image/jpeg:https://cdn1.cronachedibirra.it/wp-content/uploads/20250307141618/BI_TipopilsDay2025.jpg
END:VEVENT
BEGIN:VEVENT
DTSTART;VALUE=DATE:20250314
DTEND;VALUE=DATE:20250317
DTSTAMP:20260424T143558
CREATED:20250307T141513Z
LAST-MODIFIED:20250307T141513Z
UID:54280-1741910400-1742169599@cronachedibirra.it
SUMMARY:Ballo delle Debuttanti 2025
DESCRIPTION:Anche quest’anno la Italy Beer Week farà da cornice al Ballo delle Debuttanti\, il consolidato format pre-inaugurale incentrato sulle nuove birre dei produttori italiani. Anche quest’anno l’iniziativa si svolgerà nella forma di un festival birrario\, in programma da venerdì 14 a domenica 16 marzo ancora presso lo splendido Mercato Centrale di Roma. Nell’incredibile salone enogastronomico adiacente alla Stazione Termini\, saranno presenti alla spina le birre del Ballo delle Debuttanti\, permettendo di assaggiarle tutte in un colpo solo. La parte food dell’iniziativa sarà ovviamente coperta dall’incredibile varietà e qualità dell’offerta del Mercato Centrale\, con le proposte delle grandi firme del segmento alimentare italiano. \n \nInoltre nella giornata di sabato 15 si terranno diversi appuntamenti: \n\nOre 12.00 – Pranzo con le Debuttanti: laboratorio di abbinamento tra i primi piatti del Mercato e le birre protagoniste. Questo laboratorio avrà un costo di 20€\, prenotati scrivendo a info.roma@mercatocentrale.it\nDalle 15.00 alle 18.00 – Personal Taster: degustatori professionisti guideranno gli assaggi direttamente al bancone.\nDalle 18.00 alle 20.40 – Degustazioni guidate dagli organizzatori della Italy Beer Week Andrea Turco e Salvatore Cosenza\, in tre laboratori da 40 minuti per esplorare le birre artigianali emergenti\, con alcuni dei birrai coinvolti.\n\nPer maggiori informazioni e aggiornamenti vi rimandiamo alla pagina Facebook dell’evento. \nRicordiamo che anche quest’anno è disponibile la box del Ballo delle Debuttanti\, con 13 birre inedite. Potrete acquistarla presso il Mercato Centrale od online su 1001 Birre.
URL:https://cronachedibirra.it/evento/ballo-delle-debuttanti-2025/
LOCATION:Mercato Centrale Roma\, Via Giovanni Giolitti\, 36\, Roma\, RM\, 00185\, Italia
CATEGORIES:Iniziative
ATTACH;FMTTYPE=image/png:https://cdn1.cronachedibirra.it/wp-content/uploads/20250307151450/MCR25_EV_Il-ballo-delle-debuttanti_70x100.png
END:VEVENT
END:VCALENDAR