BEGIN:VCALENDAR
VERSION:2.0
PRODID:-//Cronache di Birra - ECPv6.15.20//NONSGML v1.0//EN
CALSCALE:GREGORIAN
METHOD:PUBLISH
X-ORIGINAL-URL:https://cronachedibirra.it
X-WR-CALDESC:Eventi per Cronache di Birra
REFRESH-INTERVAL;VALUE=DURATION:PT1H
X-Robots-Tag:noindex
X-PUBLISHED-TTL:PT1H
BEGIN:VTIMEZONE
TZID:Europe/Rome
BEGIN:DAYLIGHT
TZOFFSETFROM:+0100
TZOFFSETTO:+0200
TZNAME:CEST
DTSTART:20150329T010000
END:DAYLIGHT
BEGIN:STANDARD
TZOFFSETFROM:+0200
TZOFFSETTO:+0100
TZNAME:CET
DTSTART:20151025T010000
END:STANDARD
BEGIN:DAYLIGHT
TZOFFSETFROM:+0100
TZOFFSETTO:+0200
TZNAME:CEST
DTSTART:20160327T010000
END:DAYLIGHT
BEGIN:STANDARD
TZOFFSETFROM:+0200
TZOFFSETTO:+0100
TZNAME:CET
DTSTART:20161030T010000
END:STANDARD
BEGIN:DAYLIGHT
TZOFFSETFROM:+0100
TZOFFSETTO:+0200
TZNAME:CEST
DTSTART:20170326T010000
END:DAYLIGHT
BEGIN:STANDARD
TZOFFSETFROM:+0200
TZOFFSETTO:+0100
TZNAME:CET
DTSTART:20171029T010000
END:STANDARD
END:VTIMEZONE
BEGIN:VEVENT
DTSTART;VALUE=DATE:20160617
DTEND;VALUE=DATE:20160620
DTSTAMP:20260421T220932
CREATED:20160610T121111Z
LAST-MODIFIED:20160610T121111Z
UID:15170-1466121600-1466380799@cronachedibirra.it
SUMMARY:All you need is pop
DESCRIPTION:Per la festa dei suoi 40 anni\, battezzata All you need is pop\, Radio Popolare dedicherà ampio spazio alla birra artigianale. Da venerdì 17 a domenica 19 giugno\, presso l’ex OP Paolo Pini di Milano\, troverete i birrifici La Ribalta\, Lambrate\, Rurale\, La Buttiga\, Birrificio Italiano\, Elav\, Valcavallina\, Acquaforte\, Lariano\, oltre al beershop 10 Gradi Nord. Il programma prevede un’infinità di concerti\, recital\, street food e incontri su temi vari. Per i dettagli vi rimando al sito di Radio Popolare.
URL:https://cronachedibirra.it/evento/all-you-need-is-pop/
LOCATION:Ex PI Paolo Pini\, Via Ippocrate 45\, Milano\, MI\, Italia
CATEGORIES:Iniziative
ATTACH;FMTTYPE=image/jpeg:https://cdn1.cronachedibirra.it/wp-content/uploads/20200131182555/copertina-gialla-All-You-Need-in-Pop-jpg-720x315.jpg
END:VEVENT
BEGIN:VEVENT
DTSTART;VALUE=DATE:20160618
DTEND;VALUE=DATE:20160619
DTSTAMP:20260421T220932
CREATED:20160610T115025Z
LAST-MODIFIED:20160610T115025Z
UID:15162-1466208000-1466294399@cronachedibirra.it
SUMMARY:Hoppy Boozeday
DESCRIPTION:Dodici ore di festa per celebrare i 10 anni del birrificio Brùton e i 5 del De Cervesia si Lucca. È questo l’obiettivo dell’Hoppy Boozeday di sabato 18 giugno\, ospitato dall’Ostello San Frediano. Diversi i birrifici partecipanti: Birrificio del Forte\, BrewFist\, Birrificio Indipendente Elav\, Birrificio Rurale\, Birrificio Lambrate\, Retorto\, LoverBeer e ovviamente Bruton. Non mancheranno altre sorprese\, quindi vi consiglio di tenere sott’occhio la pagina Facebook dell’iniziativa.
URL:https://cronachedibirra.it/evento/hoppy-boozeday/
LOCATION:Ostello San Frediano\, Via della Cavallerizza 12\, Lucca\, LU\, Italia
CATEGORIES:Iniziative
ATTACH;FMTTYPE=image/png:https://cdn1.cronachedibirra.it/wp-content/uploads/20200131182601/hoppy-boozeday.png
END:VEVENT
BEGIN:VEVENT
DTSTART;VALUE=DATE:20160625
DTEND;VALUE=DATE:20160629
DTSTAMP:20260421T220932
CREATED:20160617T115939Z
LAST-MODIFIED:20160617T125324Z
UID:15237-1466812800-1467158399@cronachedibirra.it
SUMMARY:Un Mare di Birra 2016
DESCRIPTION:Cinque anni fa il Ma che siete di Roma decise di festeggiare il suo decimo anniversario organizzando l’evento più pazzo della storia della birra artigianale italiana: Un Mare di Birra\, una crociera da Roma a Barcellona e ritorno (per quanto non così scontato 🙂 ) con a bordo un’indescrivibile selezione di birre italiane e straniere. L’iniziativa fu ripetuta l’anno seguente per poi essere interrotta\, ma in occasione del quindicesimo anniversario sarà riproposta nella sua formula originale. Così sabato 25 giugno la Cruise Roma di Grimaldi salperà da Civitavecchia per raggiungere la città catalana e tornerà alla base martedì 28 giugno. Chiaramente parteciperanno birrai ed esperti (capitanati da Kuaska) e la birra sarà il leit motiv di tutte le giornate\, dalla mattina con il Breakfast Pub fino a notte inoltrata con l’Afterhour Pub e dj set. Non mancheranno degustazioni\, piscina all’aperto\, spa\, palestra\, casinò e altro ancora. I biglietti sono acquistabili online a partire da 279 euro a persona (ce ne sono ancora disponibili) e si basano sulla formula all you can drink. Dettagli sul sito dell’iniziativa.
URL:https://cronachedibirra.it/evento/un-mare-di-birra-2016/
LOCATION:Porto di Civitavecchia\, Civitavecchia\, RM\, Italia
CATEGORIES:Iniziative
ATTACH;FMTTYPE=image/jpeg:https://cdn1.cronachedibirra.it/wp-content/uploads/20200131182531/un-mare-birra.jpg
END:VEVENT
END:VCALENDAR