BEGIN:VCALENDAR
VERSION:2.0
PRODID:-//Cronache di Birra - ECPv6.15.20//NONSGML v1.0//EN
CALSCALE:GREGORIAN
METHOD:PUBLISH
X-WR-CALNAME:Cronache di Birra
X-ORIGINAL-URL:https://cronachedibirra.it
X-WR-CALDESC:Eventi per Cronache di Birra
REFRESH-INTERVAL;VALUE=DURATION:PT1H
X-Robots-Tag:noindex
X-PUBLISHED-TTL:PT1H
BEGIN:VTIMEZONE
TZID:Europe/Rome
BEGIN:DAYLIGHT
TZOFFSETFROM:+0100
TZOFFSETTO:+0200
TZNAME:CEST
DTSTART:20150329T010000
END:DAYLIGHT
BEGIN:STANDARD
TZOFFSETFROM:+0200
TZOFFSETTO:+0100
TZNAME:CET
DTSTART:20151025T010000
END:STANDARD
BEGIN:DAYLIGHT
TZOFFSETFROM:+0100
TZOFFSETTO:+0200
TZNAME:CEST
DTSTART:20160327T010000
END:DAYLIGHT
BEGIN:STANDARD
TZOFFSETFROM:+0200
TZOFFSETTO:+0100
TZNAME:CET
DTSTART:20161030T010000
END:STANDARD
BEGIN:DAYLIGHT
TZOFFSETFROM:+0100
TZOFFSETTO:+0200
TZNAME:CEST
DTSTART:20170326T010000
END:DAYLIGHT
BEGIN:STANDARD
TZOFFSETFROM:+0200
TZOFFSETTO:+0100
TZNAME:CET
DTSTART:20171029T010000
END:STANDARD
END:VTIMEZONE
BEGIN:VEVENT
DTSTART;VALUE=DATE:20160505
DTEND;VALUE=DATE:20160509
DTSTAMP:20260421T233754
CREATED:20160429T120519Z
LAST-MODIFIED:20160429T120519Z
UID:14855-1462406400-1462751999@cronachedibirra.it
SUMMARY:L'Aquila Beer Festival - Spring Edition
DESCRIPTION:Si terrà presso il ristorante Villa Feronia de L’Aquila l’iniziativa Beer Festival – Spring Edition\, incentrata sui birrifici abruzzesi ma con uno sguardo anche al resto d’Italia e del mondo. Da giovedì 5 a domenica 8 maggio potrete degustare più di 30 birre alla spina provenienti dai seguenti produttori: Anbra\, Opperbacco\, Birra del Borgo\, Casa di Cura\, Donkey Beer\, Alkibia\, Bibibir\, Maiella\, Kaufbeuren e Brewdog. Ci saranno incontri con i birrai\, un concorso per homebrewer\, musica live\, menu ad hoc\, angolo beershop. Ulteriori informazioni sono disponibili su Facebook.
URL:https://cronachedibirra.it/evento/laquila-beer-festival-spring-edition/
LOCATION:Ristorante Villa Feronia\, Via Santa Veronica\, 8\, L'Aquila\, AQ\, Italia
CATEGORIES:Iniziative
ATTACH;FMTTYPE=image/png:https://cdn1.cronachedibirra.it/wp-content/uploads/20200131171251/aquila.png
END:VEVENT
BEGIN:VEVENT
DTSTART;VALUE=DATE:20160515
DTEND;VALUE=DATE:20160516
DTSTAMP:20260421T233754
CREATED:20160429T122848Z
LAST-MODIFIED:20160501T172557Z
UID:14860-1463270400-1463356799@cronachedibirra.it
SUMMARY:Un Po di Birra 2016
DESCRIPTION:Compie 10 anni la splendida iniziativa Un Po di Birra\, organizzata sin dal lontano 2006 dal Circolo del Luppolo e Altafermentazione. In cosa consiste? In una gita sul fiume Po a suon di birra\, con Kuaska nei panni del capitano di ciurma\, generoso pranzo e musica dal vivo. L’appuntamento è per domenica 15 maggio\, l’imbarco è previsto al porto turistico di Viadana(MN). Trovate ulteriori informazioni sulla pagina Facebook dell’evento.
URL:https://cronachedibirra.it/evento/14860/
LOCATION:Porto turistico di Viadana\, Viadana\, MN\, Italia
CATEGORIES:Iniziative
ATTACH;FMTTYPE=image/jpeg:https://cdn1.cronachedibirra.it/wp-content/uploads/20200131171250/un-po-di-birra-1.jpg
END:VEVENT
BEGIN:VEVENT
DTSTART;VALUE=DATE:20160528
DTEND;VALUE=DATE:20160529
DTSTAMP:20260421T233754
CREATED:20160527T122337Z
LAST-MODIFIED:20160527T124622Z
UID:15073-1464393600-1464479999@cronachedibirra.it
SUMMARY:Prato Beer Marathon 2016
DESCRIPTION:È in programma sabato 28 maggio l’appuntamento con la Prato Beer Marathon\, l’iniziativa creata per scoprire i luoghi birrari di Prato. Le tappe saranno sei\, ognuna con le sue peculiarità: Lo Scalino\, Camelot\, La Birreria di Prato\, Beerlab\, Mostodolce e Struttura Birra. Sarà possibile partecipare all’intera maratona “guidata” o solamente a singole tappe. Per tutti i dettagli\, comprese le line up di ogni singolo locale\, vi rimando alla pagina Facebook dell’evento.
URL:https://cronachedibirra.it/evento/prato-beer-marathon-2016/
LOCATION:Luogo Senza Nome\, Prato\, PO\, Italia
CATEGORIES:Iniziative
ATTACH;FMTTYPE=image/jpeg:https://cdn1.cronachedibirra.it/wp-content/uploads/20200131182708/prato-beer-marathon.jpg
END:VEVENT
BEGIN:VEVENT
DTSTART;VALUE=DATE:20160529
DTEND;VALUE=DATE:20160530
DTSTAMP:20260421T233754
CREATED:20160513T135215Z
LAST-MODIFIED:20160513T135215Z
UID:14975-1464480000-1464566399@cronachedibirra.it
SUMMARY:BeeRock 2016
DESCRIPTION:Anche quest’anno il Bonaventura di Milano (zona Barona) organizza BeeRock\, festival che punta sul connubio tra birra artigianale e buona musica e che si terrà domenica 29 maggio. I birrifici presenti saranno La Buttiga\, Opera\, Sensolibero e Geko\, mentre sul palco si alterneranno otto tribute band. Si comincerà già dalle ore 13\,00 per poi proseguire fino alle 22\,00. Dettagli su Facebook.
URL:https://cronachedibirra.it/evento/beerock-2016/
LOCATION:Bonaventura
CATEGORIES:Iniziative
ATTACH;FMTTYPE=image/jpeg:https://cdn1.cronachedibirra.it/wp-content/uploads/20200131171154/beerock-1.jpg
END:VEVENT
END:VCALENDAR