BEGIN:VCALENDAR
VERSION:2.0
PRODID:-//Cronache di Birra - ECPv6.15.20//NONSGML v1.0//EN
CALSCALE:GREGORIAN
METHOD:PUBLISH
X-ORIGINAL-URL:https://cronachedibirra.it
X-WR-CALDESC:Eventi per Cronache di Birra
REFRESH-INTERVAL;VALUE=DURATION:PT1H
X-Robots-Tag:noindex
X-PUBLISHED-TTL:PT1H
BEGIN:VTIMEZONE
TZID:Europe/Rome
BEGIN:DAYLIGHT
TZOFFSETFROM:+0100
TZOFFSETTO:+0200
TZNAME:CEST
DTSTART:20150329T010000
END:DAYLIGHT
BEGIN:STANDARD
TZOFFSETFROM:+0200
TZOFFSETTO:+0100
TZNAME:CET
DTSTART:20151025T010000
END:STANDARD
BEGIN:DAYLIGHT
TZOFFSETFROM:+0100
TZOFFSETTO:+0200
TZNAME:CEST
DTSTART:20160327T010000
END:DAYLIGHT
BEGIN:STANDARD
TZOFFSETFROM:+0200
TZOFFSETTO:+0100
TZNAME:CET
DTSTART:20161030T010000
END:STANDARD
BEGIN:DAYLIGHT
TZOFFSETFROM:+0100
TZOFFSETTO:+0200
TZNAME:CEST
DTSTART:20170326T010000
END:DAYLIGHT
BEGIN:STANDARD
TZOFFSETFROM:+0200
TZOFFSETTO:+0100
TZNAME:CET
DTSTART:20171029T010000
END:STANDARD
END:VTIMEZONE
BEGIN:VEVENT
DTSTART;VALUE=DATE:20160409
DTEND;VALUE=DATE:20160410
DTSTAMP:20260422T021822
CREATED:20160331T112642Z
LAST-MODIFIED:20160331T112642Z
UID:14655-1460160000-1460246399@cronachedibirra.it
SUMMARY:20 anni di Birrificio Lambrate
DESCRIPTION:Quest’anno la birra artigianale compie 20 anni\, perché nel 1996 aprirono i battenti alcuni birrifici pionieri che influenzano ancora oggi l’ambiente. Ergo\, gli stessi birrifici festeggiano in questi mesi il loro ventesimo anniversario\, come accadrà al Birrificio Lambrate il prossimo sabato 9 aprile. Chiaramente sarà una grande festa alla quale parteciperanno birrai\, publican e appassionati e dove non mancheranno le birre della casa (29 spine totali)\, impreziosite da tre novità assolute. Saranno presenti ospiti internazionali\, mentre la parte gastronomica sarà coperta da food truck e panini speciali. Prevista anche musica dal vivo. L’appuntamento è da mezzogiorno a mezzanotte\, presso il locale di via Adelchi a Milano.
URL:https://cronachedibirra.it/evento/20-anni-di-birrificio-lambrate/
LOCATION:Birrificio Lambrate
CATEGORIES:Iniziative
ATTACH;FMTTYPE=image/jpeg:https://cdn1.cronachedibirra.it/wp-content/uploads/20200131171420/20-lambrate.jpg
END:VEVENT
BEGIN:VEVENT
DTSTART;VALUE=DATE:20160415
DTEND;VALUE=DATE:20160418
DTSTAMP:20260422T021822
CREATED:20160408T100812Z
LAST-MODIFIED:20160408T100812Z
UID:14707-1460678400-1460937599@cronachedibirra.it
SUMMARY:Giro del mondo in 40 spine
DESCRIPTION:È in programma da venerdì 15 a domenica 17 aprile presso lo Xander Beer di Brescia l’iniziativa Giro del mondo in 40 spine. Sarà una tre giorni in cui oltre 90 tipologie di birra ruoteranno su 40 spine diverse\, con produzioni provenienti da tutto il pianeta\, Italia compresa. Il programma prevede cucina incentrata sul barbecue in stile americano\, biglietto vip per domenica e due laboratori di degustazione. Per ulteriori dettagli potete consultare la pagina Facebook dell’evento.
URL:https://cronachedibirra.it/evento/giro-del-mondo-in-40-spine/
LOCATION:Xander Brewpub
CATEGORIES:Iniziative
ATTACH;FMTTYPE=image/jpeg:https://cdn1.cronachedibirra.it/wp-content/uploads/20200131171358/giro-mondo-40-spine.jpg
END:VEVENT
BEGIN:VEVENT
DTSTART;VALUE=DATE:20160416
DTEND;VALUE=DATE:20160418
DTSTAMP:20260422T021822
CREATED:20160325T115601Z
LAST-MODIFIED:20160325T122904Z
UID:14627-1460764800-1460937599@cronachedibirra.it
SUMMARY:Free Lions Pride
DESCRIPTION:Uno dei segnali della costante ascesa del movimento artigianale italiano è rappresentato dai progetti di espansione di molti produttori. E solitamente quando un birrificio inaugura una nuova sede ne approfitta per organizzare un grande festa\, come succederà a breve per Free Lions. Le celebrazioni sono in programma sabato 16 e domenica 17 aprile\, ovviamente presso la sede di Viterbo. Saranno due giornate da passare con ottimo cibo\, musica dal vivo e chiaramente tanta birra: oltre a quelle della casa saranno presenti alcune produzioni ospiti. Il programma prevede anche una cotta pubblica\, mentre per chi vuole andare senza troppi pensieri c’è un bus con partenza da Roma organizzato dal Barley Wine. Ulteriori informazioni su Facebook.
URL:https://cronachedibirra.it/evento/inaugurazione-nuovo-free-lions/
LOCATION:Free Lions\, Strada Tuscanese 77n\, Viterbo\, VT\, Italia
CATEGORIES:Iniziative
ATTACH;FMTTYPE=image/jpeg:https://cdn1.cronachedibirra.it/wp-content/uploads/20200131171423/free-lions-nuovo.jpg
END:VEVENT
BEGIN:VEVENT
DTSTART;VALUE=DATE:20160420
DTEND;VALUE=DATE:20160422
DTSTAMP:20260422T021822
CREATED:20160415T100034Z
LAST-MODIFIED:20160415T100034Z
UID:14740-1461110400-1461283199@cronachedibirra.it
SUMMARY:Stone Brewing a Milano e Roma
DESCRIPTION:A luglio del 2014 vi parlai del progetto del birrificio americano Stone di aprire un impianto a Berlino. A distanza di quasi due anni il fondatore Greg Koch si sta imbarcando in un tour europeo per presentare finalmente la sua ultima fatica. Tra le tante tappe previste ci saranno anche Milano e Roma\, che ospiteranno l’evento rispettivamente mercoledì 20 e giovedì 21 aprile. Teatro della presentazione meneghina saranno Baladin Milano e Birrificio Lambrate\, di quella capitolina invece Ma che siete venuti a fa’ e Open Baladin. Chiaramente si tratta di un appuntamento imperdibile per ogni appassionato di birra\, in particolar modo della scena statunitense. \nAlla tappa romana contribuirò anche io in prima persona\, essendo stato chiamato a partecipare insieme a Manuele Colonna all’incontro-dibattito previsto presso il Bir&fud e moderato da Andrea Camaschella. Questo appuntamento sarà riservato esclusivamente agli operatori del settore\, ma in seguito si terranno i tap takeover aperti al pubblico: sia il Macche che l’Open dedicheranno 9 delle loro spine alle splendide creazioni di Stone. Per la lista delle birre disponibili presso il locale trasteverino potete consultare la pagina Facebook dell’evento. Molto simili saranno le modalità dell’evento milanese. \nSe come me amate le produzioni di Stone\, sicuramente non vorrete perdere questa occasione. Vi aspetto giovedì 21 a Roma.
URL:https://cronachedibirra.it/evento/stone-brewing-a-milano-e-roma/
LOCATION:Milano – Roma\, Italia
CATEGORIES:Iniziative
ATTACH;FMTTYPE=image/jpeg:https://cdn1.cronachedibirra.it/wp-content/uploads/20200131171347/stone-milano-roma.jpg
END:VEVENT
END:VCALENDAR